Workbook

Sheet ВСЕ
A1: Информация о параметрах заработной платы работников государственных учреждений и муниципальных учреждений, расположенных на территории Приморского края, повышение оплаты труда которых предусмотрено Указами Президента Российской Федерации от 7 мая 2012 г. № 597 *
A3: № п/п | C3: 2012 | D3: 2013 | E3: 2014 | F3: 2015 | G3: 2016 | H3: 2017 | I3: 2018
A4: 1 | B4: Средняя заработная плата по субъекту Российской Федерации (прогноз субъекта Российской Федерации, в т.ч. на 2013-2015 гг. - учтенный при подготовке бюджета субъекта Российской Федерации), руб. | C4: 27400 | D4: =[1]Образование!E9 -> 30580 | E4: =[1]Образование!F9 -> 34220 | F4: =[1]Образование!G9 -> 38100 | G4: =[1]Образование!H9 -> 42443 | H4: =[1]Образование!I9 -> 47112 | I4: =[1]Образование!J9 -> 52153
A5: 2 | B5: Педагогические работники образовательных учреждений общего образования | C5: доведение в 2012 году средней заработной платы педагогических работников образовательных учреждений общего образования до средней заработной платы в соответствующем регионе
A6: 3 | B6: Численность работников | C6: 13099 | D6: 13030 | E6: 13030 | F6: 13030 | G6: 13030 | H6: 13030 | I6: 13030
A7: 4 | B7: Среднемесячная заработная плата, руб. | C7: 23815 | D7: 30580 | E7: 34220 | F7: 38100 | G7: 42443 | H7: 47112 | I7: 52153
A8: 5 | B8: Соотношение к средней заработной плате по субъекту Российской Федерации, % | C8: =C7/C$4*100 -> 86.916058 | D8: =D7/D$4*100 -> 100 | E8: =E7/E$4*100 -> 100 | F8: =F7/F$4*100 -> 100 | G8: =G7/G$4*100 -> 100 | H8: =H7/H$4*100 -> 100 | I8: =I7/I$4*100 -> 100
A9: 6 | B9: Фонд оплаты труда (с начислениями), необходимый для исполнения Указа | C9: =C6*C7*1.302*12/1000000 -> 4873.9488 | D9: =D6*D7*1.302*12/1000000 -> 6225.4984 | E9: =E6*E7*1.302*12/1000000 -> 6966.5322 | F9: =F6*F7*1.302*12/1000000 -> 7756.4254 | G9: =G6*G7*1.302*12/1000000 -> 8640.5765 | H9: =H6*H7*1.302*12/1000000 -> 9591.0949 | I9: =I6*I7*1.302*12/1000000 -> 10617.345
A10: 7 | B10: Дополнительная потребность в средствах на повышение оплаты труда | D10: =D9-C9 -> 1351.5497 | E10: =E9-C9 -> 2092.5835 | F10: =F9-C9 -> 2882.4767 | G10: =G9-C9 -> 3766.6277 | H10: =H9-C9 -> 4717.1461 | I10: =I9-C9 -> 5743.3965
A11: 9 | B11: в том числе за счет средств консолидированного бюджета | D11: 1177.16 | E11: 1844.09 | F11: 2554.99 | G11: 3350.73 | H11: 4206.19 | I11: 5129.82
A12: 10 | B12: Педагогические работники дошкольных образовательных учреждений | C12: доведение к 2013 году средней заработной платы педагогических работников дошкольных образовательных учреждений до средней заработной платы в сфере общего образования в соответствующем регионе
A13: 11 | B13: Средняя заработная плата в сфере общего образования по субъекту Российской Федерации (прогноз субъекта Российской Федерации), руб. | C13: 20778 | D13: 23935 | E13: 26269 | F13: 28938 | G13: 31470 | H13: 35145 | I13: 38031
A14: 12 | B14: Численность работников | C14: 6434 | D14: 6470 | E14: 6470 | F14: 6470 | G14: 6470 | H14: 6470 | I14: 6470
A15: 13 | B15: Среднемесячная заработная плата, нруб. | C15: 15106 | D15: 23935 | E15: 26269 | F15: 28938 | G15: 31470 | H15: 35145 | I15: 38031
A16: 14 | B16: Соотношение к средней заработной плате работников общеобразовательных учреждений по субъекту Российской Федерации, % | C16: =C15/C13*100 -> 72.701896 | D16: =D15/D13*100 -> 100 | E16: =E15/E13*100 -> 100 | F16: =F15/F13*100 -> 100 | G16: =G15/G13*100 -> 100 | H16: =H15/H13*100 -> 100 | I16: =I15/I13*100 -> 100
A17: 15 | B17: Фонд оплаты труда (с начислениями), необходимый для исполнения Указа | C17: =C14*C15*1.302*12/1000000 -> 1518.5279 | D17: =D14*D15*1.302*12/1000000 -> 2419.524 | E17: =E14*E15*1.302*12/1000000 -> 2655.4618 | F17: =F14*F15*1.302*12/1000000 -> 2925.2637 | G17: =G14*G15*1.302*12/1000000 -> 3181.2167 | H17: =H14*H15*1.302*12/1000000 -> 3552.7125 | I17: =I14*I15*1.302*12/1000000 -> 3844.4503
A18: 16 | B18: Дополнительная потребность в средствах на повышение оплаты труда | D18: =D17-C17 -> 900.99618 | E18: =E17-C17 -> 1136.9339 | F18: =F17-C17 -> 1406.7358 | G18: =G17-C17 -> 1662.6888 | H18: =H17-C17 -> 2034.1846 | I18: =I17-C17 -> 2325.9225
A19: 17 | B19: в том числе за счет средств консолидированного бюджета | D19: 877.97 | E19: 1113.91 | F19: 1383.71 | G19: 1639.67 | H19: 2011.16 | I19: 2302.9
A20: 18 | B20: Педагогические работники учреждений дополнительного образования детей | C20: доведение оплаты труда педагогов учреждений дополнительного образования детей до уровня не ниже среднего для учителей в регионе
A21: 19 | B21: Средняя заработная плата учителей по субъекту Российской Федерации (прогноз субъекта Российской Федерации), руб. | C21: 27490 | D21: 31191.6 | E21: 34904.4 | F21: 38862 | G21: 43291.86 | H21: 48054.24 | I21: 53196.06
A22: 20 | B22: Численность работников | C22: 2206 | D22: 2206.68 | E22: 2229 | F22: 2241 | G22: 2247 | H22: 2255 | I22: 2272
A23: 21 | B23: Среднемесячная заработная плата, руб. | C23: 13246 | D23: 31192 | E23: 34904 | F23: 38862 | G23: 43292 | H23: 48054 | I23: 53196
A24: 22 | B24: Соотношение к средней заработной плате работников общеобразовательных учреждений по субъекту Российской Федерации, % | C24: =C23/C21*100 -> 48.184794 | D24: =D23/D21*100 -> 100.00128 | E24: =E23/E21*100 -> 99.998854 | F24: =F23/F21*100 -> 100 | G24: =G23/G21*100 -> 100.00032 | H24: =H23/H21*100 -> 99.999501 | I24: =I23/I21*100 -> 99.999887
A25: 23 | B25: Фонд оплаты труда (с начислениями), необходимый для исполнения Указа | C25: =C22*C23*1.302*12/1000000 -> 456.54384 | D25: =D22*D23*1.302*12/1000000 -> 1075.4118 | E25: =E22*E23*1.302*12/1000000 -> 1215.5631 | F25: =F22*F23*1.302*12/1000000 -> 1360.6901 | G25: =G22*G23*1.302*12/1000000 -> 1519.8578 | H25: =H22*H23*1.302*12/1000000 -> 1693.0443 | I25: =I22*I23*1.302*12/1000000 -> 1888.3371
A26: 24 | B26: Дополнительная потребность в средствах на повышение оплаты труда | D26: =D25-C25 -> 618.86799 | E26: =E25-C25 -> 759.01923 | F26: =F25-C25 -> 904.14629 | G26: =G25-C25 -> 1063.3139 | H26: =H25-C25 -> 1236.5005 | I26: =I25-C25 -> 1431.7933
A27: 25 | B27: в том числе за счет средств консолидированного бюджета | D27: 584.07 | E27: 724.55 | F27: 869.68 | G27: 1028.85 | H27: 1202.03 | I27: 1397.33
A28: 26 | B28: Преподаватели и мастера производственного обучения образовательных учреждений начального и среднего профессионального образования | C28: доведение к 2018 году средней заработной платы преподавателей и мастеров производственного обучения образовательных учреждений начального и среднего профессионального образования до средней заработной платы в соответствующем регионе
A29: 27 | B29: Численность работников | C29: 2187 | D29: 2200 | E29: 2215 | F29: 2215 | G29: 2215 | H29: 2215 | I29: 2215
A30: 28 | B30: Среднемесячная заработная плата, руб. | C30: 24338 | D30: 27016 | E30: 29034 | F30: 30966 | G30: 36521 | H30: 42925 | I30: 52153
A31: 29 | B31: Соотношение к средней заработной плате по субъекту Российской Федерации, % | C31: =C30/C$4*100 -> 88.824818 | D31: =D30/D$4*100 -> 88.345324 | E31: =E30/E$4*100 -> 84.84512 | F31: =F30/F$4*100 -> 81.275591 | G31: =G30/G$4*100 -> 86.047169 | H31: =H30/H$4*100 -> 91.112668 | I31: =I30/I$4*100 -> 100
A32: 30 | B32: Фонд оплаты труда (с начислениями), необходимый для исполнения Указа | C32: =C29*C30*1.302*12/1000000 -> 831.62187 | D32: =D29*D30*1.302*12/1000000 -> 928.61556 | E32: =E29*E30*1.302*12/1000000 -> 1004.7843 | F32: =F29*F30*1.302*12/1000000 -> 1071.6453 | G32: =G29*G30*1.302*12/1000000 -> 1263.8881 | H32: =H29*H30*1.302*12/1000000 -> 1485.5123 | I32: =I29*I30*1.302*12/1000000 -> 1804.8672
A33: 31 | B33: Дополнительная потребность в средствах на повышение оплаты труда | D33: =D32-C32 -> 96.993698 | E33: =E32-C32 -> 173.16242 | F33: =F32-C32 -> 240.02345 | G33: =G32-C32 -> 432.26622 | H33: =H32-C32 -> 653.89048 | I33: =I32-C32 -> 973.24535
A34: 32 | B34: в том числе за счет средств консолидированного бюджета | D34: 52.76 | E34: 103.14 | F34: 153.24 | G34: 290.99 | H34: 448.57 | I34: 681.17
A35: 33 | B35: Работники учреждений культуры | C35: доведение к 2018 году средней заработной платы работников учреждений культуры до средней заработной платы в соответствующем регионе
A36: 34 | B36: Численность работников | C36: 6894 | D36: 6894 | E36: 7287 | F36: 7287 | G36: 7287 | H36: 7287 | I36: 7287
A37: 35 | B37: Среднемесячная заработная плата, руб. | C37: 12631 | D37: 16136 | E37: 20615 | F37: 26371 | G37: 33774 | H37: 43298 | I37: 52153
A38: 36 | B38: Соотношение к средней заработной плате по субъекту Российской Федерации, % | C38: =C37/C4*100 -> 46.09854 | D38: =D37/D4*100 -> 52.766514 | E38: =E37/E4*100 -> 60.242548 | F38: =F37/F4*100 -> 69.215223 | G38: =G37/G4*100 -> 79.574959 | H38: =H37/H4*100 -> 91.904398 | I38: =I37/I4*100 -> 100
A39: 37 | B39: Фонд оплаты труда (с начислениями), необходимый для исполнения Указа | C39: =C36*C37*1.302*12/1000000 -> 1360.5085 | D39: =D36*D37*1.302*12/1000000 -> 1738.0385 | E39: =E36*E37*1.302*12/1000000 -> 2347.0608 | F39: =F36*F37*1.302*12/1000000 -> 3002.3934 | G39: =G36*G37*1.302*12/1000000 -> 3845.2404 | H39: =H36*H37*1.302*12/1000000 -> 4929.5677 | I39: =I36*I37*1.302*12/1000000 -> 5937.7279
A40: 38 | B40: Дополнительная потребность в средствах на повышение оплаты труда | D40: =D39-C39 -> 377.53006 | E40: =E39-C39 -> 986.55234 | F40: =F39-C39 -> 1641.885 | G40: =G39-C39 -> 2484.732 | H40: =H39-C39 -> 3569.0593 | I40: =I39-C39 -> 4577.2195
A41: 39 | B41: в том числе за счет средств консолидированного бюджета | D41: 360.75 | E41: 904.65 | F41: 1539.99 | G41: 2329.06 | H41: 3326.29 | I41: 4224.42
...
