Workbook

Sheet ВСЕ
A1: Информация о параметрах заработной платы работников государственных учреждений и муниципальных учреждений, расположенных на территории Приморского края, повышение оплаты труда которых предусмотрено Указами Президента Российской Федерации от 7 мая 2012 г. № 597 *
A3: № п/п | C3: 2012 | D3: 2013 | E3: 2014 | F3: 2015 | G3: 2016 | H3: 2017 | I3: 2018
A4: 1 | B4: Средняя заработная плата по субъекту Российской Федерации (прогноз субъекта Российской Федерации, в т.ч. на 2013-2015 гг. - учтенный при подготовке бюджета субъекта Российской Федерации), руб. | C4: 27400 | D4: =[1]Образование!E9 -> 30580 | E4: =[1]Образование!F9 -> 34220 | F4: =[1]Образование!G9 -> 38100 | G4: =[1]Образование!H9 -> 42443 | H4: =[1]Образование!I9 -> 47112 | I4: =[1]Образование!J9 -> 52153
A5: 2 | B5: Педагогические работники образовательных учреждений общего образования | C5: доведение в 2012 году средней заработной платы педагогических работников образовательных учреждений общего образования до средней заработной платы в соответствующем регионе
A6: 3 | B6: Численность работников | C6: 13099 | D6: 13030 | E6: 13030 | F6: 13030 | G6: 13030 | H6: 13030 | I6: 13030
A7: 4 | B7: Среднемесячная заработная плата, руб. | C7: 23815 | D7: 30580 | E7: 34220 | F7: 38100 | G7: 42443 | H7: 47112 | I7: 52153
A8: 5 | B8: Соотношение к средней заработной плате по субъекту Российской Федерации, % | C8: =C7/C$4*100 -> 86.916058 | D8: =D7/D$4*100 -> 100 | E8: =E7/E$4*100 -> 100 | F8: =F7/F$4*100 -> 100 | G8: =G7/G$4*100 -> 100 | H8: =H7/H$4*100 -> 100 | I8: =I7/I$4*100 -> 100
A9: 6 | B9: Фонд оплаты труда (с начислениями), необходимый для исполнения Указа | C9: =C6*C7*1.302*12/1000000 -> 4873.9488 | D9: =D6*D7*1.302*12/1000000 -> 6225.4984 | E9: =E6*E7*1.302*12/1000000 -> 6966.5322 | F9: =F6*F7*1.302*12/1000000 -> 7756.4254 | G9: =G6*G7*1.302*12/1000000 -> 8640.5765 | H9: =H6*H7*1.302*12/1000000 -> 9591.0949 | I9: =I6*I7*1.302*12/1000000 -> 10617.345
A10: 7 | B10: Дополнительная потребность в средствах на повышение оплаты труда | D10: =D9-C9 -> 1351.5497 | E10: =E9-C9 -> 2092.5835 | F10: =F9-C9 -> 2882.4767 | G10: =G9-C9 -> 3766.6277 | H10: =H9-C9 -> 4717.1461 | I10: =I9-C9 -> 5743.3965
A11: 9 | B11: в том числе за счет средств консолидированного бюджета | D11: 1177.16 | E11: 1844.09 | F11: 2554.99 | G11: 3350.73 | H11: 4206.19 | I11: 5129.82
A12: 10 | B12: Педагогические работники дошкольных образовательных учреждений | C12: доведение к 2013 году средней заработной платы педагогических работников дошкольных образовательных учреждений до средней заработной платы в сфере общего образования в соответствующем регионе
A13: 11 | B13: Средняя заработная плата в сфере общего образования по субъекту Российской Федерации (прогноз субъекта Российской Федерации), руб. | C13: 20778 | D13: 23935 | E13: 26269 | F13: 28938 | G13: 31470 | H13: 35145 | I13: 38031
A14: 12 | B14: Численность работников | C14: 6434 | D14: 6470 | E14: 6470 | F14: 6470 | G14: 6470 | H14: 6470 | I14: 6470
A15: 13 | B15: Среднемесячная заработная плата, нруб. | C15: 15106 | D15: 23935 | E15: 26269 | F15: 28938 | G15: 31470 | H15: 35145 | I15: 38031
A16: 14 | B16: Соотношение к средней заработной плате работников общеобразовательных учреждений по субъекту Российской Федерации, % | C16: =C15/C13*100 -> 72.701896 | D16: =D15/D13*100 -> 100 | E16: =E15/E13*100 -> 100 | F16: =F15/F13*100 -> 100 | G16: =G15/G13*100 -> 100 | H16: =H15/H13*100 -> 100 | I16: =I15/I13*100 -> 100
A17: 15 | B17: Фонд оплаты труда (с начислениями), необходимый для исполнения Указа | C17: =C14*C15*1.302*12/1000000 -> 1518.5279 | D17: =D14*D15*1.302*12/1000000 -> 2419.524 | E17: =E14*E15*1.302*12/1000000 -> 2655.4618 | F17: =F14*F15*1.302*12/1000000 -> 2925.2637 | G17: =G14*G15*1.302*12/1000000 -> 3181.2167 | H17: =H14*H15*1.302*12/1000000 -> 3552.7125 | I17: =I14*I15*1.302*12/1000000 -> 3844.4503
A18: 16 | B18: Дополнительная потребность в средствах на повышение оплаты труда | D18: =D17-C17 -> 900.99618 | E18: =E17-C17 -> 1136.9339 | F18: =F17-C17 -> 1406.7358 | G18: =G17-C17 -> 1662.6888 | H18: =H17-C17 -> 2034.1846 | I18: =I17-C17 -> 2325.9225
A19: 17 | B19: в том числе за счет средств консолидированного бюджета | D19: 877.97 | E19: 1113.91 | F19: 1383.71 | G19: 1639.67 | H19: 2011.16 | I19: 2302.9
A20: 18 | B20: Педагогические работники учреждений дополнительного образования детей | C20: доведение оплаты труда педагогов учреждений дополнительного образования детей до уровня не ниже среднего для учителей в регионе
A21: 19 | B21: Средняя заработная плата учителей по субъекту Российской Федерации (прогноз субъекта Российской Федерации), руб. | C21: 27490 | D21: 31191.6 | E21: 34904.4 | F21: 38862 | G21: 43291.86 | H21: 48054.24 | I21: 53196.06
A22: 20 | B22: Численность работников | C22: 2206 | D22: 2206.68 | E22: 2229 | F22: 2241 | G22: 2247 | H22: 2255 | I22: 2272
A23: 21 | B23: Среднемесячная заработная плата, руб. | C23: 13246 | D23: 31192 | E23: 34904 | F23: 38862 | G23: 43292 | H23: 48054 | I23: 53196
A24: 22 | B24: Соотношение к средней заработной плате работников общеобразовательных учреждений по субъекту Российской Федерации, % | C24: =C23/C21*100 -> 48.184794 | D24: =D23/D21*100 -> 100.00128 | E24: =E23/E21*100 -> 99.998854 | F24: =F23/F21*100 -> 100 | G24: =G23/G21*100 -> 100.00032 | H24: =H23/H21*100 -> 99.999501 | I24: =I23/I21*100 -> 99.999887
A25: 23 | B25: Фонд оплаты труда (с начислениями), необходимый для исполнения Указа | C25: =C22*C23*1.302*12/1000000 -> 456.54384 | D25: =D22*D23*1.302*12/1000000 -> 1075.4118 | E25: =E22*E23*1.302*12/1000000 -> 1215.5631 | F25: =F22*F23*1.302*12/1000000 -> 1360.6901 | G25: =G22*G23*1.302*12/1000000 -> 1519.8578 | H25: =H22*H23*1.302*12/1000000 -> 1693.0443 | I25: =I22*I23*1.302*12/1000000 -> 1888.3371
A26: 24 | B26: Дополнительная потребность в средствах на повышение оплаты труда | D26: =D25-C25 -> 618.86799 | E26: =E25-C25 -> 759.01923 | F26: =F25-C25 -> 904.14629 | G26: =G25-C25 -> 1063.3139 | H26: =H25-C25 -> 1236.5005 | I26: =I25-C25 -> 1431.7933
A27: 25 | B27: в том числе за счет средств консолидированного бюджета | D27: 584.07 | E27: 724.55 | F27: 869.68 | G27: 1028.85 | H27: 1202.03 | I27: 1397.33
A28: 26 | B28: Преподаватели и мастера производственного обучения образовательных учреждений начального и среднего профессионального образования | C28: доведение к 2018 году средней заработной платы преподавателей и мастеров производственного обучения образовательных учреждений начального и среднего профессионального образования до средней заработной платы в соответствующем регионе
A29: 27 | B29: Численность работников | C29: 2187 | D29: 2200 | E29: 2215 | F29: 2215 | G29: 2215 | H29: 2215 | I29: 2215
A30: 28 | B30: Среднемесячная заработная плата, руб. | C30: 24338 | D30: 27016 | E30: 29034 | F30: 30966 | G30: 36521 | H30: 42925 | I30: 52153
A31: 29 | B31: Соотношение к средней заработной плате по субъекту Российской Федерации, % | C31: =C30/C$4*100 -> 88.824818 | D31: =D30/D$4*100 -> 88.345324 | E31: =E30/E$4*100 -> 84.84512 | F31: =F30/F$4*100 -> 81.275591 | G31: =G30/G$4*100 -> 86.047169 | H31: =H30/H$4*100 -> 91.112668 | I31: =I30/I$4*100 -> 100
A32: 30 | B32: Фонд оплаты труда (с начислениями), необходимый для исполнения Указа | C32: =C29*C30*1.302*12/1000000 -> 831.62187 | D32: =D29*D30*1.302*12/1000000 -> 928.61556 | E32: =E29*E30*1.302*12/1000000 -> 1004.7843 | F32: =F29*F30*1.302*12/1000000 -> 1071.6453 | G32: =G29*G30*1.302*12/1000000 -> 1263.8881 | H32: =H29*H30*1.302*12/1000000 -> 1485.5123 | I32: =I29*I30*1.302*12/1000000 -> 1804.8672
A33: 31 | B33: Дополнительная потребность в средствах на повышение оплаты труда | D33: =D32-C32 -> 96.993698 | E33: =E32-C32 -> 173.16242 | F33: =F32-C32 -> 240.02345 | G33: =G32-C32 -> 432.26622 | H33: =H32-C32 -> 653.89048 | I33: =I32-C32 -> 973.24535
A34: 32 | B34: в том числе за счет средств консолидированного бюджета | D34: 52.76 | E34: 103.14 | F34: 153.24 | G34: 290.99 | H34: 448.57 | I34: 681.17
A35: 33 | B35: Работники учреждений культуры | C35: доведение к 2018 году средней заработной платы работников учреждений культуры до средней заработной платы в соответствующем регионе
A36: 34 | B36: Численность работников | C36: 6894 | D36: 6894 | E36: 7287 | F36: 7287 | G36: 7287 | H36: 7287 | I36: 7287
A37: 35 | B37: Среднемесячная заработная плата, руб. | C37: 12631 | D37: 16136 | E37: 20615 | F37: 26371 | G37: 33774 | H37: 43298 | I37: 52153
A38: 36 | B38: Соотношение к средней заработной плате по субъекту Российской Федерации, % | C38: =C37/C4*100 -> 46.09854 | D38: =D37/D4*100 -> 52.766514 | E38: =E37/E4*100 -> 60.242548 | F38: =F37/F4*100 -> 69.215223 | G38: =G37/G4*100 -> 79.574959 | H38: =H37/H4*100 -> 91.904398 | I38: =I37/I4*100 -> 100
A39: 37 | B39: Фонд оплаты труда (с начислениями), необходимый для исполнения Указа | C39: =C36*C37*1.302*12/1000000 -> 1360.5085 | D39: =D36*D37*1.302*12/1000000 -> 1738.0385 | E39: =E36*E37*1.302*12/1000000 -> 2347.0608 | F39: =F36*F37*1.302*12/1000000 -> 3002.3934 | G39: =G36*G37*1.302*12/1000000 -> 3845.2404 | H39: =H36*H37*1.302*12/1000000 -> 4929.5677 | I39: =I36*I37*1.302*12/1000000 -> 5937.7279
A40: 38 | B40: Дополнительная потребность в средствах на повышение оплаты труда | D40: =D39-C39 -> 377.53006 | E40: =E39-C39 -> 986.55234 | F40: =F39-C39 -> 1641.885 | G40: =G39-C39 -> 2484.732 | H40: =H39-C39 -> 3569.0593 | I40: =I39-C39 -> 4577.2195
A41: 39 | B41: в том числе за счет средств консолидированного бюджета | D41: 360.75 | E41: 904.65 | F41: 1539.99 | G41: 2329.06 | H41: 3326.29 | I41: 4224.42
A42: 40 | B42: Врачи и работники медицинских организаций, имеющие высшее медицинское (фармацевтическое) или иное высшее образование, предоставляющие медицинские услуги, (обеспечивающие предоставление медицинских услуг) | C42: повышение к 2018 году средней заработной платы врачей, работников медицинских организаций, имеющих высшее медицинское (фармацевтическое) или иное высшее образование, предоставляющих медицинские услуги (обеспечивающих предоставление медицинских услуг )до 200 процентов от средней заработной платы в соответствующем регионе
A43: 41 | B43: Численность работников | C43: 7098 | D43: 7118 | E43: 7138 | F43: 7158 | G43: 7158 | H43: 7158 | I43: 7158
A44: 42 | B44: Среднемесячная заработная плата, необходимая для выполнения Указа, руб. | C44: 33021 | D44: 37500 | E44: 47607 | F44: 57204 | G44: 68745 | H44: 84001 | I44: 104306
A45: 43 | B45: Соотношение к средней заработной плате по субъекту Российской Федерации, % | C45: =C44/C$4*100 -> 120.5146 | D45: =D44/D$4*100 -> 122.62917 | E45: =E44/E$4*100 -> 139.1204 | F45: =F44/F$4*100 -> 150.14173 | G45: =G44/G$4*100 -> 161.97017 | H45: =H44/H$4*100 -> 178.30065 | I45: =I44/I$4*100 -> 200
A46: 44 | B46: Фонд оплаты труда (с начислениями), необходимый для исполнения Указа | C46: =C43*C44*1.302*12/1000000 -> 3662.0009 | D46: =D43*D44*1.302*12/1000000 -> 4170.4362 | E46: =E43*E44*1.302*12/1000000 -> 5309.3284 | F46: =F43*F44*1.302*12/1000000 -> 6397.5004 | G46: =G43*G44*1.302*12/1000000 -> 7688.2065 | H46: =H43*H44*1.302*12/1000000 -> 9394.3856 | I46: =I43*I44*1.302*12/1000000 -> 11665.228
A47: 45 | B47: Дополнительная потребность в средствах на повышение оплаты труда | D47: =D46-C46 -> 508.4353 | E47: =E46-C46 -> 1647.3275 | F47: =F46-C46 -> 2735.4995 | G47: =G46-C46 -> 4026.2056 | H47: =H46-C46 -> 5732.3847 | I47: =I46-C46 -> 8003.2267
A48: 46 | B48: в том числе за счет средств консолидированного бюджета | D48: 311.76 | E48: 408.37 | F48: 682.29 | G48: 1009.47 | H48: 1443.74 | I48: 2023.31
A49: 47 | B49: Средний медицинский (фармацевтический) персонал (персонал, обеспечивающий предоставление медицинских услуг) | C49: повышение к 2018 году средней заработной платы среднего медицинского (фармацевтического) - до 100 процентов от средней заработной платы в соответствующем регионе
A50: 48 | B50: Численность работников | C50: 13228 | D50: 13248 | E50: 13248 | F50: 13248 | G50: 13248 | H50: 13248 | I50: 13248
A51: 49 | B51: Среднемесячная заработная плата, руб. | C51: 19750 | D51: 22945 | E51: 25218 | F51: 29084 | G51: 33549 | H51: 38711 | I51: 52153
A52: 50 | B52: Соотношение к средней заработной плате по субъекту Российской Федерации, % | C52: =C51/C$4*100 -> 72.080292 | D52: =D51/D$4*100 -> 75.032701 | E52: =E51/E$4*100 -> 73.693746 | F52: =F51/F$4*100 -> 76.335958 | G52: =G51/G$4*100 -> 79.044837 | H52: =H51/H$4*100 -> 82.168025 | I52: =I51/I$4*100 -> 100
A53: 51 | B53: Фонд оплаты труда (с начислениями), необходимый для исполнения Указа | C53: =C50*C51*1.302*12/1000000 -> 4081.8169 | D53: =D50*D51*1.302*12/1000000 -> 4749.311 | E53: =E50*E51*1.302*12/1000000 -> 5219.7919 | F53: =F50*F51*1.302*12/1000000 -> 6020.0027 | G53: =G50*G51*1.302*12/1000000 -> 6944.1985 | H53: =H50*H51*1.302*12/1000000 -> 8012.6642 | I53: =I50*I51*1.302*12/1000000 -> 10794.98
A54: 52 | B54: Дополнительная потребность в средствах на повышение оплаты труда | D54: =D53-C53 -> 667.49415 | E54: =E53-C53 -> 1137.975 | F54: =F53-C53 -> 1938.1858 | G54: =G53-C53 -> 2862.3817 | H54: =H53-C53 -> 3930.8473 | I54: =I53-C53 -> 6713.1632
A55: 53 | B55: в том числе за счет средств консолидированного бюджета | D55: 458.64 | E55: 381.28 | F55: 651.22 | G55: 965.93 | H55: 1333.18 | I55: 2218.19
A56: 54 | B56: Младший медицинский персонал (персонал, обеспечивающий предоставление медицинских услуг) | C56: повышение к 2018 году средней заработной платы млавдшего медицинского (фармацевтического) - до 100 процентов от средней заработной платы в соответствующем регионе
A57: 55 | B57: Численность работников | C57: 8083 | D57: 8093 | E57: 8103 | F57: 8153 | G57: 8203 | H57: 8203 | I57: 8203
A58: 56 | B58: Среднемесячная заработная плата, необходимая для выполнения Указа, руб. | C58: 10960 | D58: 13152 | E58: 15694 | F58: 21186 | G58: 28601 | H58: 38612 | I58: 52153
A59: 57 | B59: Соотношение к средней заработной плате по субъекту Российской Федерации, % | C59: =C58/C$4*100 -> 40 | D59: =D58/D$4*100 -> 43.008502 | E59: =E58/E$4*100 -> 45.862069 | F59: =F58/F$4*100 -> 55.606299 | G59: =G58/G$4*100 -> 67.386848 | H59: =H58/H$4*100 -> 81.957888 | I59: =I58/I$4*100 -> 100
A60: 58 | B60: Фонд оплаты труда (с начислениями), необходимый для исполнения Указа | C60: =C57*C58*1.302*12/1000000 -> 1384.1252 | D60: =D57*D58*1.302*12/1000000 -> 1663.0051 | E60: =E57*E58*1.302*12/1000000 -> 1986.8804 | F60: =F57*F58*1.302*12/1000000 -> 2698.7251 | G60: =G57*G58*1.302*12/1000000 -> 3665.6092 | H60: =H57*H58*1.302*12/1000000 -> 4948.6557 | I60: =I57*I58*1.302*12/1000000 -> 6684.12
A61: 59 | B61: Дополнительная потребность в средствах на повышение оплаты труда | D61: =D60-C60 -> 278.8799 | E61: =E60-C60 -> 602.7552 | F61: =F60-C60 -> 1314.5999 | G61: =G60-C60 -> 2281.484 | H61: =H60-C60 -> 3564.5305 | I61: =I60-C60 -> 5299.9948
A62: 60 | B62: в том числе за счет средств консолидированного бюджета | D62: 226.58 | E62: 242.22 | F62: 507.86 | G62: 868.19 | H62: 1347.97 | I62: 1989.19
A63: 61 | B63: Социальные работники учреждений социального обслуживания населения | C63: повышение к 2018 году средней заработной платы социальных работников - до 100 процентов от средней заработной платы в соответствующем регионе
A64: 62 | B64: Численность работников | C64: =C67/C65/1.302/12*1000000 -> 1163 | D64: =D67/D65/1.302/12*1000000 -> 1163 | E64: =E67/E65/1.302/12*1000000 -> 1163 | F64: =F67/F65/1.302/12*1000000 -> 1163 | G64: =G67/G65/1.302/12*1000000 -> 1163 | H64: =H67/H65/1.302/12*1000000 -> 1163 | I64: =I67/I65/1.302/12*1000000 -> 1163
A65: 63 | B65: Среднемесячная заработная плата, руб. | C65: 9992.21 | D65: 11988.771 | E65: 14384.455 | F65: 19416.115 | G65: 26209.102 | H65: 36687.234 | I65: 52153
A66: 64 | B66: Соотношение к средней заработной плате по субъекту Российской Федерации, % | C66: =C65/C$4*100 -> 36.46792 | D66: =D65/D$4*100 -> 39.204613 | E66: =E65/E$4*100 -> 42.035228 | F66: =F65/F$4*100 -> 50.960933 | G66: =G65/G$4*100 -> 61.751295 | H66: =H65/H$4*100 -> 77.872376 | I66: =I65/I$4*100 -> 100
A67: 65 | B67: Фонд оплаты труда (с начислениями), необходимый для исполнения Указа | C67: 181.56557 | D67: 217.8445 | E67: 261.37579 | F67: 352.80464 | G67: 476.23805 | H67: 666.63316 | I67: 947.65714
A68: 66 | B68: Дополнительная потребность в средствах на повышение оплаты труда | D68: =D67-C67 -> 36.278927 | E68: =E67-C67 -> 79.810221 | F68: =F67-C67 -> 171.23907 | G68: =G67-C67 -> 294.67248 | H68: =H67-C67 -> 485.06759 | I68: =I67-C67 -> 766.09157
A69: 67 | B69: в том числе за счет средств консолидированного бюджета | D69: 35.89 | E69: 78.9 | F69: 169.68 | G69: 292.2 | H69: 481.55 | I69: 762.18
A70: 68 | B70: Социальные работники учреждений здравоохранения | C70: повышение к 2018 году средней заработной платы социальных работников - до 100 процентов от средней заработной платы в соответствующем регионе
A71: 69 | B71: Численность работников | C71: 49.4 | D71: 48.5 | E71: 55 | F71: 56 | G71: 57 | H71: 59 | I71: 60
A72: 70 | B72: Среднемесячная заработная плата, руб. | C72: 13350 | D72: 16020 | E72: 19224 | F72: 23069 | G72: 29989 | H72: 38986 | I72: 52153
A73: 71 | B73: Соотношение к средней заработной плате по субъекту Российской Федерации, % | C73: =C72/C$4*100 -> 48.722628 | D73: =D72/D$4*100 -> 52.387181 | E73: =E72/E$4*100 -> 56.177674 | F73: =F72/F$4*100 -> 60.548556 | G73: =G72/G$4*100 -> 70.657117 | H73: =H72/H$4*100 -> 82.751741 | I73: =I72/I$4*100 -> 100
A74: 72 | B74: Фонд оплаты труда (с начислениями), необходимый для исполнения Указа | C74: =C72*C71*1.302*12/1000000 -> 10.303872 | D74: =D72*D71*1.302*12/1000000 -> 12.139379 | E74: =E72*E71*1.302*12/1000000 -> 16.519568 | F74: =F72*F71*1.302*12/1000000 -> 20.184083 | G74: =G72*G71*1.302*12/1000000 -> 26.707244 | H74: =H72*H71*1.302*12/1000000 -> 35.937919 | I74: =I72*I71*1.302*12/1000000 -> 48.890308
A75: 73 | B75: Дополнительная потребность в средствах на повышение оплаты труда | D75: =D74-C74 -> 1.8355075 | E75: =E74-C74 -> 6.2156959 | F75: =F74-C74 -> 9.8802114 | G75: =G74-C74 -> 16.403372 | H75: =H74-C74 -> 25.634047 | I75: =I74-C74 -> 38.586437
A76: 74 | B76: в том числе за счет средств консолидированного бюджета | D76: 2.79 | E76: 6.3 | F76: 9.96 | G76: 16.49 | H76: 25.71 | I76: 38.67
A77: 75 | B77: Фонд оплаты труда (с начислениями), необходимый для исполнения Указа | C77: =C9+C17+C32+C39+C46+C53+C60+C67+C74 -> 17904.419 | D77: =D9+D17+D32+D39+D46+D53+D60+D67+D74+D25 -> 23199.825 | E77: =E9+E17+E32+E39+E46+E53+E60+E67+E74+E25 -> 26983.298 | F77: =F9+F17+F32+F39+F46+F53+F60+F67+F74+F25 -> 31605.635 | G77: =G9+G17+G32+G39+G46+G53+G60+G67+G74+G25 -> 37251.739 | H77: =H9+H17+H32+H39+H46+H53+H60+H67+H74+H25 -> 44310.208 | I77: =I9+I17+I32+I39+I46+I53+I60+I67+I74+I25 -> 54233.603
A78: 76 | B78: Дополнительная потребность в средствах на повышение оплаты труда | C78: =C10+C18+C33+C40+C47+C54+C61+C68+C75 -> 0 | D78: =D10+D18+D33+D40+D47+D54+D61+D68+D75+D26 -> 4838.8614 | E78: =E10+E18+E33+E40+E47+E54+E61+E68+E75+E26 -> 8622.335 | F78: =F10+F18+F33+F40+F47+F54+F61+F68+F75+F26 -> 13244.672 | G78: =G10+G18+G33+G40+G47+G54+G61+G68+G75+G26 -> 18890.776 | H78: =H10+H18+H33+H40+H47+H54+H61+H68+H75+H26 -> 25949.245 | I78: =I10+I18+I33+I40+I47+I54+I61+I68+I75+I26 -> 35872.64
A79: 77 | B79: в том числе за счет средств консолидированного бюджета | C79: =C11+C19+C34+C41+C48+C55+C62+C69+C76 -> 0 | D79: =D11+D19+D34+D41+D48+D55+D62+D69+D76+D27 -> 4088.37 | E79: =E11+E19+E34+E41+E48+E55+E62+E69+E76+E27 -> 5807.41 | F79: =F11+F19+F34+F41+F48+F55+F62+F69+F76+F27 -> 8522.62 | G79: =G11+G19+G34+G41+G48+G55+G62+G69+G76+G27 -> 11791.58 | H79: =H11+H19+H34+H41+H48+H55+H62+H69+H76+H27 -> 15826.39 | I79: =I11+I19+I34+I41+I48+I55+I62+I69+I76+I27 -> 20767.18
A81: *Списочная численность и фонд заработной платы указаны без учета внешних совместителей и лиц, работающих по договорам гражданско-правового характера и не являющихся работниками учреждений
