Workbook

Sheet Общее 
AA1: Приложение 2
A2: Исполнение плановых назначений по доходам местных бюджетов проверенных муниципальных районов за 2021 год
A3: тыс. рублей
A4: Наименование показателя | D4: Кавалеровский МР | I4: Дальнереченский МР | N4: Красноармейский МР | S4: Спасский МР | X4: Черниговский МР
D5: Утвержденный бюджет 2021 года | E5: Исполнено за 2021 год | J5: Исполнено за 2021 год | N5: Утвержденный бюджет 2021 года | O5: Исполнено за 2021 год | S5: Утвержденный бюджет 2021 года | T5: Исполнено за 2021 год | X5: Утвержденный бюджет 2021 года | Y5: Исполнено за 2021 год
C6: Код дохода | E6: Сумма | F6: % | G6: Отклонение от плана | H6: Уд. вес в группе доходов | I6: Утвержденный бюджет 2021 года | J6: Сумма | K6: % | L6: Отклонение от плана | M6: Уд. вес в группе доходов | O6: Сумма | P6: % | Q6: Отклонение от плана | R6: Уд. вес в группе доходов | T6: Сумма | U6: % | V6: Отклонение от плана | W6: Уд. вес в группе доходов | Y6: Сумма | Z6: % | AA6: Отклонение от плана | AB6: Уд. вес в группе доходов
A7: НАЛОГОВЫЕ И НЕНАЛОГОВЫЕ ДОХОДЫ | C7: 000 1 00 00000 00 0000 000 | D7: 276306 | E7: 280957.84 | F7: =E7/D7*100 -> 101.68358 | G7: =E7-D7 -> 4651.8443 | H7: =E7/$E$7*100 -> 100 | I7: =VLOOKUP(A7,Дальнереч!$B$5:$E$71,3,0) -> 123206.71 | J7: =VLOOKUP(A7,Дальнереч!$B$5:$E$71,4,0) -> 137803.94 | K7: =J7/I7*100 -> 111.84776 | L7: =J7-I7 -> 14597.232 | M7: =J7/$J$7*100 -> 100 | N7: =VLOOKUP(C7,Красноармейский!A5:F79,4,0) -> 111377 | O7: =VLOOKUP(C7,Красноармейский!$A$5:$E$79,5,0) -> 118138.74 | P7: =O7/N7*100 -> 106.07104 | Q7: =O7-N7 -> 6761.7372 | R7: =O7/$O$7*100 -> 100 | S7: =VLOOKUP(C7,Спасский!$J$9:$M$160,2,0) -> 236198.05 | T7: =VLOOKUP(C7,Спасский!$J$9:$L$160,3,0) -> 265569.62 | U7: =T7/S7*100 -> 112.43514 | V7: =T7-S7 -> 29371.568 | W7: =T7/$T$7*100 -> 100 | X7: =VLOOKUP(C7,Черниговский!$C$7:$F$97,2,0) -> 402812.56 | Y7: =VLOOKUP(C7,Черниговский!$C$7:$F$97,3,0) -> 405399.13 | Z7: =Y7/X7*100 -> 100.64213 | AA7: =Y7-X7 -> 2586.57 | AB7: =Y7/$Y$7*100 -> 100
A8: НАЛОГИ НА ПРИБЫЛЬ, ДОХОДЫ | C8: 000 1 01 00000 00 0000 000 | D8: 248494 | E8: 250619.78 | F8: =E8/D8*100 -> 100.85547 | G8: =E8-D8 -> 2125.7826 | H8: =E8/$E$7*100 -> 89.201917 | I8: =VLOOKUP(A8,Дальнереч!$B$5:$E$71,3,0) -> 99862 | J8: =VLOOKUP(A8,Дальнереч!$B$5:$E$71,4,0) -> 112544.42 | K8: =J8/I8*100 -> 112.69995 | L8: =J8-I8 -> 12682.421 | M8: =J8/$J$7*100 -> 81.669957 | N8: =VLOOKUP(C8,Красноармейский!A6:F80,4,0) -> 29685 | O8: =VLOOKUP(C8,Красноармейский!$A$5:$E$79,5,0) -> 31042.142 | P8: =O8/N8*100 -> 104.57181 | Q8: =O8-N8 -> 1357.1423 | R8: =O8/$O$7*100 -> 26.276007 | S8: =VLOOKUP(C8,Спасский!$J$9:$M$160,2,0) -> 175960.31 | T8: =VLOOKUP(C8,Спасский!$J$9:$L$160,3,0) -> 200499.97 | U8: =T8/S8*100 -> 113.94614 | V8: =T8-S8 -> 24539.664 | W8: =T8/$T$7*100 -> 75.498084 | X8: =VLOOKUP(C8,Черниговский!$C$7:$F$97,2,0) -> 355686 | Y8: =VLOOKUP(C8,Черниговский!$C$7:$F$97,3,0) -> 354250.45 | Z8: =Y8/X8*100 -> 99.5964 | AA8: =Y8-X8 -> -1435.55 | AB8: =Y8/$Y$7*100 -> 87.38313
A9: Налог на доходы физических лиц | C9: 000 1 01 02000 01 0000 110 | D9: 248494 | E9: 250619.78 | F9: =E9/D9*100 -> 100.85547 | G9: =E9-D9 -> 2125.7826 | H9: =E9/$E$7*100 -> 89.201917 | I9: =VLOOKUP(A9,Дальнереч!$B$5:$E$71,3,0) -> 99862 | J9: =VLOOKUP(A9,Дальнереч!$B$5:$E$71,4,0) -> 112544.42 | K9: =J9/I9*100 -> 112.69995 | L9: =J9-I9 -> 12682.421 | M9: =J9/$J$7*100 -> 81.669957 | N9: =VLOOKUP(C9,Красноармейский!A7:F81,4,0) -> 29685 | O9: =VLOOKUP(C9,Красноармейский!$A$5:$E$79,5,0) -> 31042.142 | P9: =O9/N9*100 -> 104.57181 | Q9: =O9-N9 -> 1357.1423 | R9: =O9/$O$7*100 -> 26.276007 | S9: =VLOOKUP(C9,Спасский!$J$9:$M$160,2,0) -> 175960.31 | T9: =VLOOKUP(C9,Спасский!$J$9:$L$160,3,0) -> 200499.97 | U9: =T9/S9*100 -> 113.94614 | V9: =T9-S9 -> 24539.664 | W9: =T9/$T$7*100 -> 75.498084 | X9: =VLOOKUP(C9,Черниговский!$C$7:$F$97,2,0) -> 355686 | Y9: =VLOOKUP(C9,Черниговский!$C$7:$F$97,3,0) -> 354250.45 | Z9: =Y9/X9*100 -> 99.5964 | AA9: =Y9-X9 -> -1435.55 | AB9: =Y9/$Y$7*100 -> 87.38313
A10: НАЛОГИ НА ТОВАРЫ (РАБОТЫ, УСЛУГИ), РЕАЛИЗУЕМЫЕ НА ТЕРРИТОРИИ РОССИЙСКОЙ ФЕДЕРАЦИИ | C10: 000 1 03 00000 00 0000 000 | D10: 2000 | E10: 2826.6311 | F10: =E10/D10*100 -> 141.33155 | G10: =E10-D10 -> 826.63107 | H10: =E10/$E$7*100 -> 1.0060695 | I10: =I11 -> 10891.51 | J10: =J11 -> 11100.889 | K10: =J10/I10*100 -> 101.9224 | L10: =J10-I10 -> 209.37868 | M10: =J10/$J$7*100 -> 8.0555669 | N10: =VLOOKUP(C10,Красноармейский!A8:F82,4,0) -> 46509 | O10: =VLOOKUP(C10,Красноармейский!$A$5:$E$79,5,0) -> 48893.153 | P10: =O10/N10*100 -> 105.12622 | Q10: =O10-N10 -> 2384.1527 | R10: =O10/$O$7*100 -> 41.386216 | S10: =VLOOKUP(C10,Спасский!$J$9:$M$160,2,0) -> 22000 | T10: =VLOOKUP(C10,Спасский!$J$9:$L$160,3,0) -> 24730.615 | U10: =T10/S10*100 -> 112.41189 | V10: =T10-S10 -> 2730.6149 | W10: =T10/$T$7*100 -> 9.3122907 | X10: =VLOOKUP(C10,Черниговский!$C$7:$F$97,2,0) -> 13122 | Y10: =VLOOKUP(C10,Черниговский!$C$7:$F$97,3,0) -> 14446.08 | Z10: =Y10/X10*100 -> 110.09053 | AA10: =Y10-X10 -> 1324.08 | AB10: =Y10/$Y$7*100 -> 3.5634216
A11: Акцизы по подакцизным товарам (продукции), производимым на территории Российской Федерации | C11: 000 1 03 02000 01 0000 110 | D11: 2000 | E11: 2826.6311 | F11: =E11/D11*100 -> 141.33155 | G11: =E11-D11 -> 826.63107 | H11: =E11/$E$7*100 -> 1.0060695 | I11: =VLOOKUP(A11,Дальнереч!$B$5:$E$71,3,0) -> 10891.51 | J11: =VLOOKUP(A11,Дальнереч!$B$5:$E$71,4,0) -> 11100.889 | K11: =J11/I11*100 -> 101.9224 | L11: =J11-I11 -> 209.37868 | M11: =J11/$J$7*100 -> 8.0555669 | N11: =VLOOKUP(C11,Красноармейский!A9:F83,4,0) -> 46509 | O11: =VLOOKUP(C11,Красноармейский!$A$5:$E$79,5,0) -> 48893.153 | P11: =O11/N11*100 -> 105.12622 | Q11: =O11-N11 -> 2384.1527 | R11: =O11/$O$7*100 -> 41.386216 | S11: =VLOOKUP(C11,Спасский!$J$9:$M$160,2,0) -> 22000 | T11: =VLOOKUP(C11,Спасский!$J$9:$L$160,3,0) -> 24730.615 | U11: =T11/S11*100 -> 112.41189 | V11: =T11-S11 -> 2730.6149 | W11: =T11/$T$7*100 -> 9.3122907 | X11: =VLOOKUP(C11,Черниговский!$C$7:$F$97,2,0) -> 13122 | Y11: =VLOOKUP(C11,Черниговский!$C$7:$F$97,3,0) -> 14446.08 | Z11: =Y11/X11*100 -> 110.09053 | AA11: =Y11-X11 -> 1324.08 | AB11: =Y11/$Y$7*100 -> 3.5634216
A12: НАЛОГИ НА СОВОКУПНЫЙ ДОХОД | C12: 000 1 05 00000 00 0000 000 | D12: 9984 | E12: 11626.487 | F12: =E12/D12*100 -> 116.4512 | G12: =E12-D12 -> 1642.4874 | H12: =E12/$E$7*100 -> 4.1381608 | I12: =VLOOKUP(A12,Дальнереч!$B$5:$E$71,3,0) -> 2393.3263 | J12: =VLOOKUP(A12,Дальнереч!$B$5:$E$71,4,0) -> 2792.3728 | K12: =J12/I12*100 -> 116.6733 | L12: =J12-I12 -> 399.04653 | M12: =J12/$J$7*100 -> 2.0263374 | N12: =VLOOKUP(C12,Красноармейский!A10:F84,4,0) -> 5396 | O12: =VLOOKUP(C12,Красноармейский!$A$5:$E$79,5,0) -> 6335.8474 | P12: =O12/N12*100 -> 117.41748 | Q12: =O12-N12 -> 939.84742 | R12: =O12/$O$7*100 -> 5.3630567 | S12: =VLOOKUP(C12,Спасский!$J$9:$M$160,2,0) -> 7550 | T12: =VLOOKUP(C12,Спасский!$J$9:$L$160,3,0) -> 8330.3695 | U12: =T12/S12*100 -> 110.33602 | V12: =T12-S12 -> 780.36945 | W12: =T12/$T$7*100 -> 3.1367931 | X12: =VLOOKUP(C12,Черниговский!$C$7:$F$97,2,0) -> 14626.7 | Y12: =VLOOKUP(C12,Черниговский!$C$7:$F$97,3,0) -> 15905.48 | Z12: =Y12/X12*100 -> 108.74278 | AA12: =Y12-X12 -> 1278.78 | AB12: =Y12/$Y$7*100 -> 3.9234125
A13: Налог, взимаемый в связи с применением упрощенной системы налогообложения | C13: 000 1 05 01000 00 0000 000 | D13: 1480 | E13: 1469.9512 | F13: =E13/D13*100 -> 99.321026 | G13: =E13-D13 -> -10.04882 | H13: =E13/$E$7*100 -> 0.52319279 | I13: =VLOOKUP(A13,Дальнереч!$B$5:$E$71,3,0) -> 168 | J13: =VLOOKUP(A13,Дальнереч!$B$5:$E$71,4,0) -> 209.19958 | K13: =J13/I13*100 -> 124.52356 | L13: =J13-I13 -> 41.19958 | M13: =J13/$J$7*100 -> 0.15180958 | N13: 680 | O13: 703 | P13: =O13/N13*100 -> 103.38235 | Q13: =O13-N13 -> 23 | R13: =O13/$O$7*100 -> 0.59506307 | S13: 450 | T13: 462.1 | U13: =T13/S13*100 -> 102.68889 | V13: =T13-S13 -> 12.1 | W13: =T13/$T$7*100 -> 0.17400334 | X13: 870 | Y13: 910.58 | Z13: =Y13/X13*100 -> 104.66437 | AA13: =Y13-X13 -> 40.58 | AB13: =Y13/$Y$7*100 -> 0.22461321
A14: Единый налог на вмененный доход для отдельных видов деятельности | C14: 000 1 05 02000 00 0000 110 | D14: 3256 | E14: 3220.843 | F14: =E14/D14*100 -> 98.92024 | G14: =E14-D14 -> -35.15699 | H14: =E14/$E$7*100 -> 1.1463795 | I14: =VLOOKUP(A14,Дальнереч!$B$5:$E$71,3,0) -> 458.82609 | J14: =VLOOKUP(A14,Дальнереч!$B$5:$E$71,4,0) -> 461.61866 | K14: =J14/I14*100 -> 100.60863 | L14: =J14-I14 -> 2.79257 | M14: =J14/$J$7*100 -> 0.33498219 | N14: 1718 | O14: 1783.6 | P14: =O14/N14*100 -> 103.81839 | Q14: =O14-N14 -> 65.6 | R14: =O14/$O$7*100 -> 1.5097504 | S14: 1350 | T14: 1337.07 | U14: =T14/S14*100 -> 99.042222 | V14: =T14-S14 -> -12.93 | W14: =T14/$T$7*100 -> 0.5034725 | X14: 3900 | Y14: 3836.92 | Z14: =Y14/X14*100 -> 98.382564 | AA14: =Y14-X14 -> -63.08 | AB14: =Y14/$Y$7*100 -> 0.94645492
A15: Единый сельскохозяйственный налог | C15: 000 1 05 03000 01 0000 110 | D15: 8 | E15: 6.75242 | F15: =E15/D15*100 -> 84.40525 | G15: =E15-D15 -> -1.24758 | H15: =E15/$E$7*100 -> 0.002403357 | I15: =VLOOKUP(A15,Дальнереч!$B$5:$E$71,3,0) -> 890.30021 | J15: =VLOOKUP(A15,Дальнереч!$B$5:$E$71,4,0) -> 890.34695 | K15: =J15/I15*100 -> 100.00525 | L15: =J15-I15 -> 0.04674 | M15: =J15/$J$7*100 -> 0.64609687 | N15: =VLOOKUP(C15,Красноармейский!A13:F87,4,0) -> 118 | O15: =VLOOKUP(C15,Красноармейский!$A$5:$E$79,5,0) -> 118.3194 | P15: =O15/N15*100 -> 100.27068 | Q15: =O15-N15 -> 0.3194 | R15: =O15/$O$7*100 -> 0.10015292 | S15: =VLOOKUP(C15,Спасский!$J$9:$M$160,2,0) -> 1150 | T15: =VLOOKUP(C15,Спасский!$J$9:$L$160,3,0) -> 1167.8358 | U15: =T15/S15*100 -> 101.55094 | V15: =T15-S15 -> 17.83583 | W15: =T15/$T$7*100 -> 0.43974753 | X15: =VLOOKUP(C15,Черниговский!$C$7:$F$97,2,0) -> 1400 | Y15: =VLOOKUP(C15,Черниговский!$C$7:$F$97,3,0) -> 1449.91 | Z15: =Y15/X15*100 -> 103.565 | AA15: =Y15-X15 -> 49.91 | AB15: =Y15/$Y$7*100 -> 0.35765
A16: Налог, взимаемый в связи с применением патентной системы налогообложения | C16: 000 1 05 04000 02 0000 110 | D16: 5240 | E16: 6928.9408 | F16: =E16/D16*100 -> 132.23169 | G16: =E16-D16 -> 1688.9408 | H16: =E16/$E$7*100 -> 2.4661852 | I16: 876.2 | J16: =VLOOKUP(A16,Дальнереч!$B$5:$E$71,4,0) -> 1231.2076 | K16: =J16/I16*100 -> 140.51674 | L16: =J16-I16 -> 355.00764 | M16: =J16/$J$7*100 -> 0.89344878 | N16: 2880 | O16: 3730.92 | P16: =O16/N16*100 -> 129.54583 | Q16: =O16-N16 -> 850.92 | R16: =O16/$O$7*100 -> 3.1580835 | S16: =VLOOKUP(C16,Спасский!$J$9:$M$160,2,0) -> 4600 | T16: =VLOOKUP(C16,Спасский!$J$9:$L$160,3,0) -> 5363.3698 | U16: =T16/S16*100 -> 116.595 | V16: =T16-S16 -> 763.36981 | W16: =T16/$T$7*100 -> 2.0195721 | X16: =VLOOKUP(C16,Черниговский!$C$7:$F$97,2,0) -> 8456.7 | Y16: =VLOOKUP(C16,Черниговский!$C$7:$F$97,3,0) -> 9708.07 | Z16: =Y16/X16*100 -> 114.79738 | AA16: =Y16-X16 -> 1251.37 | AB16: =Y16/$Y$7*100 -> 2.3946943
A17: НАЛОГИ НА ИМУЩЕСТВО | C17: 000 1 06 00000 00 0000 000 | I17: 5 | J17: -18.68 | K17: =J17/I17*100 -> -373.6 | L17: =J17-I17 -> -23.68 | M17: =J17/$J$7*100 -> -0.01355549 | Y17: =VLOOKUP(C17,Черниговский!$C$7:$F$97,3,0) -> -3.9 | AA17: =Y17-X17 -> -3.9 | AB17: =Y17/$Y$7*100 -> -0.00096201489
A18: Налог на имущество физических лиц | C18: 000 1 06 01000 00 0000 110 | I18: =I19 -> 0 | J18: =J19 -> -16.14546 | L18: =J18-I18 -> -16.14546 | M18: =J18/$J$7*100 -> -0.011716254 | Y18: =VLOOKUP(C18,Черниговский!$C$7:$F$97,3,0) -> -0.33 | AA18: =Y18-X18 -> -0.33 | AB18: =Y18/$Y$7*100 -> -8.140126e-05
A19: Налог на имущество физических лиц, взимаемый по ставкам, применяемым к объектам налогообложения, расположенным в границах межселенных территорий | C19: 000 1 06 01030 05 0000 110 | I19: =VLOOKUP(A19,Дальнереч!$B$5:$E$71,3,0) -> 0 | J19: =VLOOKUP(A19,Дальнереч!$B$5:$E$71,4,0) -> -16.14546 | L19: =J19-I19 -> -16.14546 | M19: =J19/$J$7*100 -> -0.011716254
A20: Земельный налог | C20: 000 1 06 06000 00 0000 110 | I20: =VLOOKUP(A20,Дальнереч!$B$5:$E$71,3,0) -> 5 | J20: =VLOOKUP(A20,Дальнереч!$B$5:$E$71,4,0) -> -2.53798 | K20: =J20/I20*100 -> -50.7596 | L20: =J20-I20 -> -7.53798 | M20: =J20/$J$7*100 -> -0.0018417325 | Y20: =VLOOKUP(C20,Черниговский!$C$7:$F$97,3,0) -> -3.57 | AA20: =Y20-X20 -> -3.57 | AB20: =Y20/$Y$7*100 -> -0.00088061363
A21: Земельный налог с организаций | C21: 000 1 06 06030 00 0000 110 | Y21: =VLOOKUP(C21,Черниговский!$C$7:$F$97,3,0) -> -3.98 | AA21: =Y21-X21 -> -3.98 | AB21: =Y21/$Y$7*100 -> -0.00098174853
A22: Земельный налог с организаций, обладающих земельным участком, расположенным в границах межселенных территорий | C22: 000 1 06 06033 05 0000 110
A23: Земельный налог с физических лиц | C23: 000 1 06 06040 00 0000 110 | I23: 5 | J23: -2.54 | K23: =J23/I23*100 -> -50.8 | L23: =J23-I23 -> -7.54 | M23: =J23/$J$7*100 -> -0.0018431984 | Y23: =VLOOKUP(C23,Черниговский!$C$7:$F$97,3,0) -> 0.41 | AA23: =Y23-X23 -> 0.41 | AB23: =Y23/$Y$7*100 -> 0.0001011349
A24: Земельный налог с физических лиц, обладающих земельным участком, расположенным в границах межселенных территорий | C24: 000 1 06 06043 05 0000 110 | I24: 5 | J24: -2.54 | K24: =J24/I24*100 -> -50.8 | L24: =J24-I24 -> -7.54 | M24: =J24/$J$7*100 -> -0.0018431984
A25: ГОСУДАРСТВЕННАЯ ПОШЛИНА | C25: 000 1 08 00000 00 0000 000 | D25: 3709 | E25: 3677.1667 | F25: =E25/D25*100 -> 99.141729 | G25: =E25-D25 -> -31.83328 | H25: =E25/$E$7*100 -> 1.3087966 | I25: =VLOOKUP(A25,Дальнереч!$B$5:$E$71,3,0) -> 200 | J25: =VLOOKUP(A25,Дальнереч!$B$5:$E$71,4,0) -> 323.77686 | K25: =J25/I25*100 -> 161.88843 | L25: =J25-I25 -> 123.77686 | M25: =J25/$J$7*100 -> 0.23495472 | N25: =VLOOKUP(C25,Красноармейский!$A$5:$E$79,4,0) -> 1600 | O25: =VLOOKUP(C25,Красноармейский!$A$5:$E$79,5,0) -> 1691.0471 | P25: =O25/N25*100 -> 105.69045 | Q25: =O25-N25 -> 91.04714 | R25: =O25/$O$7*100 -> 1.4314078 | S25: =VLOOKUP(C25,Спасский!$J$9:$M$160,2,0) -> 4500 | T25: =VLOOKUP(C25,Спасский!$J$9:$L$160,3,0) -> 4386.6345 | U25: =T25/S25*100 -> 97.480766 | V25: =T25-S25 -> -113.36552 | W25: =T25/$T$7*100 -> 1.6517833 | X25: =VLOOKUP(C25,Черниговский!$C$7:$F$97,2,0) -> 3970 | Y25: =VLOOKUP(C25,Черниговский!$C$7:$F$97,3,0) -> 3956.87 | Z25: =Y25/X25*100 -> 99.66927 | AA25: =Y25-X25 -> -13.13 | AB25: =Y25/$Y$7*100 -> 0.97604304
A26: Государственная пошлина по делам, рассматриваемым в судах общей юрисдикции, мировыми судьями | C26: 000 1 08 03000 01 0000 110 | D26: 3709 | E26: 3677.1667 | F26: =E26/D26*100 -> 99.141729 | G26: =E26-D26 -> -31.83328 | H26: =E26/$E$7*100 -> 1.3087966 | I26: 200 | J26: 323.78 | K26: =J26/I26*100 -> 161.89 | L26: =J26-I26 -> 123.78 | M26: =J26/$J$7*100 -> 0.23495699 | N26: =N25 -> 1600 | O26: =O25 -> 1691.0471 | P26: =O26/N26*100 -> 105.69045 | Q26: =O26-N26 -> 91.04714 | R26: =O26/$O$7*100 -> 1.4314078 | S26: =VLOOKUP(C26,Спасский!$J$9:$M$160,2,0) -> 4500 | T26: =VLOOKUP(C26,Спасский!$J$9:$L$160,3,0) -> 4386.6345 | U26: =T26/S26*100 -> 97.480766 | V26: =T26-S26 -> -113.36552 | W26: =T26/$T$7*100 -> 1.6517833 | X26: =VLOOKUP(C26,Черниговский!$C$7:$F$97,2,0) -> 3955 | Y26: =VLOOKUP(C26,Черниговский!$C$7:$F$97,3,0) -> 3941.87 | Z26: =Y26/X26*100 -> 99.668015 | AA26: =Y26-X26 -> -13.13 | AB26: =Y26/$Y$7*100 -> 0.97234298
A27: Государственная пошлина за государственную регистрацию, а также за совершение прочих юридически значимых действий | C27: 000 1 08 07000 01 0000 110 | X27: 15 | Y27: 15 | AA27: =Y27-X27 -> 0 | AB27: =Y27/$Y$7*100 -> 0.0037000573
A28: ЗАДОЛЖЕННОСТЬ И ПЕРЕРАСЧЕТЫ ПО ОТМЕНЕННЫМ НАЛОГАМ, СБОРАМ И ИНЫМ ОБЯЗАТЕЛЬНЫМ ПЛАТЕЖАМ | C28: 000 1 09 00000 00 0000 110 | D28: 0 | E28: 0.0864 | G28: =E28-D28 -> 0.0864 | H28: =E28/$E$7*100 -> 3.0751944e-05 | I28: =VLOOKUP(A28,Дальнереч!$B$5:$E$71,3,0) -> 0 | J28: -41.99 | L28: =J28-I28 -> -41.99 | M28: =J28/$J$7*100 -> -0.030470826 | O28: 0.07 | Q28: =O28-N28 -> 0.07 | R28: =O28/$O$7*100 -> 5.9252369e-05
A29: ДОХОДЫ ОТ ИСПОЛЬЗОВАНИЯ ИМУЩЕСТВА, НАХОДЯЩЕГОСЯ В ГОСУДАРСТВЕННОЙ И МУНИЦИПАЛЬНОЙ СОБСТВЕННОСТИ | C29: 000 1 11 00000 00 0000 000 | D29: 6168 | E29: 6393.0288 | F29: =E29/D29*100 -> 103.64833 | G29: =E29-D29 -> 225.02882 | H29: =E29/$E$7*100 -> 2.2754406 | I29: =VLOOKUP(A29,Дальнереч!$B$5:$E$71,3,0) -> 8573.818 | J29: =VLOOKUP(A29,Дальнереч!$B$5:$E$71,4,0) -> 9039.0985 | K29: =J29/I29*100 -> 105.42676 | L29: =J29-I29 -> 465.28047 | M29: =J29/$J$7*100 -> 6.5593903 | N29: =VLOOKUP(C29,Красноармейский!$A$5:$E$79,4,0) -> 8503 | O29: =VLOOKUP(C29,Красноармейский!$A$5:$E$79,5,0) -> 8850.6922 | P29: =O29/N29*100 -> 104.08905 | Q29: =O29-N29 -> 347.69215 | R29: =O29/$O$7*100 -> 7.4917782 | S29: =VLOOKUP(C29,Спасский!$J$9:$M$160,2,0) -> 16601.24 | T29: =VLOOKUP(C29,Спасский!$J$9:$L$160,3,0) -> 14492.948 | U29: =T29/S29*100 -> 87.300393 | V29: =T29-S29 -> -2108.2922 | W29: =T29/$T$7*100 -> 5.4573064 | X29: =VLOOKUP(C29,Черниговский!$C$7:$F$97,2,0) -> 9915 | Y29: =VLOOKUP(C29,Черниговский!$C$7:$F$97,3,0) -> 11141.48 | Z29: =Y29/X29*100 -> 112.36994 | AA29: =Y29-X29 -> 1226.48 | AB29: =Y29/$Y$7*100 -> 2.7482743
A30: Доходы, получаемые в виде арендной либо иной платы за передачу в возмездное пользование государственного и муниципального имущества (за исключением имущества бюджетных и автономных учреждений, а также имущества государственных и муниципальных унитарных предприятий, в том числе казенных) | C30: 000 1 11 05000 00 0000 120 | D30: =D31+D32+D33+D34+D35 -> 5870 | E30: =E31+E32+E33+E34+E35 -> 6075.4563 | F30: =E30/D30*100 -> 103.50011 | G30: =E30-D30 -> 205.45628 | H30: =E30/$E$7*100 -> 2.1624085 | I30: =I31+I32+I33+I34+I35 -> 8089.818 | J30: =J31+J32+J33+J34+J35 -> 8489.462 | K30: =J30/I30*100 -> 104.94009 | L30: =J30-I30 -> 399.644 | M30: =J30/$J$7*100 -> 6.1605364 | N30: =N31+N32+N33+N34+N35 -> 8503 | O30: =O31+O32+O33+O34+O35 -> 8783.2023 | P30: =O30/N30*100 -> 103.29533 | Q30: =O30-N30 -> 280.20225 | R30: =O30/$O$7*100 -> 7.4346505 | S30: =VLOOKUP(C30,Спасский!$J$9:$M$160,2,0) -> 14601.24 | T30: =VLOOKUP(C30,Спасский!$J$9:$L$160,3,0) -> 12907.433 | U30: =T30/S30*100 -> 88.399565 | V30: =T30-S30 -> -1693.8074 | W30: =T30/$T$7*100 -> 4.8602821 | X30: =VLOOKUP(C30,Черниговский!$C$7:$F$97,2,0) -> 8814.72 | Y30: =VLOOKUP(C30,Черниговский!$C$7:$F$97,3,0) -> 9999.1 | Z30: =Y30/X30*100 -> 113.43639 | AA30: =Y30-X30 -> 1184.38 | AB30: =Y30/$Y$7*100 -> 2.4664828
A31: Доходы, получаемые в виде арендной платы за земельные участки, государственная собственность на которые не разграничена и которые расположены в границах сельских поселений и межселенных территорий муниципальных районов, а также средства от продажи права на заключение договоров аренды указанных земельных участков | C31: 000 1 11 05013 05 0000 120 | D31: 85 | E31: 88.23759 | F31: =E31/D31*100 -> 103.80893 | G31: =E31-D31 -> 3.23759 | H31: =E31/$E$7*100 -> 0.031405989 | I31: 6908 | J31: 7272.62 | K31: =J31/I31*100 -> 105.27823 | L31: =J31-I31 -> 364.62 | M31: =J31/$J$7*100 -> 5.2775123 | N31: =VLOOKUP(C31,Красноармейский!$A$5:$E$79,4,0) -> 6926 | O31: =VLOOKUP(C31,Красноармейский!$A$5:$E$79,5,0) -> 7219.7762 | P31: =O31/N31*100 -> 104.24164 | Q31: =O31-N31 -> 293.77621 | R31: =O31/$O$7*100 -> 6.1112692 | S31: =VLOOKUP(C31,Спасский!$J$9:$M$160,2,0) -> 13379.16 | T31: =VLOOKUP(C31,Спасский!$J$9:$L$160,3,0) -> 11841.211 | U31: =T31/S31*100 -> 88.504894 | V31: =T31-S31 -> -1537.9486 | W31: =T31/$T$7*100 -> 4.4587975 | X31: 6199.72 | Y31: 6906.33 | Z31: =Y31/X31*100 -> 111.39745 | AA31: =Y31-X31 -> 706.61 | AB31: =Y31/$Y$7*100 -> 1.7035878
A32: Доходы, получаемые в виде арендной платы за земельные участки, государственная собственность на которые не разграничена и которые расположены в границах городских поселений, а также средства от продажи права на заключение договоров аренды указанных земельных участков | C32: 000 1 11 05013 13 0000 120 | D32: 2132 | E32: 2170.4628 | F32: =E32/D32*100 -> 101.80407 | G32: =E32-D32 -> 38.46282 | H32: =E32/$E$7*100 -> 0.77252259 | N32: =VLOOKUP(C32,Красноармейский!$A$5:$E$79,4,0) -> 780 | O32: =VLOOKUP(C32,Красноармейский!$A$5:$E$79,5,0) -> 784.39431 | P32: =O32/N32*100 -> 100.56337 | Q32: =O32-N32 -> 4.39431 | R32: =O32/$O$7*100 -> 0.6639603
A33: Доходы, получаемые в виде арендной платы, а также средства за продажи права за земельные участки, находящиеся в собственности муниципальных районов (за исключением земельных участков муниципальных бюджетных и автономных учреждений) | C33: 000 1 11 05025 05 0000 120 | D33: 2046 | E33: 2086.3091 | F33: =E33/D33*100 -> 101.97014 | G33: =E33-D33 -> 40.3091 | H33: =E33/$E$7*100 -> 0.74257015
A34: Доходы от сдачи в аренду имущества, находящегося в оперативном управлении органов управления муниципальных районов и созданных ими учреждений (за исключением имущества муниципальных бюджетных и автономных учреждений) | C34: 000 1 11 05035 05 0000 120 | E34: -20 | G34: =E34-D34 -> -20 | I34: =VLOOKUP(A34,Дальнереч!$B$5:$E$71,3,0) -> 366.618 | J34: =VLOOKUP(A34,Дальнереч!$B$5:$E$71,4,0) -> 357.802 | K34: =J34/I34*100 -> 97.595317 | L34: =J34-I34 -> -8.816 | M34: =J34/$J$7*100 -> 0.25964569 | S34: =VLOOKUP(C34,Спасский!$J$9:$M$160,2,0) -> 657.93 | T34: =VLOOKUP(C34,Спасский!$J$9:$L$160,3,0) -> 565.19235 | U34: =T34/S34*100 -> 85.904633 | V34: =T34-S34 -> -92.73765 | W34: =T34/$T$7*100 -> 0.21282267
A35: Доходы от сдачи в аренду имущества, составляющего казну муниципальных районов (за исключением земельных участков) | C35: 000 1 11 05075 05 0000 120 | D35: 1607 | E35: 1750.4468 | F35: =E35/D35*100 -> 108.92637 | G35: =E35-D35 -> 143.44677 | H35: =E35/$E$7*100 -> 0.62302826 | I35: 815.2 | J35: 859.04 | K35: =J35/I35*100 -> 105.37782 | L35: =J35-I35 -> 43.84 | M35: =J35/$J$7*100 -> 0.62337839 | N35: =VLOOKUP(C35,Красноармейский!$A$5:$E$79,4,0) -> 797 | O35: =VLOOKUP(C35,Красноармейский!$A$5:$E$79,5,0) -> 779.03173 | P35: =O35/N35*100 -> 97.745512 | Q35: =O35-N35 -> -17.96827 | R35: =O35/$O$7*100 -> 0.65942107 | S35: =VLOOKUP(C35,Спасский!$J$9:$M$160,2,0) -> 564.15 | T35: =VLOOKUP(C35,Спасский!$J$9:$L$160,3,0) -> 501.0289 | U35: =T35/S35*100 -> 88.811291 | V35: =T35-S35 -> -63.1211 | W35: =T35/$T$7*100 -> 0.18866198 | X35: 2615 | Y35: 3092.77 | Z35: =Y35/X35*100 -> 118.27036 | AA35: =Y35-X35 -> 477.77 | AB35: =Y35/$Y$7*100 -> 0.76289508
A36: Плата по соглашениям об установлении сервитута в отношении земельных участков, находящихся в государственной или муниципальной собственности | C36: 000 1 11 05300 00 0000 120 | X36: 0.28 | Y36: 0.28 | AA36: =Y36-X36 -> 0 | AB36: =Y36/$Y$7*100 -> 6.9067736e-05
A37: Плата по соглашениям об установлении сервитута в отношении земельных участков, государственная собственность на которые не разграничена | C37: 000 1 11 05310 00 0000 120 | X37: 0.28 | Y37: 0.28 | AA37: =Y37-X37 -> 0 | AB37: =Y37/$Y$7*100 -> 6.9067736e-05
A38: Прочие доходы от использования имущества и прав, находящихся в государственной и муниципальной собственности (за исключением имущества бюджетных и автономных учреждений, а также имущества государственных и муниципальных унитарных предприятий, в том числе казенных) | C38: 000 1 11 09000 00 0000 120 | D38: =D39 -> 298 | E38: =E39 -> 317.57254 | F38: =E38/D38*100 -> 106.56797 | G38: =E38-D38 -> 19.57254 | H38: =E38/$E$7*100 -> 0.1130321 | I38: =I39 -> 484 | J38: =J39 -> 549.64 | K38: =J38/I38*100 -> 113.56198 | L38: =J38-I38 -> 65.64 | M38: =J38/$J$7*100 -> 0.39885651 | N38: =N39 -> 0 | O38: =O39 -> 67.4899 | Q38: =O38-N38 -> 67.4899 | R38: =O38/$O$7*100 -> 0.057127663 | S38: =VLOOKUP(C38,Спасский!$J$9:$M$160,2,0) -> 2000 | T38: =VLOOKUP(C38,Спасский!$J$9:$L$160,3,0) -> 1585.5091 | U38: =T38/S38*100 -> 79.275454 | V38: =T38-S38 -> -414.49092 | W38: =T38/$T$7*100 -> 0.59702201 | X38: =VLOOKUP(C38,Черниговский!$C$7:$F$97,2,0) -> 1100 | Y38: =VLOOKUP(C38,Черниговский!$C$7:$F$97,3,0) -> 1142.1 | Z38: =Y38/X38*100 -> 103.82727 | AA38: =Y38-X38 -> 42.1 | AB38: =Y38/$Y$7*100 -> 0.28172236
A39: Прочие поступления от использования имущества, находящегося в собственности муниципальных районов (за исключением имущества муниципальных бюджетных и автономных учреждений, а также имущества муниципальных унитарных предприятий, в том числе казенных ) | C39: 000 1 11 09045 05 0000 120 | D39: 298 | E39: 317.57254 | F39: =E39/D39*100 -> 106.56797 | G39: =E39-D39 -> 19.57254 | H39: =E39/$E$7*100 -> 0.1130321 | I39: 484 | J39: 549.64 | K39: =J39/I39*100 -> 113.56198 | L39: =J39-I39 -> 65.64 | M39: =J39/$J$7*100 -> 0.39885651 | N39: =VLOOKUP(C39,Красноармейский!$A$5:$E$79,4,0) -> 0 | O39: =VLOOKUP(C39,Красноармейский!$A$5:$E$79,5,0) -> 67.4899 | Q39: =O39-N39 -> 67.4899 | R39: =O39/$O$7*100 -> 0.057127663 | S39: =VLOOKUP(C39,Спасский!$J$9:$M$160,2,0) -> 2000 | T39: =VLOOKUP(C39,Спасский!$J$9:$L$160,3,0) -> 1585.5091 | U39: =T39/S39*100 -> 79.275454 | V39: =T39-S39 -> -414.49092 | W39: =T39/$T$7*100 -> 0.59702201 | X39: 1100 | Y39: 1142.1 | Z39: =Y39/X39*100 -> 103.82727 | AA39: =Y39-X39 -> 42.1 | AB39: =Y39/$Y$7*100 -> 0.28172236
A40: ПЛАТЕЖИ ПРИ ПОЛЬЗОВАНИИ ПРИРОДНЫМИ РЕСУРСАМИ | C40: 000 1 12 00000 00 0000 000 | D40: 380 | E40: 370.95158 | F40: =E40/D40*100 -> 97.618837 | G40: =E40-D40 -> -9.04842 | H40: =E40/$E$7*100 -> 0.13203105 | I40: =VLOOKUP(A40,Дальнереч!$B$5:$E$71,3,0) -> 53.74686 | J40: =VLOOKUP(A40,Дальнереч!$B$5:$E$71,4,0) -> 53.74686 | K40: =J40/I40*100 -> 100 | L40: =J40-I40 -> 0 | M40: =J40/$J$7*100 -> 0.039002411 | N40: =VLOOKUP(C40,Красноармейский!$A$5:$E$79,4,0) -> 770 | O40: =VLOOKUP(C40,Красноармейский!$A$5:$E$79,5,0) -> 777.01486 | P40: =O40/N40*100 -> 100.91102 | Q40: =O40-N40 -> 7.01486 | R40: =O40/$O$7*100 -> 0.65771387 | S40: =VLOOKUP(C40,Спасский!$J$9:$M$160,2,0) -> 5400 | T40: =VLOOKUP(C40,Спасский!$J$9:$L$160,3,0) -> 8257.3119 | U40: =T40/S40*100 -> 152.91318 | V40: =T40-S40 -> 2857.3119 | W40: =T40/$T$7*100 -> 3.1092833 | X40: =VLOOKUP(C40,Черниговский!$C$7:$F$97,2,0) -> 1098.36 | Y40: =VLOOKUP(C40,Черниговский!$C$7:$F$97,3,0) -> 1110.74 | Z40: =Y40/X40*100 -> 101.12714 | AA40: =Y40-X40 -> 12.38 | AB40: =Y40/$Y$7*100 -> 0.27398677
...

Sheet Дальнереч
I1: 1000
A2: тыс. рублей
A3: Код бюджетной классификации Российской Федерации | B3: Наименование доходов | C3: Первоначальный план | D3: План уточненный на 2021 год | E3: Фактическое исполнение за 2021 год | F3: Исполнение к первоначальному плану (%) | G3: Исполнение к уточненному плану (%)
A4: 1 | B4: 2 | C4: 3 | D4: 3 | E4: 4 | F4: 6 | G4: 5
A5: 100 00000 00 0000 000 | B5: НАЛОГОВЫЕ И НЕНАЛОГОВЫЕ ДОХОДЫ | C5: 122755.73 | D5: 123206.71 | E5: 137803.94 | F5: 112.25866 | G5: 111.84776
B6: Налоговые доходы | C6: 111203.53 | D6: 113351.84 | E6: 126700.78 | F6: 113.93594 | G6: 111.77656
A7: 101 00000 00 0000000 | B7: НАЛОГИ НА ПРИБЫЛЬ, ДОХОДЫ | C7: 99862 | D7: 99862 | E7: 112544.42 | F7: 112.69995 | G7: 112.69995
A8: 101 02000 01 0000 110 | B8: Налог на доходы физических лиц | C8: 99862 | D8: 99862 | E8: 112544.42 | F8: 112.69995 | G8: 112.69995
A9: 103 02000 01 0000 110 | B9: Акцизы по подакцизным товарам (продукции), производимым на территории Российской Федерации | C9: 10440.53 | D9: 10891.51 | E9: 11100.889 | F9: 106.32495 | G9: 101.9224
A10: 103 02230 01 0000 110 | B10: Доходы от уплаты акцизов на дизельное топливо, подлежащие распределению между бюджетами субъектов Российской Федерации и местными бюджетами с учетом установленных дифференцированных нормативов отчислений в местные бюджеты | C10: 4768.765 | D10: 5000.99 | E10: 5124.8317 | F10: 107.46664 | G10: 102.47634
A11: 103 02240 01 0000 110 | B11: Доходы от уплаты акцизов на моторные масла для дизельных и (или) карбюраторных (инжекторных) двигателей, подлежащие распределению между бюджетами субъектов Российской Федерации и местными бюджетами с учетом установленных дифференцированных нормативов отчислений в местные бюджеты | C11: 25.775 | D11: 28.5 | E11: 36.0416 | F11: 139.83162 | G11: 126.46175
A12: 103 02250 01 0000 110 | B12: Доходы от уплаты акцизов на автомобильный бензин, подлежащие распределению между бюджетами субъектов Российской Федерации и местными бюджетами с учетом установленных дифференцированных нормативов отчислений в местные бюджеты | C12: 6387.786 | D12: 6578.51 | E12: 6813.9308 | F12: 106.67124 | G12: 103.57863
A13: 103 02260 01 0000 110 | B13: Доходы от уплаты акцизов на прямогонный бензин, подлежащие распределению между бюджетами субъектов Российской Федерации и местными бюджетами с учетом установленных дифференцированных нормативов отчислений в местные бюджеты | C13: -741.796 | D13: -716.49 | E13: -873.91537 | F13: 117.81074 | G13: 121.97175
A14: 105 00000 00 0000 000 | B14: Налоги на совокупный доход | C14: 696 | D14: 2393.3263 | E14: 2792.3728 | F14: 401.20299 | G14: 116.6733
C15: 0 | D15: 0 | E15: 0
A16: 105 02000 02 0000 110 | B16: Единый налог на вмененный доход для отдельных видов деятельности | C16: 377 | D16: 458.82609 | E16: 461.61866 | F16: 122.44527 | G16: 100.60863
A17: 105 01000 00 0000 110 | B17: Налог, взимаемый в связи с применением упрощенной системы налогообложения | C17: 168 | D17: 168 | E17: 209.19958 | F17: 124.52356 | G17: 124.52356
A18: 105 03000 01 0000 110 | B18: Единый сельскохозяйственный налог | C18: 141 | D18: 890.30021 | E18: 890.34695 | F18: 631.45174 | G18: 100.00525
A19: 105 04000 02 0000 110 | B19: Налог, взимаемый в связи с применением патентной системы налогообложения | C19: 10 | D19: 876.2 | E19: 1231.2076 | F19: 12312.076 | G19: 140.51674
A20: 106 00000 00 0000 000 | B20: Налоги на имущество, всего | C20: 5 | D20: 5 | E20: -18.68344 | F20: -373.6688 | G20: -373.6688
A21: 106 01030 05 0000 110 | B21: Налог на имущество физических лиц, взимаемый по ставкам, применяемым к объектам налогообложения, расположенным в границах межселенных территорий | C21: 0 | D21: 0 | E21: -16.14546 | G21: 0
A22: 106 06000 00 0000 110 | B22: Земельный налог | C22: 5 | D22: 5 | E22: -2.53798 | F22: -50.7596 | G22: -50.7596
A23: 108 00000 00 0000 000 | B23: ГОСУДАРСТВЕННАЯ ПОШЛИНА | C23: 200 | D23: 200 | E23: 323.77686 | F23: 161.88843 | G23: 161.88843
A24: 109 00000 00 0000 000 | B24: Задолженность и перерасчеты по отмененным налогам, сборам и иным обязательным платежам | C24: 0 | D24: 0 | E24: -41.99188
B25: Неналоговые доходы всего: | C25: 11552.2 | D25: 9854.8737 | E25: 11103.158 | F25: 96.112932 | G25: 112.66667
A26: 111 00000 00 0000 120 | B26: Доходы от использования имущества, находящегося в государственной и муниципальной собственности | C26: 11252.2 | D26: 8573.818 | E26: 9039.0985 | F26: 80.331833 | G26: 105.42676
A27: 111 05013 05 0000 120 | B27: Доходы, получаемые в виде арендной платы за земельные участки, государственная собственность на которые не разграничена и которые расположены в границах сельских поселений и межселенных территорий муниципальных районов, а также средства от продажи права на заключение договоров аренды указанных земельных участков | C27: 9558 | D27: 6908 | E27: 7272.6153 | F27: 76.0893 | G27: 105.27816
A28: 111 05035 05 0000 120 | B28: Доходы от сдачи в аренду имущества, находящегося в оперативном управлении органов управления муниципальных районов и созданных ими учреждений (за исключением имущества муниципальных бюджетных и автономных учреждений) | C28: 395 | D28: 366.618 | E28: 357.802 | F28: 90.582785 | G28: 97.595317
A29: 111 05075 05 0000 120 | B29: Доходы от сдачи в аренду имущества, составляющего казну муниципальных районов (за исключением земельных участков) | C29: 815.2 | D29: 815.2 | E29: 859.03747 | F29: 105.37751 | G29: 105.37751
A30: 111 09045 05 0000 120 | B30: Прочие поступления от использования имущества, находящегося в собственности муниципальных районов (за исключением имущества муниципальных бюджетных и автономных учреждений, а также имущества муниципальных унитарных предприятий, в том числе казенных) | C30: 484 | D30: 484 | E30: 549.64371 | F30: 113.56275 | G30: 113.56275
A31: 112 00000 00 0000 120 | B31: Платежи при пользовании природными ресурсами | C31: 90 | D31: 53.74686 | E31: 53.74686 | F31: 59.718733 | G31: 100
A32: 112 01000 01 0000 120 | B32: Плата за негативное воздействие на окружающую среду | C32: 90 | D32: 53.74686 | E32: 53.74686 | F32: 59.718733 | G32: 100
C33: 0 | D33: 0 | E33: 0
A34: 113 00000 00 0000 000 | B34: Доходы от оказания платных услуг (работ) и компенсации затрат государства | C34: 90 | D34: 90 | E34: 408.1282 | F34: 453.47578 | G34: 453.47578
A35: 114 00000 00 0000 000 | B35: Доходы от продажи материальных и нематериальных активов | C35: 0 | D35: 453.67493 | E35: 469.13393 | G35: 103.40751
B36: из них: | C36: 0 | D36: 0 | E36: 0 | F36: #DIV/0! | G36: #DIV/0!
A37: 114 02053 05 0000 410 | B37: Доходы от реализации иного имущества, находящегося в собственности муниципальных районов (за исключением имущества муниципальных бюджетных и автономных учреждений, а также имущества муниципальных унитарных предприятий, в том числе казенных), в части реализации основных средств по указанному имуществу | C37: 0 | D37: 0 | E37: 0 | F37: #DIV/0! | G37: #DIV/0!
A38: 114 06013 10 0000 430 | B38: Доходы от продажи земельных участков, государственная собственность на которые не разграничена и которые расположены в границах сельских поселений | C38: 0 | D38: 453.67493 | E38: 469.13393 | G38: 103.40751
A39: 116 00000 00 0000 000 | B39: Штрафы, санкции, возмещение ущерба | C39: 120 | D39: 683.63391 | E39: 1130.6127 | F39: 942.17722 | G39: 165.38276
A40: 117 00000 00 0000 000 | B40: ПРОЧИЕ НЕНАЛОГОВЫЕ ДОХОДЫ | C40: 0 | D40: 0 | E40: 2.43804 | G40: 0
...

Sheet Красноармейский
G1: 1000
B2: тыс. рублей
B3: Код бюджетной классификации Российской Федерации | C3: Наименование налога (сбора) | D3: план | E3: факт | F3: %
B4: 1 | C4: 2 | D4: 3 | E4: 4 | F4: 5
A5: 000 1 00 00000 00 0000 000 | B5: 1 00 00000 00 0000 000 | C5: НАЛОГОВЫЕ И НЕНАЛОГОВЫЕ ДОХОДЫ | D5: 111377 | E5: 118138.74 | F5: 106.1
A6: ="000 "&B6 -> 000 1 01 00000 00 0000 000 | B6: 1 01 00000 00 0000 000 | C6: НАЛОГИ НА ПРИБЫЛЬ, ДОХОДЫ | D6: 29685 | E6: 31042.142 | F6: 104.6
A7: ="000 "&B7 -> 000 1 01 02000 01 0000 110 | B7: 1 01 02000 01 0000 110 | C7: Налог на доходы физических лиц | D7: 29685 | E7: 31042.142 | F7: 104.6
A8: ="000 "&B8 -> 000 1 03 00000 00 0000 000 | B8: 1 03 00000 00 0000 000 | C8: НАЛОГИ НА ТОВАРЫ (РАБОТЫ, УСЛУГИ), РЕАЛИЗУЕМЫЕ НА ТЕРРИТОРИИ РОССИЙСКОЙ ФЕДЕРАЦИИ | D8: 46509 | E8: 48893.153 | F8: 105.1
A9: ="000 "&B9 -> 000 1 03 02000 01 0000 110 | B9: 1 03 02000 01 0000 110 | C9: Акцизы по подакцизным товарам (продукции), производимым на территории Российской Федерации | D9: 46509 | E9: 48893.153 | F9: 105.1
A10: ="000 "&B10 -> 000 1 05 00000 00 0000 000 | B10: 1 05 00000 00 0000 000 | C10: НАЛОГИ НА СОВОКУПНЫЙ ДОХОД | D10: 5396 | E10: 6335.8474 | F10: 117.4
A11: ="000 "&B11 -> 000 1 05 01000 01 0000 000 | B11: 1 05 01000 01 0000 000 | C11: Налог, взимаемый в связи с применением упрощенной системы налогообложения, в том числе минимальный налог | D11: 680 | E11: 703.00303 | F11: 103.4
A12: ="000 "&B12 -> 000 1 05 02000 02 0000 110 | B12: 1 05 02000 02 0000 110 | C12: Единый налог на вмененный доход для отдельных видов деятельности | D12: 1718 | E12: 1783.6047 | F12: 103.8
A13: ="000 "&B13 -> 000 1 05 03000 01 0000 110 | B13: 1 05 03000 01 0000 110 | C13: Единый сельскохозяйственный налог | D13: 118 | E13: 118.3194 | F13: 100.3
A14: ="000 "&B14 -> 000 1 05 04020 02 0000 110 | B14: 1 05 04020 02 0000 110 | C14: Налог, взимаемый в связи с применением патентной системы налогообложения, зачисляемый в бюджеты муниципальных районов | D14: 2880 | E14: 3730.9203 | F14: 129.5
A15: ="000 "&B15 -> 000 1 08 00000 00 0000 000 | B15: 1 08 00000 00 0000 000 | C15: ГОСУДАРСТВЕННАЯ ПОШЛИНА | D15: 1600 | E15: 1691.0471 | F15: 105.7
A16: ="000 "&B16 -> 000 1 08 03010 01 0000 110 | B16: 1 08 03010 01 0000 110 | C16: Государственная пошлина по делам, рассматриваемым в судах общей юрисдикции, мировыми судьями (за исключением Верховного Суда Российской Федерации) | D16: 1600 | E16: 1691.0471 | F16: 105.7
A17: ="000 "&B17 -> 000 1 09 07000 00 0000 110 | B17: 1 09 07000 00 0000 110 | C17: ПРОЧИЕ НАЛОГИ И СБОРЫ (по отмененным местным налогам и сборам) | D17: 0 | E17: 0.0732
A18: ="000 "&B18 -> 000 1 11 00000 00 0000 000 | B18: 1 11 00000 00 0000 000 | C18: ДОХОДЫ ОТ ИСПОЛЬЗОВАНИЯ ИМУЩЕСТВА, НАХОДЯЩЕГОСЯ В ГОСУДАРСТВЕННОЙ И МУНИЦИПАЛЬНОЙ СОБСТВЕННОСТИ | D18: 8503 | E18: 8850.6922 | F18: 104.1
A19: ="000 "&B19 -> 000 1 11 05013 05 0000 120 | B19: 1 11 05013 05 0000 120 | C19: Доходы, получаемые в виде арендной платы за земельные участки, государственная собственность на которые не разграничена и которые расположены в границах сельских поселений и межселенных территорий муниципальных районов, а также средства от продажи права на заключение договоров аренды указанных земельных участков | D19: 6926 | E19: 7219.7762 | F19: 104.2
A20: ="000 "&B20 -> 000 1 11 05013 13 0000 120 | B20: 1 11 05013 13 0000 120 | C20: Доходы, получаемые в виде арендной платы за земельные участки, государственная собственность на которые не разграничена и которые расположены в границах городских поселений, а также средства от продажи права на заключение договоров аренды указанных земельных участков | D20: 780 | E20: 784.39431 | F20: 100.6
A21: ="000 "&B21 -> 000 1 11 05075 05 0000 120 | B21: 1 11 05075 05 0000 120 | C21: Доходы от сдачи в аренду имущества, составляющего казну муниципальных районов (за исключением земельных участков) | D21: 797 | E21: 779.03173 | F21: 97.7
A22: ="000 "&B22 -> 000 1 11 09045 05 0000 120 | B22: 1 11 09045 05 0000 120 | C22: Прочие поступления от использования имущества, находящегося в собственности муниципальных районов | D22: 0 | E22: 67.4899
A23: ="000 "&B23 -> 000 1 12 00000 00 0000 000 | B23: 1 12 00000 00 0000 000 | C23: ПЛАТЕЖИ ПРИ ПОЛЬЗОВАНИИ ПРИРОДНЫМИ РЕСУРСАМИ | D23: 770 | E23: 777.01486 | F23: 100.9
A24: ="000 "&B24 -> 000 1 12 01000 01 0000 120 | B24: 1 12 01000 01 0000 120 | C24: Плата за негативное воздействие на окружающую среду | D24: 770 | E24: 777.01486 | F24: 100.9
A25: ="000 "&B25 -> 000 1 13 00000 00 0000 000 | B25: 1 13 00000 00 0000 000 | C25: ДОХОДЫ ОТ ОКАЗАНИЯ ПЛАТНЫХ УСЛУГ И КОМПЕНСАЦИИ ЗАТРАТ ГОСУДАРСТВА | D25: 13204 | E25: 14607.802 | F25: 110.6
A26: ="000 "&B26 -> 000 1 13 01995 05 0000 130 | B26: 1 13 01995 05 0000 130 | C26: Прочие доходы от оказания платных услуг (работ) получателями средств бюджетов муниципальных районов | D26: 12634 | E26: 13988.302 | F26: 110.7
C27: Управление образованием АКМР | D27: 12634 | E27: 13988.302 | F27: 110.7
A28: ="000 "&B28 -> 000 1 13 02065 05 0000 130 | B28: 1 13 02065 05 0000 130 | C28: Доходы, поступающие в порядке возмещения расходов, понесенных в связи с эксплуатацией имущества муниципального района | D28: 230 | E28: 274.02688 | F28: 119.1
A29: ="000 "&B29 -> 000 1 13 02995 05 0000 130 | B29: 1 13 02995 05 0000 130 | C29: Прочие доходы от компенсации затрат бюджетов муниципального района | D29: 340 | E29: 345.47326 | F29: 101.6
A30: ="000 "&B30 -> 000 1 14 00000 00 0000 000 | B30: 1 14 00000 00 0000 000 | C30: ДОХОДЫ ОТ ПРОДАЖИ МАТЕРИАЛЬНЫХ И НЕМАТЕРИАЛЬНЫХ АКТИВОВ | D30: 3010 | E30: 3093.6236 | F30: 102.8
A31: ="000 "&B31 -> 000 1 14 02053 05 0000 440 | B31: 1 14 02053 05 0000 440 | C31: Доходы от реализации иного имущества, находящегося в собственности муниципальных районов, в части реализации материальных запасов по указанному имуществу | D31: 330 | E31: 403.19475 | F31: 122.2
A32: ="000 "&B32 -> 000 1 14 06013 05 0000 430 | B32: 1 14 06013 05 0000 430 | C32: Доходы от продажи земельных участков, государственная собственность на которые не разграничена и которые расположены в границах сельских поселений | D32: 2680 | E32: 2685.1486 | F32: 100.2
A33: ="000 "&B33 -> 000 1 14 06013 13 0000 430 | B33: 1 14 06013 13 0000 430 | C33: Доходы от продажи земельных участков, государственная собственность на которые не разграничена и которые расположены в границах городских поселений | D33: 0 | E33: 5.28019
A34: ="000 "&B34 -> 000 1 16 00000 00 0000 000 | B34: 1 16 00000 00 0000 000 | C34: ШТРАФЫ, САНКЦИИ, ВОЗМЕЩЕНИЕ УЩЕРБА | D34: 2700 | E34: 2847.5714 | F34: 105.5
A35: ="000 "&B35 -> 000 1 17 00000 00 0000 000 | B35: 1 17 00000 00 0000 000 | C35: ПРОЧИЕ НЕНАЛОГОВЫЕ ДОХОДЫ | D35: 0 | E35: -0.22981
A36: ="000 "&B36 -> 000 2 00 00000 00 0000 000 | B36: 2 00 00000 00 0000 000 | C36: БЕЗВОЗМЕЗДНЫЕ ПОСТУПЛЕНИЯ | D36: 1212705.5 | E36: 1130657.1 | F36: 93.2
A37: ="000 "&B37 -> 000 2 02 00000 00 0000 000 | B37: 2 02 00000 00 0000 000 | C37: Безвозмездные поступления от других бюджетов бюджетной системы Российской Федерации | D37: 1210205.5 | E37: 1128176.4 | F37: 93.2
A38: ="000 "&B38 -> 000 2 02 10000 00 0000 150 | B38: 2 02 10000 00 0000 150 | C38: Дотации бюджетам бюджетной системы Российской Федерации | D38: 382462.89 | E38: 382462.89 | F38: 100
A39: ="000 "&B39 -> 000 2 02 15001 05 0000 150 | B39: 2 02 15001 05 0000 150 | C39: Дотации бюджетам муниципальных районов на выравнивание бюджетной обеспеченности из бюджета субъекта Российской Федерации | D39: 349034.13 | E39: 349034.13 | F39: 100
A40: ="000 "&B40 -> 000 2 02 15002 05 0000 150 | B40: 2 02 15002 05 0000 150 | C40: Дотации бюджетам муниципальных образований на поддержку мер по обеспечению сбалансированности местных бюджетов | D40: 23428.76 | E40: 23428.76 | F40: 100
...

Sheet Спасский
N1: 1000
A2: рублей
A3: Наименование показателя | B3: Код строки | C3: Код дохода по бюджетной классификации | K3: Утвержденные бюджетные назначения | L3: Исполнено | M3: % исполнения
A6: 1 | B6: 2 | C6: 3 | K6: 5 | L6: 7 | M6: 8
A7: Доходы бюджета - всего | B7: 010 | C7: х | K7: 1040424 | L7: 1057621 | M7: 101.65288
A8: в том числе: | K8: 0 | L8: 0
A9: НАЛОГОВЫЕ И НЕНАЛОГОВЫЕ ДОХОДЫ | B9: 010 | C9: 000 | D9: 1 | E9: 00 | F9: 00000 | G9: 00 | H9: 0000 | I9: 000 | J9: =C9&" "&D9&" "&E9&" "&F9&" "&G9&" "&H9&" "&I9 -> 000 1 00 00000 00 0000 000 | K9: 236198.05 | L9: 265569.62 | M9: 112.43514
A10: НАЛОГИ НА ПРИБЫЛЬ, ДОХОДЫ | B10: 010 | C10: 000 | D10: 1 | E10: 01 | F10: 00000 | G10: 00 | H10: 0000 | I10: 000 | J10: =C10&" "&D10&" "&E10&" "&F10&" "&G10&" "&H10&" "&I10 -> 000 1 01 00000 00 0000 000 | K10: 175960.31 | L10: 200499.97 | M10: 113.94614
A11: Налог на доходы физических лиц | B11: 010 | C11: 000 | D11: 1 | E11: 01 | F11: 02000 | G11: 01 | H11: 0000 | I11: 110 | J11: =C11&" "&D11&" "&E11&" "&F11&" "&G11&" "&H11&" "&I11 -> 000 1 01 02000 01 0000 110 | K11: 175960.31 | L11: 200499.97 | M11: 113.94614
A12: Налог на доходы физических лиц с доходов, источником которых является налоговый агент, за исключением доходов, в отношении которых исчисление и уплата налога осуществляются в соответствии со статьями 227, 227.1 и 228 Налогового кодекса Российской Федерации | B12: 010 | C12: 000 | D12: 1 | E12: 01 | F12: 02010 | G12: 01 | H12: 0000 | I12: 110 | J12: =C12&" "&D12&" "&E12&" "&F12&" "&G12&" "&H12&" "&I12 -> 000 1 01 02010 01 0000 110 | K12: 174950 | L12: 198339.84 | M12: 113.36944
A13: Налог на доходы физических лиц с доходов, полученных от осуществления деятельности физическими лицами, зарегистрированными в качестве индивидуальных предпринимателей, нотариусов, занимающихся частной практикой, адвокатов, учредивших адвокатские кабинеты, и других лиц, занимающихся частной практикой в соответствии со статьей 227 Налогового кодекса Российской Федерации | B13: 010 | C13: 000 | D13: 1 | E13: 01 | F13: 02020 | G13: 01 | H13: 0000 | I13: 110 | J13: =C13&" "&D13&" "&E13&" "&F13&" "&G13&" "&H13&" "&I13 -> 000 1 01 02020 01 0000 110 | K13: 330 | L13: 327.69909 | M13: 99.302755
A14: Налог на доходы физических лиц с доходов, полученных физическими лицами в соответствии со статьей 228 Налогового кодекса Российской Федерации | B14: 010 | C14: 000 | D14: 1 | E14: 01 | F14: 02030 | G14: 01 | H14: 0000 | I14: 110 | J14: =C14&" "&D14&" "&E14&" "&F14&" "&G14&" "&H14&" "&I14 -> 000 1 01 02030 01 0000 110 | K14: 680.309 | L14: 1422.1086 | M14: 209.03864
A15: Налог на доходы физических лиц в виде фиксированных авансовых платежей с доходов, полученных физическими лицами, являющимися иностранными гражданами, осуществляющими трудовую деятельность по найму на основании патента в соответствии со статьей 227.1 Налогового кодекса Российской Федерации | B15: 010 | C15: 000 | D15: 1 | E15: 01 | F15: 02040 | G15: 01 | H15: 0000 | I15: 110 | J15: =C15&" "&D15&" "&E15&" "&F15&" "&G15&" "&H15&" "&I15 -> 000 1 01 02040 01 0000 110 | K15: - | L15: 80.62184 | M15: -
A16: Налог на доходы физических лиц в части суммы налога, превышающей 650 000 рублей, относящейся к части налоговой базы, превышающей 5 000 000 рублей (за исключением налога на доходы физических лиц с сумм прибыли контролируемой иностранной компании, в том числе фиксированной прибыли контролируемой иностранной компании) | B16: 010 | C16: 000 | D16: 1 | E16: 01 | F16: 02080 | G16: 01 | H16: 0000 | I16: 110 | J16: =C16&" "&D16&" "&E16&" "&F16&" "&G16&" "&H16&" "&I16 -> 000 1 01 02080 01 0000 110 | K16: - | L16: 329.70009 | M16: -
A17: НАЛОГИ НА ТОВАРЫ (РАБОТЫ, УСЛУГИ), РЕАЛИЗУЕМЫЕ НА ТЕРРИТОРИИ РОССИЙСКОЙ ФЕДЕРАЦИИ | B17: 010 | C17: 000 | D17: 1 | E17: 03 | F17: 00000 | G17: 00 | H17: 0000 | I17: 000 | J17: =C17&" "&D17&" "&E17&" "&F17&" "&G17&" "&H17&" "&I17 -> 000 1 03 00000 00 0000 000 | K17: 22000 | L17: 24730.615 | M17: 112.41189
A18: Акцизы по подакцизным товарам (продукции), производимым на территории Российской Федерации | B18: 010 | C18: 000 | D18: 1 | E18: 03 | F18: 02000 | G18: 01 | H18: 0000 | I18: 110 | J18: =C18&" "&D18&" "&E18&" "&F18&" "&G18&" "&H18&" "&I18 -> 000 1 03 02000 01 0000 110 | K18: 22000 | L18: 24730.615 | M18: 112.41189
A19: Доходы от уплаты акцизов на дизельное топливо, подлежащие распределению между бюджетами субъектов Российской Федерации и местными бюджетами с учетом установленных дифференцированных нормативов отчислений в местные бюджеты | B19: 010 | C19: 000 | D19: 1 | E19: 03 | F19: 02230 | G19: 01 | H19: 0000 | I19: 110 | J19: =C19&" "&D19&" "&E19&" "&F19&" "&G19&" "&H19&" "&I19 -> 000 1 03 02230 01 0000 110 | K19: 10000 | L19: 11417.126 | M19: 114.17126
A20: Доходы от уплаты акцизов на дизельное топливо, подлежащие распределению между бюджетами субъектов Российской Федерации и местными бюджетами с учетом установленных дифференцированных нормативов отчислений в местные бюджеты (по нормативам, установленным федеральным законом о федеральном бюджете в целях формирования дорожных фондов субъектов Российской Федерации) | B20: 010 | C20: 000 | D20: 1 | E20: 03 | F20: 02231 | G20: 01 | H20: 0000 | I20: 110 | J20: =C20&" "&D20&" "&E20&" "&F20&" "&G20&" "&H20&" "&I20 -> 000 1 03 02231 01 0000 110 | K20: 10000 | L20: 11417.126 | M20: 114.17126
A21: Доходы от уплаты акцизов на моторные масла для дизельных и (или) карбюраторных (инжекторных) двигателей, подлежащие распределению между бюджетами субъектов Российской Федерации и местными бюджетами с учетом установленных дифференцированных нормативов отчислений в местные бюджеты | B21: 010 | C21: 000 | D21: 1 | E21: 03 | F21: 02240 | G21: 01 | H21: 0000 | I21: 110 | J21: =C21&" "&D21&" "&E21&" "&F21&" "&G21&" "&H21&" "&I21 -> 000 1 03 02240 01 0000 110 | K21: 50 | L21: 80.29358 | M21: 160.58716
A22: Доходы от уплаты акцизов на моторные масла для дизельных и (или) карбюраторных (инжекторных) двигателей, подлежащие распределению между бюджетами субъектов Российской Федерации и местными бюджетами с учетом установленных дифференцированных нормативов отчислений в местные бюджеты (по нормативам, установленным федеральным законом о федеральном бюджете в целях формирования дорожных фондов субъектов Российской Федерации) | B22: 010 | C22: 000 | D22: 1 | E22: 03 | F22: 02241 | G22: 01 | H22: 0000 | I22: 110 | J22: =C22&" "&D22&" "&E22&" "&F22&" "&G22&" "&H22&" "&I22 -> 000 1 03 02241 01 0000 110 | K22: 50 | L22: 80.29358 | M22: 160.58716
A23: Доходы от уплаты акцизов на автомобильный бензин, подлежащие распределению между бюджетами субъектов Российской Федерации и местными бюджетами с учетом установленных дифференцированных нормативов отчислений в местные бюджеты | B23: 010 | C23: 000 | D23: 1 | E23: 03 | F23: 02250 | G23: 01 | H23: 0000 | I23: 110 | J23: =C23&" "&D23&" "&E23&" "&F23&" "&G23&" "&H23&" "&I23 -> 000 1 03 02250 01 0000 110 | K23: 11950 | L23: 15180.109 | M23: 127.0302
A24: Доходы от уплаты акцизов на автомобильный бензин, подлежащие распределению между бюджетами субъектов Российской Федерации и местными бюджетами с учетом установленных дифференцированных нормативов отчислений в местные бюджеты (по нормативам, установленным федеральным законом о федеральном бюджете в целях формирования дорожных фондов субъектов Российской Федерации) | B24: 010 | C24: 000 | D24: 1 | E24: 03 | F24: 02251 | G24: 01 | H24: 0000 | I24: 110 | J24: =C24&" "&D24&" "&E24&" "&F24&" "&G24&" "&H24&" "&I24 -> 000 1 03 02251 01 0000 110 | K24: 11950 | L24: 15180.109 | M24: 127.0302
A25: Доходы от уплаты акцизов на прямогонный бензин, подлежащие распределению между бюджетами субъектов Российской Федерации и местными бюджетами с учетом установленных дифференцированных нормативов отчислений в местные бюджеты | B25: 010 | C25: 000 | D25: 1 | E25: 03 | F25: 02260 | G25: 01 | H25: 0000 | I25: 110 | J25: =C25&" "&D25&" "&E25&" "&F25&" "&G25&" "&H25&" "&I25 -> 000 1 03 02260 01 0000 110 | K25: - | L25: -1946.913 | M25: -
A26: Доходы от уплаты акцизов на прямогонный бензин, подлежащие распределению между бюджетами субъектов Российской Федерации и местными бюджетами с учетом установленных дифференцированных нормативов отчислений в местные бюджеты (по нормативам, установленным федеральным законом о федеральном бюджете в целях формирования дорожных фондов субъектов Российской Федерации) | B26: 010 | C26: 000 | D26: 1 | E26: 03 | F26: 02261 | G26: 01 | H26: 0000 | I26: 110 | J26: =C26&" "&D26&" "&E26&" "&F26&" "&G26&" "&H26&" "&I26 -> 000 1 03 02261 01 0000 110 | K26: - | L26: -1946.913 | M26: -
A27: НАЛОГИ НА СОВОКУПНЫЙ ДОХОД | B27: 010 | C27: 000 | D27: 1 | E27: 05 | F27: 00000 | G27: 00 | H27: 0000 | I27: 000 | J27: =C27&" "&D27&" "&E27&" "&F27&" "&G27&" "&H27&" "&I27 -> 000 1 05 00000 00 0000 000 | K27: 7550 | L27: 8330.3695 | M27: 110.33602
A28: Налог, взимаемый в связи с применением упрощенной системы налогообложения | B28: 010 | C28: 000 | D28: 1 | E28: 05 | F28: 01000 | G28: 00 | H28: 0000 | I28: 110 | J28: =C28&" "&D28&" "&E28&" "&F28&" "&G28&" "&H28&" "&I28 -> 000 1 05 01000 00 0000 110 | K28: 450 | L28: 462.09669 | M28: 102.68815
A29: Налог, взимаемый с налогоплательщиков, выбравших в качестве объекта налогообложения доходы | B29: 010 | C29: 000 | D29: 1 | E29: 05 | F29: 01010 | G29: 01 | H29: 0000 | I29: 110 | J29: =C29&" "&D29&" "&E29&" "&F29&" "&G29&" "&H29&" "&I29 -> 000 1 05 01010 01 0000 110 | K29: 360 | L29: 365.19374 | M29: 101.44271
A30: Налог, взимаемый с налогоплательщиков, выбравших в качестве объекта налогообложения доходы | B30: 010 | C30: 000 | D30: 1 | E30: 05 | F30: 01011 | G30: 01 | H30: 0000 | I30: 110 | J30: =C30&" "&D30&" "&E30&" "&F30&" "&G30&" "&H30&" "&I30 -> 000 1 05 01011 01 0000 110 | K30: 360 | L30: 365.19374 | M30: 101.44271
A31: Налог, взимаемый с налогоплательщиков, выбравших в качестве объекта налогообложения доходы, уменьшенные на величину расходов | B31: 010 | C31: 000 | D31: 1 | E31: 05 | F31: 01020 | G31: 01 | H31: 0000 | I31: 110 | J31: =C31&" "&D31&" "&E31&" "&F31&" "&G31&" "&H31&" "&I31 -> 000 1 05 01020 01 0000 110 | K31: 90 | L31: 96.90295 | M31: 107.66994
A32: Налог, взимаемый с налогоплательщиков, выбравших в качестве объекта налогообложения доходы, уменьшенные на величину расходов (в том числе минимальный налог, зачисляемый в бюджеты субъектов Российской Федерации) | B32: 010 | C32: 000 | D32: 1 | E32: 05 | F32: 01021 | G32: 01 | H32: 0000 | I32: 110 | J32: =C32&" "&D32&" "&E32&" "&F32&" "&G32&" "&H32&" "&I32 -> 000 1 05 01021 01 0000 110 | K32: 90 | L32: 96.90295 | M32: 107.66994
A33: Единый налог на вмененный доход для отдельных видов деятельности | B33: 010 | C33: 000 | D33: 1 | E33: 05 | F33: 02000 | G33: 02 | H33: 0000 | I33: 110 | J33: =C33&" "&D33&" "&E33&" "&F33&" "&G33&" "&H33&" "&I33 -> 000 1 05 02000 02 0000 110 | K33: 1350 | L33: 1337.0671 | M33: 99.042009
A34: Единый налог на вмененный доход для отдельных видов деятельности | B34: 010 | C34: 000 | D34: 1 | E34: 05 | F34: 02010 | G34: 02 | H34: 0000 | I34: 110 | J34: =C34&" "&D34&" "&E34&" "&F34&" "&G34&" "&H34&" "&I34 -> 000 1 05 02010 02 0000 110 | K34: 1350 | L34: 1341.5182 | M34: 99.371718
A35: Единый налог на вмененный доход для отдельных видов деятельности (за налоговые периоды, истекшие до 1 января 2011 года) | B35: 010 | C35: 000 | D35: 1 | E35: 05 | F35: 02020 | G35: 02 | H35: 0000 | I35: 110 | J35: =C35&" "&D35&" "&E35&" "&F35&" "&G35&" "&H35&" "&I35 -> 000 1 05 02020 02 0000 110 | K35: - | L35: -4.45107 | M35: -
A36: Единый сельскохозяйственный налог | B36: 010 | C36: 000 | D36: 1 | E36: 05 | F36: 03000 | G36: 01 | H36: 0000 | I36: 110 | J36: =C36&" "&D36&" "&E36&" "&F36&" "&G36&" "&H36&" "&I36 -> 000 1 05 03000 01 0000 110 | K36: 1150 | L36: 1167.8358 | M36: 101.55094
A37: Единый сельскохозяйственный налог | B37: 010 | C37: 000 | D37: 1 | E37: 05 | F37: 03010 | G37: 01 | H37: 0000 | I37: 110 | J37: =C37&" "&D37&" "&E37&" "&F37&" "&G37&" "&H37&" "&I37 -> 000 1 05 03010 01 0000 110 | K37: 1150 | L37: 1167.8358 | M37: 101.55094
A38: Налог, взимаемый в связи с применением патентной системы налогообложения | B38: 010 | C38: 000 | D38: 1 | E38: 05 | F38: 04000 | G38: 02 | H38: 0000 | I38: 110 | J38: =C38&" "&D38&" "&E38&" "&F38&" "&G38&" "&H38&" "&I38 -> 000 1 05 04000 02 0000 110 | K38: 4600 | L38: 5363.3698 | M38: 116.595
A39: Налог, взимаемый в связи с применением патентной системы налогообложения, зачисляемый в бюджеты муниципальных районов5 | B39: 010 | C39: 000 | D39: 1 | E39: 05 | F39: 04020 | G39: 02 | H39: 0000 | I39: 110 | J39: =C39&" "&D39&" "&E39&" "&F39&" "&G39&" "&H39&" "&I39 -> 000 1 05 04020 02 0000 110 | K39: 4600 | L39: 5363.3698 | M39: 116.595
A40: ГОСУДАРСТВЕННАЯ ПОШЛИНА | B40: 010 | C40: 000 | D40: 1 | E40: 08 | F40: 00000 | G40: 00 | H40: 0000 | I40: 000 | J40: =C40&" "&D40&" "&E40&" "&F40&" "&G40&" "&H40&" "&I40 -> 000 1 08 00000 00 0000 000 | K40: 4500 | L40: 4386.6345 | M40: 97.480766
A41: Государственная пошлина по делам, рассматриваемым в судах общей юрисдикции, мировыми судьями | B41: 010 | C41: 000 | D41: 1 | E41: 08 | F41: 03000 | G41: 01 | H41: 0000 | I41: 110 | J41: =C41&" "&D41&" "&E41&" "&F41&" "&G41&" "&H41&" "&I41 -> 000 1 08 03000 01 0000 110 | K41: 4500 | L41: 4386.6345 | M41: 97.480766
A42: Государственная пошлина по делам, рассматриваемым в судах общей юрисдикции, мировыми судьями (за исключением Верховного Суда Российской Федерации) | B42: 010 | C42: 000 | D42: 1 | E42: 08 | F42: 03010 | G42: 01 | H42: 0000 | I42: 110 | J42: =C42&" "&D42&" "&E42&" "&F42&" "&G42&" "&H42&" "&I42 -> 000 1 08 03010 01 0000 110 | K42: 4500 | L42: 4386.6345 | M42: 97.480766
...

Sheet Черниговский
A2: тыс. рублей
A3: Наименование | C3: Код дохода по бюджетной классификации | D3: Утвержденные бюджетные назначения | E3: Исполнено | F3: Процент исполнения
A4: 1 | C4: 2 | D4: 3 | E4: 4 | F4: 5
A5: Доходы бюджета - всего | C5: x | D5: 1131000.6 | E5: 1110493.2 | F5: 98.19
A6: в том числе:
A7: НАЛОГОВЫЕ И НЕНАЛОГОВЫЕ ДОХОДЫ | B7: =LEFT(C7,3) -> 000 | C7: 000 1 00 00000 00 0000 000 | D7: 402812.56 | E7: 405399.13 | F7: 100.64
A8: НАЛОГИ НА ПРИБЫЛЬ, ДОХОДЫ | B8: =LEFT(C8,3) -> 000 | C8: 000 1 01 00000 00 0000 000 | D8: 355686 | E8: 354250.45 | F8: 99.6
A9: Налог на доходы физических лиц | B9: =LEFT(C9,3) -> 000 | C9: 000 1 01 02000 01 0000 110 | D9: 355686 | E9: 354250.45 | F9: 99.6
A10: НАЛОГИ НА ТОВАРЫ (РАБОТЫ, УСЛУГИ), РЕАЛИЗУЕМЫЕ НА ТЕРРИТОРИИ РОССИЙСКОЙ ФЕДЕРАЦИИ | B10: =LEFT(C10,3) -> 000 | C10: 000 1 03 00000 00 0000 000 | D10: 13122 | E10: 14446.08 | F10: 110.09
A11: Акцизы по подакцизным товарам (продукции), производимым на территории Российской Федерации | B11: =LEFT(C11,3) -> 000 | C11: 000 1 03 02000 01 0000 110 | D11: 13122 | E11: 14446.08 | F11: 110.09
A12: Доходы от уплаты акцизов на дизельное топливо, подлежащие распределению между бюджетами субъектов Российской Федерации и местными бюджетами с учетом установленных дифференцированных нормативов отчислений в местные бюджеты | B12: =LEFT(C12,3) -> 000 | C12: 000 1 03 02230 01 0000 110 | D12: 6049 | E12: 6669.17 | F12: 110.25
A13: Доходы от уплаты акцизов на моторные масла для дизельных и (или) карбюраторных (инжекторных) двигателей, подлежащие распределению между бюджетами субъектов Российской Федерации и местными бюджетами с учетом установленных дифференцированных нормативов отчислений в местные бюджеты | B13: =LEFT(C13,3) -> 000 | C13: 000 1 03 02240 01 0000 110 | D13: 30 | E13: 46.9 | F13: 156.34
A14: Доходы от уплаты акцизов на автомобильный бензин, подлежащие распределению между бюджетами субъектов Российской Федерации и местными бюджетами с учетом установленных дифференцированных нормативов отчислений в местные бюджеты | B14: =LEFT(C14,3) -> 000 | C14: 000 1 03 02250 01 0000 110 | D14: 7879 | E14: 8867.27 | F14: 112.54
A15: Доходы от уплаты акцизов на прямогонный бензин, подлежащие распределению между бюджетами субъектов Российской Федерации и местными бюджетами с учетом установленных дифференцированных нормативов отчислений в местные бюджеты | B15: =LEFT(C15,3) -> 000 | C15: 000 1 03 02260 01 0000 110 | D15: -836 | E15: -1137.26 | F15: 136.04
A16: НАЛОГИ НА СОВОКУПНЫЙ ДОХОД | B16: =LEFT(C16,3) -> 000 | C16: 000 1 05 00000 00 0000 000 | D16: 14626.7 | E16: 15905.48 | F16: 108.74
A17: Налог, взимаемый в связи с применением упрощенной системы налогообложения | B17: =LEFT(C17,3) -> 000 | C17: 000 1 05 01000 00 0000 110 | D17: 870 | E17: 910.58 | F17: 104.66
A18: Налог, взимаемый с налогоплательщиков, выбравших в качестве объекта налогообложения доходы | B18: =LEFT(C18,3) -> 000 | C18: 000 1 05 01010 01 0000 110 | D18: 505 | E18: 552.73 | F18: 109.45
... A22: Налог, взимаемый в связи с применением патентной системы налогообложения | B22: =LEFT(C22,3) -> 000 | C22: 000 1 05 04000 02 0000 110 | D22: 8456.7 | E22: 9708.07 | F22: 114.8
A23: НАЛОГИ НА ИМУЩЕСТВО | B23: =LEFT(C23,3) -> 000 | C23: 000 1 06 00000 00 0000 000 | D23: - | E23: -3.9 | F23: -
A24: Налог на имущество физических лиц | B24: =LEFT(C24,3) -> 000 | C24: 000 1 06 01000 00 0000 110 | D24: - | E24: -0.33 | F24: -
A25: Земельный налог | B25: =LEFT(C25,3) -> 000 | C25: 000 1 06 06000 00 0000 110 | D25: - | E25: -3.57 | F25: -
A26: Земельный налог с организаций | B26: =LEFT(C26,3) -> 000 | C26: 000 1 06 06030 00 0000 110 | D26: - | E26: -3.98 | F26: -
A27: Земельный налог с физических лиц | B27: =LEFT(C27,3) -> 000 | C27: 000 1 06 06040 00 0000 110 | D27: - | E27: 0.41 | F27: -
A28: ГОСУДАРСТВЕННАЯ ПОШЛИНА | B28: =LEFT(C28,3) -> 000 | C28: 000 1 08 00000 00 0000 000 | D28: 3970 | E28: 3956.87 | F28: 99.67
A29: Государственная пошлина по делам, рассматриваемым в судах общей юрисдикции, мировыми судьями | B29: =LEFT(C29,3) -> 000 | C29: 000 1 08 03000 01 0000 110 | D29: 3955 | E29: 3941.87 | F29: 99.67
A30: Государственная пошлина за государственную регистрацию, а также за совершение прочих юридически значимых действий | B30: =LEFT(C30,3) -> 000 | C30: 000 1 08 07000 01 0000 110 | D30: 15 | E30: 15 | F30: 100
A31: ДОХОДЫ ОТ ИСПОЛЬЗОВАНИЯ ИМУЩЕСТВА, НАХОДЯЩЕГОСЯ В ГОСУДАРСТВЕННОЙ И МУНИЦИПАЛЬНОЙ СОБСТВЕННОСТИ | B31: =LEFT(C31,3) -> 000 | C31: 000 1 11 00000 00 0000 000 | D31: 9915 | E31: 11141.48 | F31: 112.37
A32: Доходы, получаемые в виде арендной либо иной платы за передачу в возмездное пользование государственного и муниципального имущества (за исключением имущества бюджетных и автономных учреждений, а также имущества государственных и муниципальных унитарных предприятий, в том числе казенных) | B32: =LEFT(C32,3) -> 000 | C32: 000 1 11 05000 00 0000 120 | D32: 8814.72 | E32: 9999.1 | F32: 113.44
A33: Доходы, получаемые в виде арендной платы за земельные участки, государственная собственность на которые не разграничена, а также средства от продажи права на заключение договоров аренды указанных земельных участков | B33: =LEFT(C33,3) -> 000 | C33: 000 1 11 05010 00 0000 120 | D33: 6199.72 | E33: 6906.33 | F33: 111.4
A34: Доходы от сдачи в аренду имущества, составляющего государственную (муниципальную) казну (за исключением земельных участков) | B34: =LEFT(C34,3) -> 000 | C34: 000 1 11 05070 00 0000 120 | D34: 2615 | E34: 3092.77 | F34: 118.27
A35: Плата по соглашениям об установлении сервитута в отношении земельных участков, находящихся в государственной или муниципальной собственности | B35: =LEFT(C35,3) -> 000 | C35: 000 1 11 05300 00 0000 120 | D35: 0.28 | E35: 0.28 | F35: 99.02
