Workbook

Sheet апрель
B1: Отчет о расходовании средств субвенций | U1: УТВЕРЖДЕНО приказом департамента образования и науки Приморского края от 11января 2011 года № 1-а
B2: на реализацию основных общеобразовательных программ в муниципальных общеобразовательных учреждениях на 10 _мая_2011 г.
V4: в тыс. руб.
A5: № п/п | B5: Наименование муниципального общеобразовательного учреждения | C5: Число учащихся (ВСЕГО) | F5: Число классов | I5: Доведен объем субвенций на 2011 г. | J5: Финансирование муниципальных общеобразоват. учреждений с начала года | K5: Фактические расходы с начала года (начислено) | O5: Исполнено с начала года (выплачено) | S5: Остаток "+" (недостаток " -") средств на десятое число месяца, следующего за отчетным | T5: Недостаток средств на окончательный расчет за январь месяц | U5: остаток в фин органе | V5: Финансиро вание мун. образ с начала года
K6: ВСЕГО | L6: Оплата труда (фактически начисленная заработная плата с учетом начислений на оплату труда) | M6: Учебные расходы | O6: ВСЕГО | P6: Оплата труда (кассовые расходы) | Q6: Учебные расходы
C7: ВСЕГО | D7: город | E7: село | F7: ВСЕГО | G7: город | H7: село | M7: Всего | N7: в том числе расходы на приобретение учебников | Q7: Всего | R7: в том числе расходы на приобретение учебников
A8: 1 | B8: 2 | C8: 3=3.1+3.2 | D8: 3.1. | E8: 3.2. | F8: 4=4.1+4.2 | G8: 4.1. | H8: 4.2. | I8: 5 | J8: 6 | K8: 7 | L8: 8 | M8: 9 | N8: 10 | O8: 11 | P8: 12 | Q8: 13 | R8: 14 | S8: 15=6-7 | U8: 16 | V8: 17=6+16
A9: 1 | B9: Арсеньевский ГО | C9: =D9+E9 -> 5473 | D9: 5473 | F9: =G9+H9 -> 218 | G9: 218 | I9: 105846 | J9: 30236.8 | K9: =L9+M9 -> 30236.9 | L9: 29972.6 | M9: 264.3 | N9: 100 | O9: =P9+Q9 -> 30236.9 | P9: 29972.6 | Q9: 264.3 | R9: 100 | S9: =J9-K9 -> -0.1 | T9: =J9-K9 -> -0.1 | V9: =J9+U9 -> 30236.8 | Z9: =L9*1000 -> 29972600
A10: 2 | B10: Артемовский ГО | C10: =D10+E10 -> 10322 | D10: 9630 | E10: 692 | F10: =G10+H10 -> 423 | G10: 378 | H10: 45 | I10: 210389 | J10: 56333.6 | K10: =L10+M10 -> 56333.6 | L10: 55577 | M10: 756.6 | N10: 756.6 | O10: =P10+Q10 -> 56333.6 | P10: 55577 | Q10: 756.6 | R10: 756.6 | S10: =J10-K10 -> 0 | T10: =J10-K10 -> 0 | U10: 1530.1 | V10: =J10+U10 -> 57863.7 | Z10: =L10*1000 -> 55577000
A11: 3 | B11: ЗАТО Большой Камень | C11: =D11+E11 -> 3812 | D11: 3764 | E11: 48 | F11: =G11+H11 -> 169 | G11: 162 | H11: 7 | I11: 77169 | J11: 20986.8 | K11: =L11+M11 -> 20986.8 | L11: 20842.5 | M11: 144.3 | N11: 89.3 | O11: =P11+Q11 -> 20986.8 | P11: 20842.5 | Q11: 144.3 | R11: 89.3 | S11: =J11-K11 -> 0 | T11: =J11-K11 -> 0 | U11: 34.8 | V11: =J11+U11 -> 21021.6 | Z11: =L11*1000 -> 20842500
A12: 4 | B12: Владивостокский ГО | C12: =D12+E12 -> 46598 | D12: 44195 | E12: 2403 | F12: =G12+H12 -> 1813 | G12: 1675 | H12: 138 | I12: 949856 | J12: 304685 | K12: =L12+M12 -> 301879.4 | L12: 296002.7 | M12: 5876.7 | N12: 5876.7 | O12: =P12+Q12 -> 301879.4 | P12: 296002.7 | Q12: 5876.7 | R12: 5876.7 | S12: =J12-K12 -> 2805.6 | T12: =J12-K12 -> 2805.6 | V12: =J12+U12 -> 304685 | Z12: =L12*1000 -> 296002700
A13: 5 | B13: Дальнегорский ГО | C13: =D13+E13 -> 4339 | D13: 3491 | E13: 848 | F13: =G13+H13 -> 199 | G13: 140 | H13: 59 | I13: 114545 | J13: 31288.3 | K13: =L13+M13 -> 31288.3 | L13: 31288.3 | O13: =P13+Q13 -> 31288.3 | P13: 31288.3 | S13: =J13-K13 -> 0 | T13: =J13-K13 -> 0 | V13: =J13+U13 -> 31288.3 | Z13: =L13*1000 -> 31288300
A14: 6 | B14: Дальнереченский ГО | C14: =D14+E14 -> 3658 | D14: 3208 | E14: 450 | F14: =G14+H14 -> 162 | G14: 131 | H14: 31 | I14: 84865 | J14: 24613.2 | K14: =L14+M14 -> 23440.8 | L14: 22776 | M14: 664.8 | N14: 241.6 | O14: =P14+Q14 -> 24613.2 | P14: 24038.1 | Q14: 575.1 | R14: 241.6 | S14: =J14-K14 -> 1172.4 | T14: =J14-K14 -> 1172.4 | U14: 107.1 | V14: =J14+U14 -> 24720.3 | Z14: =L14*1000 -> 22776000
A15: 7 | B15: Лесозаводский ГО | C15: =D15+E15 -> 4827 | D15: 4199 | E15: 628 | F15: =G15+H15 -> 245 | G15: 177 | H15: 68 | I15: 109479 | J15: 31688 | K15: =L15+M15 -> 32895 | L15: 31688 | M15: 1207 | N15: 1207 | O15: =P15+Q15 -> 31688 | P15: 31688 | S15: =J15-K15 -> -1207 | T15: =J15-K15 -> -1207 | V15: =J15+U15 -> 31688 | Z15: =L15*1000 -> 31688000
A16: 8 | B16: Находкинский ГО | C16: =D16+E16 -> 14857 | D16: 14833 | E16: 24 | F16: =G16+H16 -> 583 | G16: 581 | H16: 2 | I16: 294700 | J16: 83968.8 | K16: =L16+M16 -> 83286 | L16: 83286 | O16: =P16+Q16 -> 83286 | P16: 83286 | S16: =J16-K16 -> 682.8 | T16: =J16-K16 -> 682.8 | V16: =J16+U16 -> 83968.8 | Z16: =L16*1000 -> 83286000
A17: 9 | B17: Партизанский ГО | C17: =D17+E17 -> 4484 | D17: 3852 | E17: 632 | F17: =G17+H17 -> 199 | G17: 158 | H17: 41 | I17: 102356 | J17: 29713.9 | K17: =L17+M17 -> 29713.9 | L17: 29713.9 | O17: =P17+Q17 -> 29713.9 | P17: 29713.9 | S17: =J17-K17 -> 0 | U17: 77.1 | V17: =J17+U17 -> 29791 | Z17: =L17*1000 -> 29713900
A18: 10 | B18: ГО Спасск-Дальний | C18: =D18+E18 -> 5079 | D18: 5079 | F18: =G18+H18 -> 224 | G18: 224 | I18: 101639 | J18: 29981.8 | K18: =L18+M18 -> 29981.8 | L18: 29856.5 | M18: 125.3 | N18: 17.4 | O18: =P18+Q18 -> 29981.8 | P18: 29856.5 | Q18: 125.3 | R18: 17.4 | S18: 0 | T18: =J18-K18 -> 0 | U18: 0 | V18: =J18+U18 -> 29981.8 | Z18: =L18*1000 -> 29856500
A19: 11 | B19: Уссурийский ГО | C19: =D19+E19 -> 14166 | D19: 12837 | E19: 1329 | F19: =G19+H19 -> 699 | G19: 554 | H19: 145 | I19: 379318 | J19: 112281.5 | K19: =L19+M19 -> 111633 | L19: 107973.8 | M19: 3659.2 | N19: 2947.8 | O19: =P19+Q19 -> 111633 | P19: 107973.8 | Q19: 3659.2 | R19: 2292.6 | S19: =J19-K19 -> 648.5 | T19: =J19-K19 -> 648.5 | V19: =J19+U19 -> 112281.5 | Z19: =L19*1000 -> 107973800
A20: 12 | B20: ЗАТО г. Фокино | C20: =D20+E20 -> 3062 | D20: 3062 | F20: =G20+H20 -> 136 | G20: 136 | I20: 58417 | J20: 18620.3 | K20: =L20+M20 -> 18235 | L20: 18229.7 | M20: 5.3 | O20: =P20+Q20 -> 17811 | P20: 17805.7 | Q20: 5.3 | S20: =J20-K20 -> 385.3 | V20: =J20+U20 -> 18620.3 | Z20: =L20*1000 -> 18229700
A21: 13 | B21: Анучинский МР | C21: =D21+E21 -> 1397 | E21: 1397 | F21: =G21+H21 -> 97 | H21: 97 | I21: 53326 | J21: 12864 | K21: =L21+M21 -> 14579.7 | L21: 14579.7 | O21: =P21+Q21 -> 12864 | P21: =J21 -> 12864 | S21: =J21-K21 -> -1715.7 | T21: =J21-K21 -> -1715.7 | V21: =J21+U21 -> 12864 | Z21: =L21*1000 -> 14579700
A22: 14 | B22: Дальнереченский МР | C22: =D22+E22 -> 1336 | E22: 1336 | F22: =G22+H22 -> 113 | H22: 113 | I22: 56085 | J22: 16789.9 | K22: =L22+M22 -> 16790 | L22: 16759.7 | M22: 30.3 | N22: 17.6 | O22: =P22+Q22 -> 16790 | P22: 16759.7 | Q22: 30.3 | R22: 17.6 | S22: =J22-K22 -> -0.1 | T22: =J22-K22 -> -0.1 | U22: 291.3 | V22: =J22+U22 -> 17081.2 | Z22: =L22*1000 -> 16759700
A23: 15 | B23: Кавалеровский МР | C23: =D23+E23 -> 2670 | D23: 2483 | E23: 187 | F23: =G23+H23 -> 120 | G23: 105 | H23: 15 | I23: 62379 | J23: 19718.9 | K23: =L23+M23 -> 18976.7 | L23: 18976.7 | O23: =P23+Q23 -> 19016 | P23: 19016 | S23: =J23-K23 -> 742.2 | T23: =J23-K23 -> 742.2 | V23: =J23+U23 -> 19718.9 | Z23: =L23*1000 -> 18976700
A24: 16 | B24: Кировский МР | C24: =D24+E24 -> 2589 | D24: 1755 | E24: 834 | F24: =G24+H24 -> 176 | G24: 84 | H24: 92 | I24: 67577 | J24: 22239.5 | K24: =L24+M24 -> 25062.7 | L24: 24905.5 | M24: 157.2 | O24: =P24+Q24 -> 22239.5 | P24: 22082.3 | Q24: 157.2 | S24: =J24-K24 -> -2823.2 | T24: =J24-K24 -> -2823.2 | U24: 3842.8 | V24: =J24+U24 -> 26082.3 | Z24: =L24*1000 -> 24905500
A25: 17 | B25: Красноармейский МР | C25: =D25+E25 -> 2382 | D25: 418 | E25: 1964 | F25: =G25+H25 -> 169 | G25: 21 | H25: 148 | I25: 92581 | J25: 24475.7 | K25: =L25+M25 -> 24155.5 | L25: 23578.8 | M25: 576.7 | N25: 576.7 | O25: =P25+Q25 -> 24155.5 | P25: 23578.8 | Q25: 576.7 | R25: 576.7 | S25: =J25-K25 -> 320.2 | T25: =J25-K25 -> 320.2 | V25: =J25+U25 -> 24475.7 | Z25: =L25*1000 -> 23578800
A26: 18 | B26: Лазовский МР | C26: =D26+E26 -> 1632 | D26: 841 | E26: 791 | F26: =G26+H26 -> 112 | G26: 40 | H26: 72 | I26: 48560 | J26: 15135.4 | K26: =L26+M26 -> 15135.4 | L26: 15058.8 | M26: 76.6 | O26: =P26+Q26 -> 15135.4 | P26: 15058.8 | Q26: 76.6 | S26: =J26-K26 -> 0 | T26: =J26-K26 -> 0 | U26: 1058.8 | V26: =J26+U26 -> 16194.2 | Z26: =L26*1000 -> 15058800
A27: 19 | B27: Михайловский МР | C27: =D27+E27 -> 3890 | D27: 929 | E27: 2961 | F27: =G27+H27 -> 203 | G27: 38 | H27: 165 | I27: 132327 | J27: 35433.1 | K27: =L27+M27 -> 35968.7 | L27: 32890.8 | M27: 3077.9 | O27: =P27+Q27 -> 35968.7 | P27: 32890.8 | Q27: 3077.9 | R27: 700.2 | S27: =J27-K27 -> -535.6 | T27: =J27-K27 -> -535.6 | V27: =J27+U27 -> 35433.1 | Z27: =L27*1000 -> 32890800
A28: 20 | B28: Надеждинский МР | C28: =D28+E28 -> 3894 | E28: 3894 | F28: =G28+H28 -> 222 | H28: 222 | I28: 148524 | J28: 45255.6 | K28: =L28+M28 -> 45522.2 | L28: 44522.2 | M28: 1000 | O28: =P28+Q28 -> 45522.2 | P28: 44522.2 | Q28: 1000 | S28: =J28-K28 -> -266.6 | T28: =J28-K28 -> -266.6 | V28: =J28+U28 -> 45255.6 | Z28: =L28*1000 -> 44522200
A29: 21 | B29: Октябрьский МР | C29: =D29+E29 -> 3441 | D29: 635 | E29: 2806 | F29: =G29+H29 -> 195 | G29: 25 | H29: 170 | I29: 125982 | J29: 31809.8 | K29: =L29+M29 -> 31433.6 | L29: 31323.1 | M29: 110.5 | O29: =P29+Q29 -> 31433.6 | P29: 31323.1 | Q29: 110.5 | S29: =J29-K29 -> 376.2 | V29: =J29+U29 -> 31809.8 | Z29: =L29*1000 -> 31323100
A30: 22 | B30: Ольгинский МР | C30: =D30+E30 -> 1142 | D30: 418 | E30: 724 | F30: =G30+H30 -> 102 | G30: 21 | H30: 81 | I30: 41462 | J30: 11657.6 | K30: =L30+M30 -> 13121.9 | L30: 13121.9 | O30: =P30+Q30 -> 11657.6 | P30: =J30 -> 11657.6 | S30: =J30-K30 -> -1464.3 | T30: =J30-K30 -> -1464.3 | U30: 1650 | V30: =J30+U30 -> 13307.6 | Z30: =L30*1000 -> 13121900
A31: 23 | B31: Партизанский МР | C31: =D31+E31 -> 3045 | E31: 3045 | F31: =G31+H31 -> 219 | H31: 219 | I31: 117125 | J31: 31014.6 | K31: =L31+M31 -> 28842.6 | L31: 28842.6 | O31: =P31+Q31 -> 28842.6 | P31: 28842.6 | S31: =J31-K31 -> 2172 | V31: =J31+U31 -> 31014.6 | Z31: =L31*1000 -> 28842600
A32: 22 | B32: Пограничный МР | C32: =D32+E32 -> 2486 | D32: 1300 | E32: 1186 | F32: =G32+H32 -> 167 | G32: 64 | H32: 103 | I32: 71806 | J32: 20827 | K32: =L32+M32 -> 15662.8 | L32: 15662.8 | O32: =P32+Q32 -> 15662.8 | P32: 15662.8 | S32: =J32-K32 -> 5164.2 | T32: =J32-K32 -> 5164.2 | U32: 1367.3 | V32: =J32+U32 -> 22194.3 | Z32: =L32*1000 -> 15662800
A33: 25 | B33: Пожарский МР | C33: =D33+E33 -> 3506 | D33: 2406 | E33: 1100 | F33: =G33+H33 -> 198 | G33: 98 | H33: 100 | I33: 90676 | J33: 23837 | K33: =L33+M33 -> 23719.3 | L33: 23282.5 | M33: 436.8 | N33: 436.8 | O33: =P33+Q33 -> 19917.6 | P33: 19480.8 | Q33: 436.8 | R33: 436.8 | S33: =J33-K33 -> 117.7 | V33: =J33+U33 -> 23837 | Z33: =L33*1000 -> 23282500
A34: 26 | B34: Спасский МР | C34: =D34+E34 -> 2849 | E34: 2849 | F34: =G34+H34 -> 181 | H34: 181 | I34: 131927 | J34: 31429.3 | K34: =L34+M34 -> 31429.3 | L34: 31404 | M34: 25.3 | N34: 3.2 | O34: =P34+Q34 -> 31429.3 | P34: 31404 | Q34: 25.3 | R34: 3.2 | S34: =J34-K34 -> 0 | T34: =J34-K34 -> 0 | V34: =J34+U34 -> 31429.3 | Z34: =L34*1000 -> 31404000
A35: 27 | B35: Тернейский МР | C35: =D35+E35 -> 1453 | D35: 1100 | E35: 353 | F35: =G35+H35 -> 117 | G35: 55 | H35: 62 | I35: 39742 | J35: 12157.5 | K35: =L35+M35 -> 12038.8 | L35: 11948 | M35: 90.8 | O35: =P35+Q35 -> 12038.8 | P35: 11948 | Q35: 90.8 | S35: =J35-K35 -> 118.7 | T35: =J35-K35 -> 118.7 | U35: 0 | V35: =J35+U35 -> 12157.5 | Z35: =L35*1000 -> 11948000
A36: 28 | B36: Ханкайский МР | C36: =D36+E36 -> 2507 | E36: 2507 | F36: =G36+H36 -> 175 | H36: 175 | I36: 102957 | J36: 33401.2 | K36: =L36+M36 -> 33401.1 | L36: 32557.4 | M36: 843.7 | N36: 826.7 | O36: =P36+Q36 -> 33401.1 | P36: 32557.4 | Q36: 843.7 | R36: 826.7 | S36: =J36-K36 -> 0.1 | T36: =J36-K36 -> 0.1 | V36: =J36+U36 -> 33401.2 | Z36: =L36*1000 -> 32557400
A37: 29 | B37: Хасанский МР | C37: =D37+E37 -> 3473 | D37: 2676 | E37: 797 | F37: =G37+H37 -> 203 | G37: 133 | H37: 70 | I37: 88879 | J37: 28720.3 | K37: =L37+M37 -> 28233.3 | L37: 27657.3 | M37: 576 | N37: 166.1 | O37: =P37+Q37 -> 28720.3 | P37: 28144.3 | Q37: 576 | R37: 166.1 | S37: =J37-K37 -> 487 | T37: =J37-K37 -> 487 | V37: =J37+U37 -> 28720.3 | Z37: =L37*1000 -> 27657300
A38: 30 | B38: Хорольский МР | C38: =D38+E38 -> 3131 | D38: 996 | E38: 2135 | F38: =G38+H38 -> 193 | G38: 46 | H38: 147 | I38: 109964 | J38: 28838.5 | K38: =L38+M38 -> 28634 | L38: 28384 | M38: 250 | O38: =P38+Q38 -> 28632.9 | P38: 28384.4 | Q38: 248.5 | S38: =J38-K38 -> 204.5 | T38: =J38-K38 -> 204.5 | V38: =J38+U38 -> 28838.5 | Z38: =L38*1000 -> 28384000
A39: 31 | B39: Черниговский МР | C39: =D39+E39 -> 4029 | D39: 1124 | E39: 2905 | F39: =G39+H39 -> 233 | G39: 58 | H39: 175 | I39: 136277 | J39: 38386.9 | K39: =L39+M39 -> 37706.5 | L39: 36925.7 | M39: 780.8 | N39: 325 | O39: =P39+Q39 -> 38386.9 | P39: 37606.1 | Q39: 780.8 | R39: 325 | S39: =J39-K39 -> 680.4 | T39: =J39-K39 -> 680.4 | U39: 1535.1 | V39: =J39+U39 -> 39922 | Z39: =L39*1000 -> 36925700
A40: 32 | B40: Чугуевский МР | C40: =D40+E40 -> 3196 | E40: 3196 | F40: =G40+H40 -> 248 | H40: 248 | I40: 134646 | J40: 38507 | K40: =L40+M40 -> 38554 | L40: 38554 | O40: =P40+Q40 -> 38507 | P40: 38507 | S40: =J40-K40 -> -47 | T40: =J40-K40 -> -47 | U40: 0 | V40: =J40+U40 -> 38507 | Z40: =L40*1000 -> 38554000
A41: 33 | B41: Шкотовский МР | C41: =D41+E41 -> 2072 | D41: 951 | E41: 1121 | F41: =G41+H41 -> 119 | G41: 41 | H41: 78 | I41: 66425 | J41: 22119.7 | K41: =L41+M41 -> 20271.5 | L41: 19749.5 | M41: 522 | O41: =P41+Q41 -> 20334.2 | P41: 20271.5 | Q41: 62.7 | S41: =J41-K41 -> 1848.2 | T41: =J41-K41 -> 1848.2 | V41: =J41+U41 -> 22119.7 | Z41: =L41*1000 -> 19749500
...

Sheet май
B1: Отчет о расходовании средств субвенций | U1: УТВЕРЖДЕНО приказом департамента образования и науки Приморского края от 11января 2011 года № 1-а
B2: на реализацию основных общеобразовательных программ в муниципальных общеобразовательных учреждениях на 10 _июня_2011 г.
V4: в тыс. руб.
A5: № п/п | B5: Наименование муниципального общеобразовательного учреждения | C5: Число учащихся (ВСЕГО) | F5: Число классов | I5: Доведен объем субвенций на 2011 г. | J5: Финансирование муниципальных общеобразоват. учреждений с начала года | K5: Фактические расходы с начала года (начислено) | O5: Исполнено с начала года (выплачено) | S5: Остаток "+" (недостаток " -") средств на десятое число месяца, следующего за отчетным | T5: Недостаток средств на окончательный расчет за январь месяц | U5: остаток в фин органе | V5: Финансиро вание мун. образ с начала года
K6: ВСЕГО | L6: Оплата труда (фактически начисленная заработная плата с учетом начислений на оплату труда) | M6: Учебные расходы | O6: ВСЕГО | P6: Оплата труда (кассовые расходы) | Q6: Учебные расходы
C7: ВСЕГО | D7: город | E7: село | F7: ВСЕГО | G7: город | H7: село | M7: Всего | N7: в том числе расходы на приобретение учебников | Q7: Всего | R7: в том числе расходы на приобретение учебников
A8: 1 | B8: 2 | C8: 3=3.1+3.2 | D8: 3.1. | E8: 3.2. | F8: 4=4.1+4.2 | G8: 4.1. | H8: 4.2. | I8: 5 | J8: 6 | K8: 7 | L8: 8 | M8: 9 | N8: 10 | O8: 11 | P8: 12 | Q8: 13 | R8: 14 | S8: 15=6-7 | U8: 16 | V8: 17=6+16
A9: 1 | B9: Арсеньевский ГО | C9: =D9+E9 -> 5448 | D9: 5448 | F9: =G9+H9 -> 218 | G9: 218 | I9: 105846 | J9: 42636.8 | K9: =L9+M9 -> 42636.8 | L9: 41885.3 | M9: 751.5 | N9: 498 | O9: =P9+Q9 -> 42636.8 | P9: 41885.3 | Q9: 751.5 | R9: 498 | S9: =J9-K9 -> 0 | T9: =J9-K9 -> 0 | V9: =J9+U9 -> 42636.8
A10: 2 | B10: Артемовский ГО | C10: =D10+E10 -> 10346 | D10: 9660 | E10: 686 | F10: =G10+H10 -> 423 | G10: 378 | H10: 45 | I10: 210389 | J10: 81873 | K10: =L10+M10 -> 81873 | L10: 79811.7 | M10: 2061.3 | N10: 2061.3 | O10: =P10+Q10 -> 81873 | P10: 79811.7 | Q10: 2061.3 | R10: 2061.3 | S10: =J10-K10 -> 0 | T10: =J10-K10 -> 0 | U10: 175.7 | V10: =J10+U10 -> 82048.7
A11: 3 | B11: ЗАТО Большой Камень | C11: =D11+E11 -> 3808 | D11: 3760 | E11: 48 | F11: =G11+H11 -> 169 | G11: 162 | H11: 7 | I11: 77169 | J11: 30736.8 | K11: =L11+M11 -> 30736.8 | L11: 30062.6 | M11: 674.2 | N11: 541.9 | O11: =P11+Q11 -> 30697.1 | P11: 30022.9 | Q11: 674.2 | R11: 541.9 | S11: =J11-K11 -> 0 | T11: =J11-K11 -> 0 | U11: 2984.8 | V11: =J11+U11 -> 33721.6
A12: 4 | B12: Владивостокский ГО | C12: =D12+E12 -> 46598 | D12: 44195 | E12: 2403 | F12: =G12+H12 -> 1813 | G12: 1675 | H12: 138 | I12: 949856 | J12: 541557.8 | K12: =L12+M12 -> 464938.8 | L12: 455026 | M12: 9912.8 | N12: 9848.8 | O12: =P12+Q12 -> 464938.8 | P12: 455026 | Q12: 9912.8 | R12: 9848.8 | S12: =J12-K12 -> 76619 | T12: =J12-K12 -> 76619 | V12: =J12+U12 -> 541557.8
A13: 5 | B13: Дальнегорский ГО | C13: =D13+E13 -> 4322 | D13: 3475 | E13: 847 | F13: =G13+H13 -> 199 | G13: 140 | H13: 59 | I13: 114545 | J13: 39592.1 | K13: =L13+M13 -> 39592.1 | L13: 39592.1 | O13: =P13+Q13 -> 39592.1 | P13: 39592.1 | S13: =J13-K13 -> 0 | T13: =J13-K13 -> 0 | U13: 1084.8 | V13: =J13+U13 -> 40676.9
A14: 6 | B14: Дальнереченский ГО | C14: =D14+E14 -> 3653 | D14: 3199 | E14: 454 | F14: =G14+H14 -> 162 | G14: 131 | H14: 31 | I14: 84865 | J14: 29553.7 | K14: =L14+M14 -> 29593 | L14: 28942.5 | M14: 650.5 | N14: 265 | O14: =P14+Q14 -> 29553.7 | P14: 28942.5 | Q14: 611.2 | R14: 241.6 | S14: =J14-K14 -> -39.3 | T14: =J14-K14 -> -39.3 | U14: 9321.2 | V14: =J14+U14 -> 38874.9
A15: 7 | B15: Лесозаводский ГО | C15: =D15+E15 -> 4827 | D15: 4199 | E15: 628 | F15: =G15+H15 -> 245 | G15: 177 | H15: 68 | I15: 109479 | J15: 59188 | K15: =L15+M15 -> 44380 | L15: 43173 | M15: 1207 | N15: 1207 | O15: =P15+Q15 -> 43173 | P15: 43173 | S15: =J15-K15 -> 14808 | T15: =J15-K15 -> 14808 | V15: =J15+U15 -> 59188
A16: 8 | B16: Находкинский ГО | C16: =D16+E16 -> 14824 | D16: 14800 | E16: 24 | F16: =G16+H16 -> 583 | G16: 581 | H16: 2 | I16: 294700 | J16: 121561.8 | K16: =L16+M16 -> 121561.8 | L16: 119668.8 | M16: 1893 | O16: =P16+Q16 -> 121561.8 | P16: 119668.8 | Q16: 1893 | S16: =J16-K16 -> 0 | T16: =J16-K16 -> 0 | V16: =J16+U16 -> 121561.8
A17: 9 | B17: Партизанский ГО | C17: =D17+E17 -> 4477 | D17: 3843 | E17: 634 | F17: =G17+H17 -> 199 | G17: 158 | H17: 41 | I17: 102356 | J17: 45902.2 | K17: =L17+M17 -> 41871.7 | L17: 40622.2 | M17: 1249.5 | N17: 1011 | O17: =P17+Q17 -> 45902.2 | P17: 44652.7 | Q17: 1249.5 | R17: 1011 | S17: =J17-K17 -> 4030.5 | U17: 1309.8 | V17: =J17+U17 -> 47212
A18: 10 | B18: ГО Спасск-Дальний | C18: =D18+E18 -> 5054 | D18: 5054 | F18: =G18+H18 -> 224 | G18: 224 | I18: 101639 | J18: 46592.1 | K18: =L18+M18 -> 46592.1 | L18: 45935.9 | M18: 656.2 | N18: 537.5 | O18: =P18+Q18 -> 46592.1 | P18: 45935.9 | Q18: 656.2 | R18: 537.5 | S18: =J18-K18 -> 0 | T18: =J18-K18 -> 0 | U18: 0 | V18: =J18+U18 -> 46592.1
A19: 11 | B19: Уссурийский ГО | C19: =D19+E19 -> 16695 | D19: 14243 | E19: 2452 | F19: =G19+H19 -> 699 | G19: 554 | H19: 145 | I19: 379318 | J19: 187314.5 | K19: =L19+M19 -> 161047.7 | L19: 157113 | M19: 3934.7 | N19: 3075.2 | O19: =P19+Q19 -> 147631 | P19: 143896.9 | Q19: 3734.1 | R19: 2998.4 | S19: =J19-K19 -> 26266.8 | T19: =J19-K19 -> 26266.8 | V19: =J19+U19 -> 187314.5
A20: 12 | B20: ЗАТО г. Фокино | C20: =D20+E20 -> 3062 | D20: 3062 | F20: =G20+H20 -> 136 | G20: 136 | I20: 58417 | J20: 31020.3 | K20: =L20+M20 -> 30354.4 | L20: 30078.1 | M20: 276.3 | N20: 60 | O20: =P20+Q20 -> 29637.7 | P20: 29361.4 | Q20: 276.3 | R20: 60 | S20: =J20-K20 -> 665.9 | V20: =J20+U20 -> 31020.3
A21: 13 | B21: Анучинский МР | C21: =D21+E21 -> 1397 | E21: 1397 | F21: =G21+H21 -> 97 | H21: 97 | I21: 53326 | J21: 22229.7 | K21: =L21+M21 -> 22366.7 | L21: 22216.7 | M21: 150 | N21: 150 | O21: =P21+Q21 -> 22229.7 | P21: 22079.7 | Q21: 150 | R21: 150 | S21: =J21-K21 -> -137 | T21: =J21-K21 -> -137 | V21: =J21+U21 -> 22229.7
A22: 14 | B22: Дальнереченский МР | C22: =D22+E22 -> 1336 | E22: 1336 | F22: =G22+H22 -> 113 | H22: 113 | I22: 56085 | J22: 20847.2 | K22: =L22+M22 -> 20847.2 | L22: 20716.2 | M22: 131 | N22: 65.1 | O22: =P22+Q22 -> 20847.2 | P22: 20716.2 | Q22: 131 | R22: 65.1 | S22: =J22-K22 -> 0 | T22: =J22-K22 -> 0 | U22: 2511.3 | V22: =J22+U22 -> 23358.5
A23: 15 | B23: Кавалеровский МР | C23: =D23+E23 -> 2660 | D23: 2474 | E23: 186 | F23: =G23+H23 -> 120 | G23: 105 | H23: 15 | I23: 62379 | J23: 31818.9 | K23: =L23+M23 -> 25444.5 | L23: 24982.9 | M23: 461.6 | N23: 461.6 | O23: =P23+Q23 -> 25391.8 | P23: 24930.2 | Q23: 461.6 | R23: 461.6 | S23: =J23-K23 -> 6374.4 | T23: =J23-K23 -> 6374.4 | V23: =J23+U23 -> 31818.9
A24: 16 | B24: Кировский МР | C24: =D24+E24 -> 2585 | D24: 1753 | E24: 832 | F24: =G24+H24 -> 176 | G24: 84 | H24: 92 | I24: 67577 | J24: 34235 | K24: =L24+M24 -> 34235 | L24: 34045.8 | M24: 189.2 | O24: =P24+Q24 -> 34235 | P24: 34045.8 | Q24: 189.2 | S24: =J24-K24 -> 0 | T24: =J24-K24 -> 0 | U24: 147.3 | V24: =J24+U24 -> 34382.3
A25: 17 | B25: Красноармейский МР | C25: =D25+E25 -> 2382 | D25: 418 | E25: 1964 | F25: =G25+H25 -> 169 | G25: 21 | H25: 148 | I25: 92581 | J25: 36456.7 | K25: =L25+M25 -> 33054.9 | L25: 32478.2 | M25: 576.7 | N25: 576.7 | O25: =P25+Q25 -> 36456.7 | P25: 35880 | Q25: 576.7 | R25: 576.7 | S25: =J25-K25 -> 3401.8 | T25: =J25-K25 -> 3401.8 | V25: =J25+U25 -> 36456.7
A26: 18 | B26: Лазовский МР | C26: =D26+E26 -> 1632 | D26: 841 | E26: 791 | F26: =G26+H26 -> 112 | G26: 40 | H26: 72 | I26: 48560 | J26: 20002.6 | K26: =L26+M26 -> 20002.6 | L26: 19434.6 | M26: 568 | O26: =P26+Q26 -> 20002.6 | P26: 19434.6 | Q26: 568 | S26: =J26-K26 -> 0 | T26: =J26-K26 -> 0 | U26: 123 | V26: =J26+U26 -> 20125.6
A27: 19 | B27: Михайловский МР | C27: =D27+E27 -> 3890 | D27: 929 | E27: 2961 | F27: =G27+H27 -> 203 | G27: 38 | H27: 165 | I27: 132327 | J27: 54133.1 | K27: =L27+M27 -> 59754 | L27: 54046.8 | M27: 5707.2 | N27: 907.9 | O27: =P27+Q27 -> 54133.1 | P27: 48425.9 | Q27: 5707.2 | R27: 907.9 | S27: =J27-K27 -> -5620.9 | T27: =J27-K27 -> -5620.9 | V27: =J27+U27 -> 54133.1
A28: 20 | B28: Надеждинский МР | C28: =D28+E28 -> 3894 | E28: 3894 | F28: =G28+H28 -> 222 | H28: 222 | I28: 148524 | J28: 66297.6 | K28: =L28+M28 -> 58149.7 | L28: 57149.7 | M28: 1000 | O28: =P28+Q28 -> 44522.2 | P28: 44522.2 | S28: =J28-K28 -> 8147.9 | T28: =J28-K28 -> 8147.9 | V28: =J28+U28 -> 66297.6
A29: 21 | B29: Октябрьский МР | C29: =D29+E29 -> 3441 | D29: 635 | E29: 2806 | F29: =G29+H29 -> 195 | G29: 25 | H29: 170 | I29: 125982 | J29: 55359.8 | K29: =L29+M29 -> 45685.7 | L29: 45023.6 | M29: 662.1 | N29: 546.6 | O29: =P29+Q29 -> 45685.7 | P29: 45023.6 | Q29: 662.1 | R29: 546.6 | S29: =J29-K29 -> 9674.1 | U29: 99.9 | V29: =J29+U29 -> 55459.7
A30: 22 | B30: Ольгинский МР | C30: =D30+E30 -> 1142 | D30: 417 | E30: 725 | F30: =G30+H30 -> 102 | G30: 21 | H30: 81 | I30: 41462 | J30: 21527.6 | K30: =L30+M30 -> 21527.6 | L30: 21527.6 | O30: =P30+Q30 -> 21527.6 | P30: 21527.6 | S30: =J30-K30 -> 0 | T30: =J30-K30 -> 0 | V30: =J30+U30 -> 21527.6
A31: 23 | B31: Партизанский МР | C31: =D31+E31 -> 3045 | E31: 3045 | F31: =G31+H31 -> 219 | H31: 219 | I31: 117125 | J31: 49227.1 | K31: =L31+M31 -> 44742.9 | L31: 44742.9 | O31: =P31+Q31 -> 44742.9 | P31: 44742.9 | S31: =J31-K31 -> 4484.2 | V31: =J31+U31 -> 49227.1
A32: 22 | B32: Пограничный МР | C32: =D32+E32 -> 2486 | D32: 1300 | E32: 1186 | F32: =G32+H32 -> 167 | G32: 64 | H32: 103 | I32: 71806 | J32: 31714.1 | K32: =L32+M32 -> 30705.8 | L32: 30683.8 | M32: 22 | N32: 10 | O32: =P32+Q32 -> 30705.8 | P32: 30683.8 | Q32: 22 | R32: 10 | S32: =J32-K32 -> 1008.3 | T32: =J32-K32 -> 1008.3 | U32: 5681.9 | V32: =J32+U32 -> 37396
A33: 25 | B33: Пожарский МР | C33: =D33+E33 -> 3467 | D33: 2369 | E33: 1098 | F33: =G33+H33 -> 198 | G33: 98 | H33: 100 | I33: 90676 | J33: 35937 | K33: =L33+M33 -> 31304.2 | L33: 30728.2 | M33: 576 | N33: 436.8 | O33: =P33+Q33 -> 31304.2 | P33: 30728.2 | Q33: 576 | R33: 436.8 | S33: =J33-K33 -> 4632.8 | V33: =J33+U33 -> 35937
A34: 26 | B34: Спасский МР | C34: =D34+E34 -> 2849 | E34: 2849 | F34: =G34+H34 -> 181 | H34: 181 | I34: 131927 | J34: 53486 | K34: =L34+M34 -> 52810 | L34: 52425.5 | M34: 384.5 | N34: 26.5 | O34: =P34+Q34 -> 53486 | P34: 53101.5 | Q34: 384.5 | R34: 26.5 | S34: =J34-K34 -> 676 | T34: =J34-K34 -> 676 | V34: =J34+U34 -> 53486
A35: 27 | B35: Тернейский МР | C35: =D35+E35 -> 1453 | D35: 1100 | E35: 353 | F35: =G35+H35 -> 117 | G35: 55 | H35: 62 | I35: 39742 | J35: 24755.7 | K35: =L35+M35 -> 24404.8 | L35: 24253.4 | M35: 151.4 | O35: =P35+Q35 -> 23233.8 | P35: 23082.4 | Q35: 151.4 | S35: =J35-K35 -> 350.9 | T35: =J35-K35 -> 350.9 | U35: 0 | V35: =J35+U35 -> 24755.7
A36: 28 | B36: Ханкайский МР | C36: =D36+E36 -> 2504 | E36: 2504 | F36: =G36+H36 -> 174 | H36: 174 | I36: 102957 | J36: 46214.2 | K36: =L36+M36 -> 45981.8 | L36: 45138.1 | M36: 843.7 | N36: 826.7 | O36: =P36+Q36 -> 46006.7 | P36: 45163 | Q36: 843.7 | R36: 826.7 | S36: =J36-K36 -> 232.4 | T36: =J36-K36 -> 232.4 | V36: =J36+U36 -> 46214.2
A37: 29 | B37: Хасанский МР | C37: =D37+E37 -> 3405 | D37: 2623 | E37: 782 | F37: =G37+H37 -> 203 | G37: 133 | H37: 70 | I37: 88879 | J37: 40208.3 | K37: =L37+M37 -> 38751 | L37: 37887 | M37: 864 | N37: 166.1 | O37: =P37+Q37 -> 40208.3 | P37: 39344.3 | Q37: 864 | R37: 166.1 | S37: =J37-K37 -> 1457.3 | T37: =J37-K37 -> 1457.3 | U37: 0 | V37: =J37+U37 -> 40208.3
A38: 30 | B38: Хорольский МР | C38: =D38+E38 -> 3128 | D38: 996 | E38: 2132 | F38: =G38+H38 -> 193 | G38: 46 | H38: 147 | I38: 109964 | J38: 40772.8 | K38: =L38+M38 -> 38942.9 | L38: 38692.9 | M38: 250 | O38: =P38+Q38 -> 38941.4 | P38: 38692.9 | Q38: 248.5 | S38: =J38-K38 -> 1829.9 | T38: =J38-K38 -> 1829.9 | V38: =J38+U38 -> 40772.8
A39: 31 | B39: Черниговский МР | C39: =D39+E39 -> 4029 | D39: 1124 | E39: 2905 | F39: =G39+H39 -> 233 | G39: 58 | H39: 175 | I39: 136277 | J39: 51157.7 | K39: =L39+M39 -> 49634.8 | L39: 47662.2 | M39: 1972.6 | N39: 325 | O39: =P39+Q39 -> 50935.5 | P39: 48962.9 | Q39: 1972.6 | R39: 325 | S39: =J39-K39 -> 1522.9 | T39: =J39-K39 -> 1522.9 | U39: 1412.3 | V39: =J39+U39 -> 52570
A40: 32 | B40: Чугуевский МР | C40: =D40+E40 -> 3178 | E40: 3178 | F40: =G40+H40 -> 248 | H40: 248 | I40: 134646 | J40: 55907 | K40: =L40+M40 -> 55357 | L40: 55357 | O40: =P40+Q40 -> 55357 | P40: 55357 | S40: =J40-K40 -> 550 | T40: =J40-K40 -> 550 | U40: 0 | V40: =J40+U40 -> 55907
A41: 33 | B41: Шкотовский МР | C41: =D41+E41 -> 2073 | D41: 951 | E41: 1122 | F41: =G41+H41 -> 119 | G41: 41 | H41: 78 | I41: 66425 | J41: 28569.7 | K41: =L41+M41 -> 27646.6 | L41: 27124.6 | M41: 522 | N41: 222.1 | O41: =P41+Q41 -> 21921.2 | P41: 21834.3 | Q41: 86.9 | R41: 24.2 | S41: =J41-K41 -> 923.1 | T41: =J41-K41 -> 923.1 | V41: =J41+U41 -> 28569.7
...

Sheet июнь
B1: Отчет о расходовании средств субвенций | U1: УТВЕРЖДЕНО приказом департамента образования и науки Приморского края от 11января 2011 года № 1-а
B2: на реализацию основных общеобразовательных программ в муниципальных общеобразовательных учреждениях на 10 _июня_2011 г.
V4: в тыс. руб.
A5: № п/п | B5: Наименование муниципального общеобразовательного учреждения | C5: Число учащихся (ВСЕГО) | F5: Число классов | I5: Доведен объем субвенций на 2011 г. | J5: Финансирование муниципальных общеобразоват. учреждений с начала года | K5: Фактические расходы с начала года (начислено) | O5: Исполнено с начала года (выплачено) | S5: Остаток "+" (недостаток " -") средств на десятое число месяца, следующего за отчетным | T5: Недостаток средств на окончательный расчет за январь месяц | U5: остаток в фин органе | V5: Финансиро вание мун. образ с начала года
K6: ВСЕГО | L6: Оплата труда (фактически начисленная заработная плата с учетом начислений на оплату труда) | M6: Учебные расходы | O6: ВСЕГО | P6: Оплата труда (кассовые расходы) | Q6: Учебные расходы
C7: ВСЕГО | D7: город | E7: село | F7: ВСЕГО | G7: город | H7: село | M7: Всего | N7: в том числе расходы на приобретение учебников | Q7: Всего | R7: в том числе расходы на приобретение учебников
A8: 1 | B8: 2 | C8: 3=3.1+3.2 | D8: 3.1. | E8: 3.2. | F8: 4=4.1+4.2 | G8: 4.1. | H8: 4.2. | I8: 5 | J8: 6 | K8: 7 | L8: 8 | M8: 9 | N8: 10 | O8: 11 | P8: 12 | Q8: 13 | R8: 14 | S8: 15=6-7 | U8: 16 | V8: 17=6+16
A9: 1 | B9: Арсеньевский ГО | C9: =D9+E9 -> 5424 | D9: 5424 | F9: =G9+H9 -> 218 | G9: 218 | I9: 105846 | J9: 55536.8 | K9: =L9+M9 -> 55536.8 | L9: 54785.3 | M9: 751.5 | N9: 498 | O9: =P9+Q9 -> 55536.8 | P9: 54785.3 | Q9: 751.5 | R9: 498 | S9: =J9-K9 -> 0 | T9: =J9-K9 -> 0 | V9: =J9+U9 -> 55536.8 | Z9: =L9*1000 -> 54785300
A10: 2 | B10: Артемовский ГО | C10: =D10+E10 -> 10346 | D10: 9660 | E10: 686 | F10: =G10+H10 -> 423 | G10: 378 | H10: 45 | I10: 210389 | J10: 105763.6 | K10: =L10+M10 -> 105763.6 | L10: 103702.3 | M10: 2061.3 | N10: 2061.3 | O10: =P10+Q10 -> 105763.6 | P10: 103702.3 | Q10: 2061.3 | R10: 2061.3 | S10: =J10-K10 -> 0 | T10: =J10-K10 -> 0 | U10: 978.4 | V10: =J10+U10 -> 106742 | Z10: =L10*1000 -> 103702300
A11: 3 | B11: ЗАТО Большой Камень | C11: =D11+E11 -> 3808 | D11: 3760 | E11: 48 | F11: =G11+H11 -> 169 | G11: 162 | H11: 7 | I11: 77169 | J11: 39820.7 | K11: =L11+M11 -> 39820.7 | L11: 39036.2 | M11: 784.5 | N11: 638 | O11: =P11+Q11 -> 39820.7 | P11: 39036.2 | Q11: 784.5 | R11: 638 | S11: =J11-K11 -> 0 | T11: =J11-K11 -> 0 | U11: 791.3 | V11: =J11+U11 -> 40612 | Z11: =L11*1000 -> 39036200
A12: 4 | B12: Владивостокский ГО | C12: =D12+E12 -> 46598 | D12: 44195 | E12: 2403 | F12: =G12+H12 -> 1813 | G12: 1675 | H12: 138 | I12: 949856 | J12: 573362.9 | K12: =L12+M12 -> 549550.9 | L12: 539242.5 | M12: 10308.4 | N12: 10068.1 | O12: =P12+Q12 -> 549550.9 | P12: 539242.5 | Q12: 10308.4 | R12: 10068.1 | S12: 0 | T12: =J12-K12 -> 23812 | V12: =J12+U12 -> 573362.9 | Z12: =L12*1000 -> 539242500
A13: 5 | B13: Дальнегорский ГО | C13: =D13+E13 -> 4322 | D13: 3475 | E13: 847 | F13: =G13+H13 -> 199 | G13: 140 | H13: 59 | I13: 114545 | J13: 60039.6 | K13: =L13+M13 -> 60039.6 | L13: 58954.8 | M13: 1084.8 | N13: 884.9 | O13: =P13+Q13 -> 59289.6 | P13: 58204.8 | Q13: 1084.8 | R13: 884.9 | S13: =J13-K13 -> 0 | T13: =J13-K13 -> 0 | V13: =J13+U13 -> 60039.6 | Z13: =L13*1000 -> 58954800
A14: 6 | B14: Дальнереченский ГО | C14: =D14+E14 -> 3653 | D14: 3199 | E14: 454 | F14: =G14+H14 -> 162 | G14: 131 | H14: 31 | I14: 84865 | J14: 42474.9 | K14: =L14+M14 -> 42475.8 | L14: 41822.8 | M14: 653 | N14: 265 | O14: =P14+Q14 -> 42474.9 | P14: 41822.8 | Q14: 652.1 | R14: 265 | S14: =J14-K14 -> -0.9 | T14: =J14-K14 -> -0.9 | U14: 0 | V14: =J14+U14 -> 42474.9 | Z14: =L14*1000 -> 41822800
A15: 7 | B15: Лесозаводский ГО | C15: =D15+E15 -> 4827 | D15: 4199 | E15: 628 | F15: =G15+H15 -> 245 | G15: 177 | H15: 68 | I15: 109479 | J15: 70895 | K15: =L15+M15 -> 59731 | L15: 58524 | M15: 1207 | N15: 1207 | O15: =P15+Q15 -> 59731 | P15: 58524 | Q15: 1207 | R15: 1207 | S15: =J15-K15 -> 11164 | T15: =J15-K15 -> 11164 | V15: =J15+U15 -> 70895 | Z15: =L15*1000 -> 58524000
A16: 8 | B16: Находкинский ГО | C16: =D16+E16 -> 14824 | D16: 14800 | E16: 24 | F16: =G16+H16 -> 583 | G16: 581 | H16: 2 | I16: 294700 | J16: 169861.8 | K16: =L16+M16 -> 159405.1 | L16: 157512.1 | M16: 1893 | N16: 1715.8 | O16: =P16+Q16 -> 159405.1 | P16: 157512.1 | Q16: 1893 | R16: 1715.8 | S16: =J16-K16 -> 10456.7 | T16: =J16-K16 -> 10456.7 | V16: =J16+U16 -> 169861.8 | Z16: =L16*1000 -> 157512100
A17: 9 | B17: Партизанский ГО | C17: =D17+E17 -> 4077 | D17: 3443 | E17: 634 | F17: =G17+H17 -> 199 | G17: 158 | H17: 41 | I17: 102356 | J17: 57312 | K17: =L17+M17 -> 55348.3 | L17: 53208.8 | M17: 2139.5 | N17: 1011 | O17: =P17+Q17 -> 56089.3 | P17: 53949.8 | Q17: 2139.5 | R17: 1011 | S17: =J17-K17 -> 1963.7 | V17: =J17+U17 -> 57312 | Z17: =L17*1000 -> 53208800
A18: 10 | B18: ГО Спасск-Дальний | C18: =D18+E18 -> 5048 | D18: 5048 | F18: =G18+H18 -> 224 | G18: 224 | I18: 101639 | J18: 55511.2 | K18: =L18+M18 -> 55511.2 | L18: 54280.2 | M18: 1231 | N18: 537.5 | O18: =P18+Q18 -> 55511.2 | P18: 54280.2 | Q18: 1231 | R18: 537.5 | S18: =J18-K18 -> 0 | T18: =J18-K18 -> 0 | U18: 0 | V18: =J18+U18 -> 55511.2 | Z18: =L18*1000 -> 54280200
A19: 11 | B19: Уссурийский ГО | C19: =D19+E19 -> 16624 | D19: 14189 | E19: 2435 | F19: =G19+H19 -> 699 | G19: 554 | H19: 145 | I19: 379318 | J19: 206252.7 | K19: =L19+M19 -> 202985.5 | L19: 199042.3 | M19: 3943.2 | N19: 3075.2 | O19: =P19+Q19 -> 193419.1 | P19: 189475.9 | Q19: 3943.2 | R19: 3075.2 | S19: =J19-K19 -> 3267.2 | T19: =J19-K19 -> 3267.2 | V19: =J19+U19 -> 206252.7 | Z19: =L19*1000 -> 199042300
A20: 12 | B20: ЗАТО г. Фокино | C20: =D20+E20 -> 3062 | D20: 3062 | F20: =G20+H20 -> 136 | G20: 136 | I20: 58417 | J20: 35620.3 | K20: =L20+M20 -> 33330.1 | L20: 32873.8 | M20: 456.3 | N20: 171.8 | O20: =P20+Q20 -> 32574.3 | P20: 32118 | Q20: 456.3 | R20: 171.8 | S20: =J20-K20 -> 2290.2 | V20: =J20+U20 -> 35620.3 | W20: 500 | X20: не учтено | Z20: =L20*1000 -> 32873800
A21: 13 | B21: Анучинский МР | C21: =D21+E21 -> 1404 | E21: 1404 | F21: =G21+H21 -> 97 | H21: 97 | I21: 53326 | J21: 26909.8 | K21: =L21+M21 -> 26909.8 | L21: 26759.8 | M21: 150 | N21: 150 | O21: =P21+Q21 -> 26909.8 | P21: 26759.8 | Q21: 150 | R21: 150 | S21: =J21-K21 -> 0 | T21: =J21-K21 -> 0 | V21: =J21+U21 -> 26909.8 | Z21: =L21*1000 -> 26759800
A22: 14 | B22: Дальнереченский МР | C22: =D22+E22 -> 1336 | E22: 1336 | F22: =G22+H22 -> 113 | H22: 113 | I22: 56085 | J22: 30745.2 | K22: =L22+M22 -> 31163.6 | L22: 31004.7 | M22: 158.9 | N22: 78.1 | O22: =P22+Q22 -> 30715.2 | P22: 30586.3 | Q22: 128.9 | R22: 78.1 | S22: =J22-K22 -> -418.4 | T22: =J22-K22 -> -418.4 | U22: 577.1 | V22: =J22+U22 -> 31322.3 | Z22: =L22*1000 -> 31004700
A23: 15 | B23: Кавалеровский МР | C23: =D23+E23 -> 2653 | D23: 2467 | E23: 186 | F23: =G23+H23 -> 120 | G23: 105 | H23: 15 | I23: 62379 | J23: 39318.9 | K23: =L23+M23 -> 38234.2 | L23: 37700.8 | M23: 533.4 | N23: 533.4 | O23: =P23+Q23 -> 35318.7 | P23: 34857.1 | Q23: 461.6 | R23: 461.6 | S23: =J23-K23 -> 1084.7 | T23: =J23-K23 -> 1084.7 | V23: =J23+U23 -> 39318.9 | Z23: =L23*1000 -> 37700800
A24: 16 | B24: Кировский МР | C24: =D24+E24 -> 2585 | D24: 1753 | E24: 832 | F24: =G24+H24 -> 176 | G24: 84 | H24: 92 | I24: 67577 | J24: 44674.6 | K24: =L24+M24 -> 44377.6 | L24: 44188.4 | M24: 189.2 | O24: =P24+Q24 -> 44674.6 | P24: 44485.4 | Q24: 189.2 | S24: =J24-K24 -> 297 | T24: =J24-K24 -> 297 | U24: 1198.7 | V24: =J24+U24 -> 45873.3 | Z24: =L24*1000 -> 44188400
A25: 17 | B25: Красноармейский МР | C25: =D25+E25 -> 2382 | D25: 418 | E25: 1964 | F25: =G25+H25 -> 169 | G25: 21 | H25: 148 | I25: 92581 | J25: 47033.1 | K25: =L25+M25 -> 45518.1 | L25: 44922.6 | M25: 595.5 | N25: 595.5 | O25: =P25+Q25 -> 45518.1 | P25: 44922.6 | Q25: 595.5 | R25: 595.5 | S25: =J25-K25 -> 1515 | T25: =J25-K25 -> 1515 | V25: =J25+U25 -> 47033.1 | Z25: =L25*1000 -> 44922600
A26: 18 | B26: Лазовский МР | C26: =D26+E26 -> 1632 | D26: 841 | E26: 791 | F26: =G26+H26 -> 112 | G26: 40 | H26: 72 | I26: 48560 | J26: 29886 | K26: =L26+M26 -> 29886 | L26: 29318 | M26: 568 | N26: 371.2 | O26: =P26+Q26 -> 29886 | P26: 29318 | Q26: 568 | R26: 371.2 | S26: =J26-K26 -> 0 | T26: =J26-K26 -> 0 | U26: 38.2 | V26: =J26+U26 -> 29924.2 | Z26: =L26*1000 -> 29318000
A27: 19 | B27: Михайловский МР | C27: =D27+E27 -> 3890 | D27: 929 | E27: 2961 | F27: =G27+H27 -> 203 | G27: 38 | H27: 165 | I27: 132327 | J27: 63855.6 | K27: =L27+M27 -> 65628.6 | L27: 59921.4 | M27: 5707.2 | N27: 907.9 | O27: =P27+Q27 -> 65628.6 | P27: 59921.4 | Q27: 5707.2 | R27: 907.9 | S27: =J27-K27 -> -1773 | T27: =J27-K27 -> -1773 | V27: =J27+U27 -> 63855.6 | W27: 4601.9 | X27: отправлено | Z27: =L27*1000 -> 59921400
A28: 20 | B28: Надеждинский МР | C28: =D28+E28 -> 3894 | E28: 3894 | F28: =G28+H28 -> 222 | H28: 222 | I28: 148524 | J28: 90297.6 | K28: =L28+M28 -> 83626.7 | L28: 82626.7 | M28: 1000 | O28: =P28+Q28 -> 85051.4 | P28: 84576.3 | Q28: 475.1 | S28: =J28-K28 -> 6670.9 | T28: =J28-K28 -> 6670.9 | V28: =J28+U28 -> 90297.6 | Z28: =L28*1000 -> 82626700
A29: 21 | B29: Октябрьский МР | C29: =D29+E29 -> 3441 | D29: 635 | E29: 2806 | F29: =G29+H29 -> 195 | G29: 25 | H29: 170 | I29: 125982 | J29: 72006 | K29: =L29+M29 -> 59108.5 | L29: 58356 | M29: 752.5 | N29: 637.1 | O29: =P29+Q29 -> 59108.5 | P29: 58356 | Q29: 752.5 | R29: 637.1 | S29: =J29-K29 -> 12897.5 | V29: =J29+U29 -> 72006 | Z29: =L29*1000 -> 58356000
A30: 22 | B30: Ольгинский МР | C30: =D30+E30 -> 1142 | D30: 417 | E30: 725 | F30: =G30+H30 -> 102 | G30: 21 | H30: 81 | I30: 41462 | J30: 25613.1 | K30: =L30+M30 -> 25564.5 | L30: 25327.6 | M30: 236.9 | N30: 236.9 | O30: =P30+Q30 -> 25564.5 | P30: 25327.6 | Q30: 236.9 | R30: 236.9 | S30: =J30-K30 -> 48.6 | T30: =J30-K30 -> 48.6 | V30: =J30+U30 -> 25613.1 | Z30: =L30*1000 -> 25327600
A31: 23 | B31: Партизанский МР | C31: =D31+E31 -> 3045 | E31: 3045 | F31: =G31+H31 -> 219 | H31: 219 | I31: 117125 | J31: 60372.4 | K31: =L31+M31 -> 54249.8 | L31: 53489.8 | M31: 760 | N31: 277.9 | O31: =P31+Q31 -> 54249.8 | P31: 53489.8 | Q31: 760 | R31: 277.9 | S31: =J31-K31 -> 6122.6 | V31: =J31+U31 -> 60372.4 | Z31: =L31*1000 -> 53489800
A32: 22 | B32: Пограничный МР | C32: =D32+E32 -> 2486 | D32: 1300 | E32: 1186 | F32: =G32+H32 -> 167 | G32: 64 | H32: 103 | I32: 71806 | J32: 41458.9 | K32: =L32+M32 -> 38119.7 | L32: 38019.8 | M32: 99.9 | N32: 55 | O32: =P32+Q32 -> 38119.7 | P32: 38019.8 | Q32: 99.9 | R32: 55 | S32: =J32-K32 -> 3339.2 | T32: =J32-K32 -> 3339.2 | U32: 737.5 | V32: =J32+U32 -> 42196.4 | Z32: =L32*1000 -> 38019800
A33: 25 | B33: Пожарский МР | C33: =D33+E33 -> 3467 | D33: 2369 | E33: 1098 | F33: =G33+H33 -> 198 | G33: 98 | H33: 100 | I33: 90676 | J33: 42437 | K33: =L33+M33 -> 45249.2 | L33: 44373.2 | M33: 876 | N33: 436.8 | O33: =P33+Q33 -> 42437 | P33: 41561 | Q33: 876 | R33: 631.3 | S33: =J33-K33 -> -2812.2 | V33: =J33+U33 -> 42437 | W33: 2800 | X33: отправлено | Z33: =L33*1000 -> 44373200
A34: 26 | B34: Спасский МР | C34: =D34+E34 -> 2829 | E34: 2829 | F34: =G34+H34 -> 181 | H34: 181 | I34: 131927 | J34: 56313.8 | K34: =L34+M34 -> 57624.5 | L34: 57240 | M34: 384.5 | N34: 26.5 | O34: =P34+Q34 -> 56313.8 | P34: 55929.3 | Q34: 384.5 | R34: 26.5 | S34: =J34-K34 -> -1310.7 | T34: =J34-K34 -> -1310.7 | V34: =J34+U34 -> 56313.8 | W34: 1310.7 | X34: отправлено | Z34: =L34*1000 -> 57240000
A35: 27 | B35: Тернейский МР | C35: =D35+E35 -> 1453 | D35: 1100 | E35: 353 | F35: =G35+H35 -> 117 | G35: 55 | H35: 62 | I35: 39742 | J35: 27085.4 | K35: =L35+M35 -> 30366.3 | L35: 30214.9 | M35: 151.4 | O35: =P35+Q35 -> 26665.9 | P35: 26514.5 | Q35: 151.4 | S35: =J35-K35 -> -3280.9 | T35: =J35-K35 -> -3280.9 | U35: 0 | V35: =J35+U35 -> 27085.4 | W35: 3699 | X35: отправлено | Z35: =L35*1000 -> 30214900
A36: 28 | B36: Ханкайский МР | C36: =D36+E36 -> 2500 | E36: 2500 | F36: =G36+H36 -> 174 | H36: 174 | I36: 102957 | J36: 57098.4 | K36: =L36+M36 -> 58362.7 | L36: 57519 | M36: 843.7 | N36: 826.7 | O36: =P36+Q36 -> 57067.9 | P36: 56224.2 | Q36: 843.7 | R36: 826.7 | S36: =J36-K36 -> -1264.3 | T36: =J36-K36 -> -1264.3 | V36: =J36+U36 -> 57098.4 | W36: 1321 | X36: отправлено | Z36: =L36*1000 -> 57519000
A37: 29 | B37: Хасанский МР | C37: =D37+E37 -> 3405 | D37: 2623 | E37: 782 | F37: =G37+H37 -> 203 | G37: 133 | H37: 70 | I37: 88879 | J37: 51500.6 | K37: =L37+M37 -> 51733.7 | L37: 50869.7 | M37: 864 | N37: 166.1 | O37: =P37+Q37 -> 51500.6 | P37: 50636.6 | Q37: 864 | R37: 166.1 | S37: =J37-K37 -> -233.1 | T37: =J37-K37 -> -233.1 | V37: =J37+U37 -> 51500.6 | Z37: =L37*1000 -> 50869700
A38: 30 | B38: Хорольский МР | C38: =D38+E38 -> 3131 | D38: 996 | E38: 2135 | F38: =G38+H38 -> 193 | G38: 46 | H38: 147 | I38: 109964 | J38: 52272.8 | K38: =L38+M38 -> 52451.2 | L38: 51666.9 | M38: 784.3 | N38: 534.3 | O38: =P38+Q38 -> 52451.2 | P38: 51666.9 | Q38: 784.3 | R38: 534.3 | S38: =J38-K38 -> -178.4 | T38: =J38-K38 -> -178.4 | V38: =J38+U38 -> 52272.8 | Z38: =L38*1000 -> 51666900
A39: 31 | B39: Черниговский МР | C39: =D39+E39 -> 4029 | D39: 1124 | E39: 2905 | F39: =G39+H39 -> 233 | G39: 58 | H39: 175 | I39: 136277 | J39: 73187.2 | K39: =L39+M39 -> 73187.2 | L39: 70977.5 | M39: 2209.7 | N39: 325 | O39: =P39+Q39 -> 73187.2 | P39: 70977.5 | Q39: 2209.7 | R39: 325 | S39: =J39-K39 -> 0 | T39: =J39-K39 -> 0 | U39: 182.6 | V39: =J39+U39 -> 73369.8 | Z39: =L39*1000 -> 70977500
A40: 32 | B40: Чугуевский МР | C40: =D40+E40 -> 3180 | E40: 3180 | F40: =G40+H40 -> 248 | H40: 248 | I40: 134646 | J40: 71306 | K40: =L40+M40 -> 71398 | L40: 71199 | M40: 199 | N40: 199 | O40: =P40+Q40 -> 71306 | P40: 71107 | Q40: 199 | R40: 199 | S40: =J40-K40 -> -92 | T40: =J40-K40 -> -92 | U40: 0 | V40: =J40+U40 -> 71306 | Z40: =L40*1000 -> 71199000
A41: 33 | B41: Шкотовский МР | C41: =D41+E41 -> 2073 | D41: 951 | E41: 1122 | F41: =G41+H41 -> 119 | G41: 41 | H41: 78 | I41: 66425 | J41: 37579.7 | K41: =L41+M41 -> 37109.7 | L41: 36587.7 | M41: 522 | N41: 222.1 | O41: =P41+Q41 -> 32534.7 | P41: 32056.7 | Q41: 478 | R41: 24.2 | S41: =J41-K41 -> 470 | T41: =J41-K41 -> 470 | V41: =J41+U41 -> 37579.7 | Z41: =L41*1000 -> 36587700
...

Sheet фот июнь
A1: Приложение к отчету
A3: на 10 апреля 2011 года
B5: Наименование муниципального образования | C5: ФОТ (начисленный) в тыс. руб. январь | E5: ИТОГО 211+213 | F5: Процент надтарифного фонда | G5: ФОТ (начисленный) в тыс. руб. Февраль | I5: ИТОГО 211+213 | J5: Процент надтарифного фонда | K5: ФОТ (начисленный) в тыс. руб. Март | M5: ИТОГО 211+213 | N5: Процент надтарифного фонда | O5: ФОТ (начисленный) в тыс. руб. Апрель | Q5: ИТОГО 211+213 | R5: Процент надтарифного фонда | S5: ФОТ (начисленный) в тыс. руб. Май | U5: ИТОГО 211+213 | V5: Процент надтарифного фонда | W5: ФОТ (начисленный) в тыс. руб. ИЮНЬ | Y5: ИТОГО 211+213 | Z5: Процент надтарифного фонда | AA5: Итого начислено за ЯНВАРЬ-ИЮНЬ
C6: КОСГУ 211 | D6: КОСГУ 213 | G6: КОСГУ 211 | H6: КОСГУ 213 | K6: КОСГУ 211 | L6: КОСГУ 213 | O6: КОСГУ 211 | P6: КОСГУ 213 | S6: КОСГУ 211 | T6: КОСГУ 213 | W6: КОСГУ 211 | X6: КОСГУ 213 | AB6: Проверка
A7: 1 | B7: Арсеньевский ГО | C7: 5648 | D7: 1919 | E7: =C7+D7 -> 7567 | F7: 23 | G7: 5448 | H7: 1831 | I7: =G7+H7 -> 7279 | J7: 24 | K7: 5608 | L7: 1910 | M7: =K7+L7 -> 7518 | N7: 23 | O7: 5669 | P7: 1940 | Q7: =O7+P7 -> 7609 | R7: 23 | S7: 9831 | T7: 2082 | U7: =S7+T7 -> 11913 | V7: 23 | W7: 9849 | X7: 3051 | Y7: =W7+X7 -> 12900 | Z7: 24 | AA7: =E7+I7+M7+Q7+U7+Y7 -> 54786 | AB7: =июнь!L9-'фот июнь'!AA7 -> -1
A8: 2 | B8: Артемовский ГО | C8: 10328 | D8: 3528 | E8: =C8+D8 -> 13856 | F8: 26 | G8: 10945 | H8: 3502 | I8: =G8+H8 -> 14447 | J8: 26 | K8: 9794 | L8: 3556 | M8: =K8+L8 -> 13350 | N8: 26 | O8: 10382 | P8: 3542 | Q8: =O8+P8 -> 13924 | R8: 26 | S8: 18065 | T8: 6169 | U8: =S8+T8 -> 24234 | V8: 26 | W8: 17795 | X8: 6096 | Y8: =W8+X8 -> 23891 | Z8: 26 | AA8: =E8+I8+M8+Q8+U8+Y8 -> 103702 | AB8: =июнь!L10-'фот июнь'!AA8 -> 0
A9: 3 | B9: ЗАТО Большой Камень | C9: 3913 | D9: 1331 | E9: =C9+D9 -> 5244 | F9: 20 | G9: 3902 | H9: 1308 | I9: =G9+H9 -> 5210 | J9: 22 | K9: 3878 | L9: 1294 | M9: =K9+L9 -> 5172 | N9: 21 | O9: 3869 | P9: 1348 | Q9: =O9+P9 -> 5217 | R9: 21 | S9: 6879 | T9: 2341 | U9: =S9+T9 -> 9220 | V9: 21 | W9: 6681 | X9: 2292 | Y9: =W9+X9 -> 8973 | Z9: 21 | AA9: =E9+I9+M9+Q9+U9+Y9 -> 39036 | AB9: =июнь!L11-'фот июнь'!AA9 -> 0
A10: 4 | B10: Владивостокский ГО | C10: 54121 | D10: 19844 | E10: =C10+D10 -> 73965 | F10: 25 | G10: 54085 | H10: 18901 | I10: =G10+H10 -> 72986 | J10: 25 | K10: 55523 | L10: 19823 | M10: =K10+L10 -> 75346 | N10: 25 | O10: 54023 | P10: 19682 | Q10: =O10+P10 -> 73705 | R10: 25 | S10: 130818 | T10: 28286 | U10: =S10+T10 -> 159104 | V10: 25 | W10: 51854 | X10: 32283 | Y10: =W10+X10 -> 84137 | Z10: 25 | AA10: =E10+I10+M10+Q10+U10+Y10 -> 539243 | AB10: =июнь!L12-'фот июнь'!AA10 -> -1
A11: 5 | B11: Дальнегорский ГО | C11: 5800 | D11: 1948 | E11: =C11+D11 -> 7748 | F11: 26 | G11: 5661 | H11: 1976 | I11: =G11+H11 -> 7637 | J11: 27 | K11: 6010 | L11: 2060 | M11: =K11+L11 -> 8070 | N11: 28 | O11: 5746 | P11: 2088 | Q11: =O11+P11 -> 7834 | R11: 22 | S11: 6348 | T11: 1956 | U11: =S11+T11 -> 8304 | V11: 21 | W11: 14774 | X11: 4589 | Y11: =W11+X11 -> 19363 | Z11: 18 | AA11: =E11+I11+M11+Q11+U11+Y11 -> 58956 | AB11: =июнь!L13-'фот июнь'!AA11 -> -1
A12: 6 | B12: Дальнереченский ГО | C12: 4263 | D12: 1407 | E12: =C12+D12 -> 5670 | F12: 25 | G12: 4254 | H12: 1398 | I12: =G12+H12 -> 5652 | J12: 25 | K12: 4411 | L12: 1461 | M12: =K12+L12 -> 5872 | N12: 24 | O12: 4165 | P12: 1416 | Q12: =O12+P12 -> 5581 | R12: 27 | S12: 4706 | T12: 1461 | U12: =S12+T12 -> 6167 | V12: 26 | W12: 9694 | X12: 3187 | Y12: =W12+X12 -> 12881 | Z12: 22 | AA12: =E12+I12+M12+Q12+U12+Y12 -> 41823 | AB12: =июнь!L14-'фот июнь'!AA12 -> 0
A13: 7 | B13: Лесозаводский ГО | C13: 5961 | D13: 2280 | E13: =C13+D13 -> 8241 | F13: 39 | G13: 5237 | H13: 2722 | I13: =G13+H13 -> 7959 | J13: 39 | K13: 4927 | L13: 2561 | M13: =K13+L13 -> 7488 | N13: 39 | O13: 5961 | P13: 2039 | Q13: =O13+P13 -> 8000 | R13: 39 | S13: 8558 | T13: 2927 | U13: =S13+T13 -> 11485 | V13: 39 | W13: 11439 | X13: 3912 | Y13: =W13+X13 -> 15351 | Z13: 39 | AA13: =E13+I13+M13+Q13+U13+Y13 -> 58524 | AB13: =июнь!L15-'фот июнь'!AA13 -> 0
A14: 8 | B14: Находкинский ГО | C14: 15711 | D14: 5287 | E14: =C14+D14 -> 20998 | F14: 20 | G14: 15547 | H14: 5327 | I14: =G14+H14 -> 20874 | J14: 21 | K14: 15603 | L14: 5224 | M14: =K14+L14 -> 20827 | N14: 21 | O14: 15292 | P14: 5294 | Q14: =O14+P14 -> 20586 | R14: 19 | S14: 27149 | T14: 9234 | U14: =S14+T14 -> 36383 | V14: 16 | W14: 28109 | X14: 9735 | Y14: =W14+X14 -> 37844 | Z14: 16 | AA14: =E14+I14+M14+Q14+U14+Y14 -> 157512 | AB14: =июнь!L16-'фот июнь'!AA14 -> 0
A15: 9 | B15: Партизанский ГО | C15: 5235 | D15: 2095 | E15: =C15+D15 -> 7330 | F15: 18 | G15: 5347 | H15: 2079 | I15: =G15+H15 -> 7426 | J15: 18 | K15: =5182.63 -> 5183 | L15: 2070 | M15: =K15+L15 -> 7253 | N15: 18 | O15: 5731 | P15: 1975 | Q15: =O15+P15 -> 7706 | R15: 24 | S15: 8288 | T15: 2620 | U15: =S15+T15 -> 10908 | V15: 24 | W15: 9432 | X15: 3155 | Y15: =W15+X15 -> 12587 | Z15: 17 | AA15: =E15+I15+M15+Q15+U15+Y15 -> 53210 | AB15: =июнь!L17-'фот июнь'!AA15 -> -1
A16: 10 | B16: ГО Спасск-Дальний | C16: 5376 | D16: 1832 | E16: =C16+D16 -> 7208 | F16: 21 | G16: 5621 | H16: 1915 | I16: =G16+H16 -> 7536 | J16: 28 | K16: 5679 | L16: 1931 | M16: =K16+L16 -> 7610 | N16: 25 | O16: 5597 | P16: 1907 | Q16: =O16+P16 -> 7504 | R16: 25 | S16: 11985 | T16: 4094 | U16: =S16+T16 -> 16079 | V16: 25 | W16: 6221 | X16: 2123 | Y16: =W16+X16 -> 8344 | Z16: 25 | AA16: =E16+I16+M16+Q16+U16+Y16 -> 54281 | AB16: =июнь!L18-'фот июнь'!AA16 -> -1
A17: 11 | B17: Уссурийский ГО | C17: 19847 | D17: 6689 | E17: =C17+D17 -> 26536 | F17: 27 | G17: 19981 | H17: 6985 | I17: =G17+H17 -> 26966 | J17: 27 | K17: 20092 | L17: 6868 | M17: =K17+L17 -> 26960 | N17: 27 | O17: 20535 | P17: 6977 | Q17: =O17+P17 -> 27512 | R17: 27 | S17: 38936 | T17: 10203 | U17: =S17+T17 -> 49139 | V17: 27 | W17: 28807 | X17: 13123 | Y17: =W17+X17 -> 41930 | Z17: 27 | AA17: =E17+I17+M17+Q17+U17+Y17 -> 199043 | AB17: =июнь!L19-'фот июнь'!AA17 -> -1
A18: 12 | B18: ЗАТО г. Фокино | C18: 3334 | D18: 1140 | E18: =C18+D18 -> 4474 | F18: 15 | G18: 3459 | H18: 1183 | I18: =G18+H18 -> 4642 | J18: 20 | K18: 3396 | L18: 1162 | M18: =K18+L18 -> 4558 | N18: 18 | O18: 3394 | P18: 1161 | Q18: =O18+P18 -> 4555 | R18: 18 | S18: 8829 | T18: 3019 | U18: =S18+T18 -> 11848 | V18: 20 | W18: 2083 | X18: 712 | Y18: =W18+X18 -> 2795 | Z18: 8 | AA18: =E18+I18+M18+Q18+U18+Y18 -> 32872 | AB18: =июнь!L20-'фот июнь'!AA18 -> 2
A19: 13 | B19: Анучинский МР | C19: 2761 | D19: 916 | E19: =C19+D19 -> 3677 | F19: 33 | G19: 2751 | H19: 928 | I19: =G19+H19 -> 3679 | J19: 32 | K19: 2696 | L19: 913 | M19: =K19+L19 -> 3609 | N19: 33 | O19: 2699 | P19: 917 | Q19: =O19+P19 -> 3616 | R19: 33 | S19: 5696 | T19: 1941 | U19: =S19+T19 -> 7637 | V19: 28 | W19: 3403 | X19: 1140 | Y19: =W19+X19 -> 4543 | Z19: 28 | AA19: =E19+I19+M19+Q19+U19+Y19 -> 26761 | AB19: =июнь!L21-'фот июнь'!AA19 -> -1
A20: 14 | B20: Дальнереченский МР | C20: 3485 | D20: 1190 | E20: =C20+D20 -> 4675 | F20: 33 | G20: 3037 | H20: 1032 | I20: =G20+H20 -> 4069 | J20: 35 | K20: 2997 | L20: 1016 | M20: =K20+L20 -> 4013 | N20: 33 | O20: 2985 | P20: 1016 | Q20: =O20+P20 -> 4001 | R20: 33 | S20: 4442 | T20: 1514 | U20: =S20+T20 -> 5956 | V20: 32 | W20: 6178 | X20: 2111 | Y20: =W20+X20 -> 8289 | Z20: 63 | AA20: =E20+I20+M20+Q20+U20+Y20 -> 31003 | AB20: =июнь!L22-'фот июнь'!AA20 -> 2
A21: 15 | B21: Кавалеровский МР | C21: 3609 | D21: 1228 | E21: =C21+D21 -> 4837 | F21: 22 | G21: 3531 | H21: 1196 | I21: =G21+H21 -> 4727 | J21: 23 | K21: 3521 | L21: 1190 | M21: =K21+L21 -> 4711 | N21: 23 | O21: 3507 | P21: 1194 | Q21: =O21+P21 -> 4701 | R21: 21 | S21: 4480 | T21: 1526 | U21: =S21+T21 -> 6006 | V21: 22 | W21: 9477 | X21: 3241 | Y21: =W21+X21 -> 12718 | AA21: =E21+I21+M21+Q21+U21+Y21 -> 37700 | AB21: =июнь!L23-'фот июнь'!AA21 -> 1
A22: 16 | B22: Кировский МР | C22: 5063 | D22: 1719 | E22: =C22+D22 -> 6782 | F22: 22 | G22: 5000 | H22: 1784 | I22: =G22+H22 -> 6784 | J22: 21 | K22: 4295 | L22: 1475 | M22: =K22+L22 -> 5770 | N22: 23 | O22: 4151 | P22: 1418 | Q22: =O22+P22 -> 5569 | R22: 23 | S22: 6815 | T22: 2325 | U22: =S22+T22 -> 9140 | V22: 18 | W22: 7568 | X22: 2574 | Y22: =W22+X22 -> 10142 | Z22: 19 | AA22: =E22+I22+M22+Q22+U22+Y22 -> 44187 | AB22: =июнь!L24-'фот июнь'!AA22 -> 1
A23: 17 | B23: Красноармейский МР | C23: 4416 | D23: 1483 | E23: =C23+D23 -> 5899 | F23: 26 | G23: 4339 | H23: 1484 | I23: =G23+H23 -> 5823 | J23: 26 | K23: 4454 | L23: 1521 | M23: =K23+L23 -> 5975 | N23: 26 | O23: 4389 | P23: 1493 | Q23: =O23+P23 -> 5882 | R23: 26 | S23: 6644 | T23: 2255 | U23: =S23+T23 -> 8899 | V23: 26 | W23: 9272 | X23: 3172 | Y23: =W23+X23 -> 12444 | Z23: 26 | AA23: =E23+I23+M23+Q23+U23+Y23 -> 44922 | AB23: =июнь!L25-'фот июнь'!AA23 -> 1
A24: 18 | B24: Лазовский МР | C24: 2713 | D24: 928 | E24: =C24+D24 -> 3641 | F24: 27 | G24: 2889 | H24: 988 | I24: =G24+H24 -> 3877 | J24: 27 | K24: 2792 | L24: 955 | M24: =K24+L24 -> 3747 | N24: 27 | O24: 2885 | P24: 987 | Q24: =O24+P24 -> 3872 | R24: 27 | S24: 3204 | T24: 1096 | U24: =S24+T24 -> 4300 | W24: 7365 | X24: 2519 | Y24: =W24+X24 -> 9884 | AA24: =E24+I24+M24+Q24+U24+Y24 -> 29321 | AB24: =июнь!L26-'фот июнь'!AA24 -> -3
A25: 19 | B25: Михайловский МР | C25: 6178 | D25: 2105 | E25: =C25+D25 -> 8283 | F25: 32 | G25: 6042 | H25: 2063 | I25: =G25+H25 -> 8105 | J25: 32 | K25: 6201 | L25: 2110 | M25: =K25+L25 -> 8311 | N25: 34 | O25: 6110 | P25: 2082 | Q25: =O25+P25 -> 8192 | R25: 32 | S25: 15769 | T25: 5387 | U25: =S25+T25 -> 21156 | V25: 20 | W25: 4379 | X25: 1495 | Y25: =W25+X25 -> 5874 | Z25: 30 | AA25: =E25+I25+M25+Q25+U25+Y25 -> 59921 | AB25: =июнь!L27-'фот июнь'!AA25 -> 0
A26: 20 | B26: Надеждинский МР | C26: 8085 | D26: 2712 | E26: =C26+D26 -> 10797 | F26: 34 | G26: 7978 | H26: 2855 | I26: =G26+H26 -> 10833 | J26: 35 | K26: 8382 | L26: 3186 | M26: =K26+L26 -> 11568 | N26: 35 | O26: 8429 | P26: 2895 | Q26: =O26+P26 -> 11324 | R26: 35 | S26: 9349 | T26: 3279 | U26: =S26+T26 -> 12628 | V26: 34 | W26: 19065 | X26: 6412 | Y26: =W26+X26 -> 25477 | Z26: 35 | AA26: =E26+I26+M26+Q26+U26+Y26 -> 82627 | AB26: =июнь!L28-'фот июнь'!AA26 -> 0
A27: 21 | B27: Октябрьский МР | C27: 5920 | D27: 2003 | E27: =C27+D27 -> 7923 | F27: 31 | G27: 5644 | H27: 1915 | I27: =G27+H27 -> 7559 | J27: 31 | K27: 5907 | L27: 2004 | M27: =K27+L27 -> 7911 | N27: 31 | O27: 5923 | P27: 2008 | Q27: =O27+P27 -> 7931 | R27: 31 | S27: 10209 | T27: 3491 | U27: =S27+T27 -> 13700 | V27: 31 | W27: 9935 | X27: 3398 | Y27: =W27+X27 -> 13333 | Z27: 31 | AA27: =E27+I27+M27+Q27+U27+Y27 -> 58357 | AB27: =июнь!L29-'фот июнь'!AA27 -> -1
A28: 22 | B28: Ольгинский МР | C28: 2457 | D28: 909 | E28: =C28+D28 -> 3366 | F28: 18 | G28: 2362 | H28: 988 | I28: =G28+H28 -> 3350 | J28: 18 | K28: 2535 | L28: 757 | M28: =K28+L28 -> 3292 | N28: 19 | O28: 2451 | P28: 663 | Q28: =O28+P28 -> 3114 | R28: 19 | S28: 6450 | T28: 1956 | U28: =S28+T28 -> 8406 | V28: 19 | W28: 2697 | X28: 1103 | Y28: =W28+X28 -> 3800 | Z28: 19 | AA28: =E28+I28+M28+Q28+U28+Y28 -> 25328 | AB28: =июнь!L30-'фот июнь'!AA28 -> 0
A29: 23 | B29: Партизанский МР | C29: 5344 | D29: 1819 | E29: =C29+D29 -> 7163 | F29: 35 | G29: 5469 | H29: 1858 | I29: =G29+H29 -> 7327 | J29: 34 | K29: 5303 | L29: 1795 | M29: =K29+L29 -> 7098 | N29: 33 | O29: 5410 | P29: 1845 | Q29: =O29+P29 -> 7255 | R29: 30 | S29: 7301 | T29: 2487 | U29: =S29+T29 -> 9788 | V29: 33 | W29: 11082 | X29: 3777 | Y29: =W29+X29 -> 14859 | Z29: 32 | AA29: =E29+I29+M29+Q29+U29+Y29 -> 53490 | AB29: =июнь!L31-'фот июнь'!AA29 -> 0
A30: 24 | B30: Пограничный МР | C30: 3765 | D30: 1284 | E30: =C30+D30 -> 5049 | F30: 31 | G30: 3868 | H30: 1325 | I30: =G30+H30 -> 5193 | J30: 29 | K30: 4042 | L30: 1378 | M30: =K30+L30 -> 5420 | N30: 46 | O30: 3844 | P30: 1311 | Q30: =O30+P30 -> 5155 | R30: 37 | S30: 7582 | T30: 2284 | U30: =S30+T30 -> 9866 | V30: 17 | W30: 5468 | X30: 1868 | Y30: =W30+X30 -> 7336 | Z30: 8 | AA30: =E30+I30+M30+Q30+U30+Y30 -> 38019 | AB30: =июнь!L32-'фот июнь'!AA30 -> 1
A31: 25 | B31: Пожарский МР | C31: 4298 | D31: 1459 | E31: =C31+D31 -> 5757 | F31: 33 | G31: 4328 | H31: 1478 | I31: =G31+H31 -> 5806 | J31: 29 | K31: 4384 | L31: 1498 | M31: =K31+L31 -> 5882 | N31: 27 | O31: 4391 | P31: 1447 | Q31: =O31+P31 -> 5838 | R31: 34 | S31: 5566 | T31: 1880 | U31: =S31+T31 -> 7446 | V31: 32 | W31: 10168 | X31: 3477 | Y31: =W31+X31 -> 13645 | Z31: 31 | AA31: =E31+I31+M31+Q31+U31+Y31 -> 44374 | AB31: =июнь!L33-'фот июнь'!AA31 -> -1
A32: 26 | B32: Спасский МР | C32: 5882 | D32: 2008 | E32: =C32+D32 -> 7890 | F32: 34 | G32: 5859 | H32: 1993 | I32: =G32+H32 -> 7852 | J32: 35 | K32: 5812 | L32: 1964 | M32: =K32+L32 -> 7776 | N32: 35 | O32: 5883 | P32: 2003 | Q32: =O32+P32 -> 7886 | R32: 34 | S32: 15670 | T32: 5351 | U32: =S32+T32 -> 21021 | V32: 34 | W32: 3599 | X32: 1216 | Y32: =W32+X32 -> 4815 | Z32: 34 | AA32: =E32+I32+M32+Q32+U32+Y32 -> 57240 | AB32: =июнь!L34-'фот июнь'!AA32 -> 0
A33: 27 | B33: Тернейский МР | C33: 3121 | D33: 1018 | E33: =C33+D33 -> 4139 | F33: 25 | G33: 2921 | H33: 975 | I33: =G33+H33 -> 3896 | J33: 26 | K33: 2932 | L33: 982 | M33: =K33+L33 -> 3914 | N33: 26 | O33: 2958 | P33: 1006 | Q33: =O33+P33 -> 3964 | R33: 26 | S33: 6189 | T33: 2152 | U33: =S33+T33 -> 8341 | V33: 28 | W33: 4429 | X33: 1533 | Y33: =W33+X33 -> 5962 | Z33: 27 | AA33: =E33+I33+M33+Q33+U33+Y33 -> 30216 | AB33: =июнь!L35-'фот июнь'!AA33 -> -1
A34: 28 | B34: Ханкайский МР | C34: 4830 | D34: 1616 | E34: =C34+D34 -> 6446 | F34: 30 | G34: 4751 | H34: 1591 | I34: =G34+H34 -> 6342 | J34: 31 | K34: 5268 | L34: 1757 | M34: =K34+L34 -> 7025 | N34: 35 | O34: 9231 | P34: 3149 | Q34: =O34+P34 -> 12380 | R34: 58 | S34: 9661 | T34: 3285 | U34: =S34+T34 -> 12946 | V34: 49 | W34: 9241 | X34: 3140 | Y34: =W34+X34 -> 12381 | Z34: 34 | AA34: =E34+I34+M34+Q34+U34+Y34 -> 57520 | AB34: =июнь!L36-'фот июнь'!AA34 -> -1
A35: 29 | B35: Хасанский МР | C35: 5171 | D35: 1762 | E35: =C35+D35 -> 6933 | G35: 4991 | H35: 1693 | I35: =G35+H35 -> 6684 | K35: 5231 | L35: 1777 | M35: =K35+L35 -> 7008 | N35: 0 | O35: 5246 | P35: 1788 | Q35: =O35+P35 -> 7034 | S35: 7627 | T35: 2603 | U35: =S35+T35 -> 10230 | W35: 9680 | X35: 3303 | Y35: =W35+X35 -> 12983 | AA35: =E35+I35+M35+Q35+U35+Y35 -> 50872 | AB35: =июнь!L37-'фот июнь'!AA35 -> -2
A36: 30 | B36: Хорольский МР | C36: 5296 | D36: 1793 | E36: =C36+D36 -> 7089 | F36: 33 | G36: 5331 | H36: 1798 | I36: =G36+H36 -> 7129 | J36: 33 | K36: 5354 | L36: 1817 | M36: =K36+L36 -> 7171 | N36: 33 | O36: 5224 | P36: 1773 | Q36: =O36+P36 -> 6997 | R36: 33 | S36: 7656 | T36: 2653 | U36: =S36+T36 -> 10309 | V36: 33 | W36: 9729 | X36: 3246 | Y36: =W36+X36 -> 12975 | Z36: 33 | AA36: =E36+I36+M36+Q36+U36+Y36 -> 51670 | AB36: =июнь!L38-'фот июнь'!AA36 -> -3
A37: 31 | B37: Черниговский МР | C37: 6958 | D37: 2380 | E37: =C37+D37 -> 9338 | F37: 26 | G37: 6903 | H37: 2361 | I37: =G37+H37 -> 9264 | J37: 27 | K37: 6735 | L37: 2303 | M37: =K37+L37 -> 9038 | N37: 26 | O37: 6918 | P37: 2366 | Q37: =O37+P37 -> 9284 | R37: 25 | S37: 8000 | T37: 2736 | U37: =S37+T37 -> 10736 | V37: 28 | W37: 17374 | X37: 5942 | Y37: =W37+X37 -> 23316 | Z37: 26 | AA37: =E37+I37+M37+Q37+U37+Y37 -> 70976 | AB37: =июнь!L39-'фот июнь'!AA37 -> 2
A38: 32 | B38: Чугуевский МР | C38: 7334 | D38: 2594 | E38: =C38+D38 -> 9928 | F38: 28 | G38: 7041 | H38: 2405 | I38: =G38+H38 -> 9446 | J38: 28 | K38: 7110 | L38: 2357 | M38: =K38+L38 -> 9467 | N38: 28 | O38: 7214 | P38: 2499 | Q38: =O38+P38 -> 9713 | R38: 28 | S38: 12539 | T38: 4264 | U38: =S38+T38 -> 16803 | V38: 29 | W38: 11895 | X38: 3947 | Y38: =W38+X38 -> 15842 | Z38: 29 | AA38: =E38+I38+M38+Q38+U38+Y38 -> 71199 | AB38: =июнь!L40-'фот июнь'!AA38 -> 0
A39: 33 | B39: Шкотовский МР | C39: 3785 | D39: 1274 | E39: =C39+D39 -> 5059 | F39: 18 | G39: 3726 | H39: 1234 | I39: =G39+H39 -> 4960 | J39: 59 | K39: 3662 | L39: 1227 | M39: =K39+L39 -> 4889 | N39: 19 | O39: 3615 | P39: 1227 | Q39: =O39+P39 -> 4842 | R39: 19 | S39: 5505 | T39: 1870 | U39: =S39+T39 -> 7375 | V39: 19 | W39: 7059 | X39: 2405 | Y39: =W39+X39 -> 9464 | Z39: 20 | AA39: =E39+I39+M39+Q39+U39+Y39 -> 36589 | AB39: =июнь!L41-'фот июнь'!AA39 -> -1
A40: 34 | B40: Яковлевский МР | C40: 3835 | D40: 1307 | E40: =C40+D40 -> 5142 | F40: 16 | G40: 3853 | H40: 1300 | I40: =G40+H40 -> 5153 | J40: 17 | K40: 3757 | L40: 1272 | M40: =K40+L40 -> 5029 | N40: 17 | O40: 3799 | P40: 1297 | Q40: =O40+P40 -> 5096 | R40: 17 | S40: 4128 | T40: 1412 | U40: =S40+T40 -> 5540 | W40: 7931 | X40: 2702 | Y40: =W40+X40 -> 10633 | AA40: =E40+I40+M40+Q40+U40+Y40 -> 36593 | AB40: =июнь!L42-'фот июнь'!AA40 -> -2
B41: ИТОГО | C41: =SUM(C7:C40) -> 243843 | D41: =SUM(D7:D40) -> 84807 | E41: =SUM(E7:E40) -> 328650 | F41: =SUM(F7:F40)/34 -> 26 | G41: =SUM(G7:G40) -> 242101 | H41: =SUM(H7:H40) -> 84371 | I41: =SUM(I7:I40) -> 326472 | J41: =SUM(J7:J40)/34 -> 27 | K41: =SUM(K7:K40) -> 243474 | L41: =SUM(L7:L40) -> 85174 | M41: =SUM(M7:M40) -> 328648 | N41: =SUM(N7:N40)/34 -> 27 | O41: =SUM(O7:O40) -> 247626 | P41: =SUM(P7:P40) -> 85753 | Q41: =SUM(Q7:Q40) -> 333379 | R41: =SUM(R7:R40) -> 917 | S41: =SUM(S7:S40) -> 450874 | T41: =SUM(T7:T40) -> 132139 | U41: =SUM(U7:U40) -> 583013 | V41: =SUM(V7:V40) -> 825 | ... AA41: =SUM(AA7:AA40) -> 2431873

Sheet УЧЕБ РАСХ
A2: Анализ исполнеия бюджета МО по учебным расходам
A4: № п/п | B4: Наименование муниципального общеобразовательного учреждения | C4: Число учащихся на 01.01.2011 (ВСЕГО) | F4: Объем учебных расходов на 2011 г. | G4: Финансирование учебных по состоянию на 13.07.2011 | H4: Остаток к финансированию (- превышение финансирования над расчетным объемом) | I4: Выписано счетов на учебн расх. По состоянию на 13.07.2011 | J4: Оплачено счетов по учеб. расходам по состоянию на 13.07.2011 | K4: Превышение оплаченных счетов над расчетным объемом | L4: Превышение расчетного объема | S4: Объем учебных расх согласно распределения | T4: отклонение
A7: 1 | B7: 2 | C7: 3 | D7: 3.1. | E7: 3.2. | F7: 4=3*250 руб. | G7: 5 | H7: 6 | I7: 7 | J7: 8 | K7: 9 | L7: 10
A8: 1 | B8: Арсеньевский ГО | C8: =D8+E8 -> 5491 | D8: 5491 | F8: =C8*250 -> 1372750 | G8: 500000 | H8: =F8-G8 -> 872750 | I8: =июнь!M9*1000 -> 751500 | J8: =июнь!Q9*1000 -> 751500 | K8: =J8-F8 -> -621250 | R8: 1389 | S8: =R8*1000 -> 1389000 | T8: =F8-S8 -> -16250
A9: 2 | B9: Артемовский ГО | C9: =D9+E9 -> 10394 | D9: 9701 | E9: 693 | F9: =C9*250 -> 2598500 | G9: 2580500 | H9: =F9-G9 -> 18000 | I9: =июнь!M10*1000 -> 2061300 | J9: =июнь!Q10*1000 -> 2061300 | K9: =J9-F9 -> -537200 | R9: 2660 | S9: =R9*1000 -> 2660000 | T9: =F9-S9 -> -61500
A10: 3 | B10: ЗАТО Большой Камень | C10: =D10+E10 -> 3823 | D10: 3777 | E10: 46 | F10: =C10*250 -> 955750 | G10: 953000 | H10: =F10-G10 -> 2750 | I10: =июнь!M11*1000 -> 784500 | J10: =июнь!Q11*1000 -> 784500 | K10: =J10-F10 -> -171250 | R10: 963.5 | S10: =R10*1000 -> 963500 | T10: =F10-S10 -> -7750
A11: 4 | B11: Владивостокский ГО | C11: =D11+E11 -> 46598 | D11: 44195 | E11: 2403 | F11: =C11*250 -> 11649500 | G11: 9953666 | H11: =F11-G11 -> 1695834 | I11: =июнь!M12*1000 -> 10308400 | J11: =июнь!Q12*1000 -> 10308400 | K11: =J11-F11 -> -1341100 | R11: 11701.25 | S11: =R11*1000 -> 11701250 | T11: =F11-S11 -> -51750
A12: 5 | B12: Дальнегорский ГО | C12: =D12+E12 -> 4347 | D12: 3496 | E12: 851 | F12: =C12*250 -> 1086750 | G12: 1084750 | H12: =F12-G12 -> 2000 | I12: =июнь!M13*1000 -> 1084800 | J12: =июнь!Q13*1000 -> 1084800 | K12: =J12-F12 -> -1950 | R12: 1100 | S12: =R12*1000 -> 1100000 | T12: =F12-S12 -> -13250
A13: 6 | B13: Дальнереченский ГО | C13: =D13+E13 -> 3658 | D13: 3192 | E13: 466 | F13: =C13*250 -> 914500 | G13: 539440 | H13: =F13-G13 -> 375060 | I13: =июнь!M14*1000 -> 653000 | J13: =июнь!Q14*1000 -> 652100 | K13: =J13-F13 -> -262400 | R13: 928 | S13: =R13*1000 -> 928000 | T13: =F13-S13 -> -13500
