Workbook

Sheet Приложение 1
I1: Приложение № 1
A2: ОТЧЕТ
A3: о достижении значений показателей государственной программы Приморского края
A4: "Экономическое развитие и инновационная экономика Приморского края" на 2013 - 2021 годы
A5: (наименование государственной программы)
A6: за 2018 год
A8: № п/п | B8: Наименование показателей государственной программы | C8: Ед. изм. | D8: Значения показателей государственной программы | G8: Алгоритм формирования (формула) и методологические пояснения к показателю, метод сбора информации <1> | H8: Обоснование отклонений значений показателя на конец отчетного года (при наличии) | I8: Отклонение в % | M8: Степень достижения планового значения показателя (СДП)
D9: год, предшествующий отчетному | E9: отчетный год
E10: план | F10: факт | M10: расчетное | N10: если СДП больше 1, значение СДП принимается равным 1.
A11: 1 | B11: 2 | C11: 3 | D11: 4 | E11: 5 | F11: 6 | G11: 7 | H11: 8
A12: Государственная программа Приморского края "Экономическое развитие и инновационная экономика Приморского края" на 2013 - 2021 годы
A13: 1. | B13: Валовой региональный продукт Приморского края, в % к предыдущему году в сопоставимых ценах | C13: % | D13: 100,8* | E13: 101.4 | F13: 101 | G13: Расчет показателя валового регионального продукта (ВРП) производится территориальными органами государственной статистики в рамках внедрения элементов системы национальных счетов (СНС) на региональном уровне. Методология расчета разработана в центральном аппарате Госкомстата России и является единой для всех регионов. *Оценочные показатели. В соответствии с п. 1.2.6 Федерального плана статистических работ ВРП формируются до 27 февраля за год, предшествующий предыдущему, в текущих и постоянных ценах | H13: По предварительной оценке объем валового регионального продукта Приморского края за 2018 год составил 101,0% к уровню 2017 года. Динамика ВРП сформировалась за счет роста: добычи полезных ископаемых (115,0%), оказания транспортных услуг (114,3%), оборота розничной торговли (104,%). Наблюдается снижение в обрабатывающем производстве (96,6%), производстве продукции сельского хозяйства (95,4% ), объеме работ, выполненных по виду деятельности "Строительство" (85,8%). | I13: =F13/E13 -> 0.99605523 | J13: 1 | M13: =F13/E13 -> 0.99605523 | N13: 1
A14: 2. | B14: Индекс производительности труда | C14: % | D14: 100.4 | E14: 102 | F14: 102 | G14: Приказ Росстата от 28.04.2018 № 274 «Об утверждении методики расчета показателя «Индекс производительности труда» *Оценочные показатели. В соответствии с п. 1.5.9 Федерального плана статистических работ Индекс производительности труда по субъектам Российской Федерации формируется ежегодно до 28 апреля | H14: отклонений нет. | I14: =F14/E14 -> 1 | J14: 1 | M14: =F14/E14 -> 1 | N14: 1
A15: 3. | B15: Доля продукции высокотехнологичных и наукоемких отраслей в валовом региональном продукте относительно уровня 2011 года, в процентах | C15: % | D15: 115,1* | E15: 119.3 | F15: 119.3 | G15: Приказ Росстата от 15.12.2017 № 832 «Об утверждении методики расчета показателей «Доля продукции высокотехнологичных и наукоемких отраслей в валовом внутреннем продукте» и «Доля продукции высокотехнологичных и наукоемких отраслей в валовом региональном продукте субъекта российской федерации» *Оценочные показатели. В соответствии с п. 2.6.5 Федерального плана статистических работ формируются ежегодно до 15 марта | H15: отклонений нет. | I15: =F15/E15 -> 1 | J15: 1 | M15: =F15/E15 -> 1 | N15: 1
A16: 4. | B16: Количество высокопроизводительных рабочих мест | C16: единиц | D16: 230000 | E16: 237300 | F16: 237300 | G16: Приказ Росстата от 09.10.2017 № 665 «Об утверждении методики расчета показателя «Прирост высокопроизводительных рабочих мест, в процентах к предыдущему году» | H16: отклонений нет. | I16: =F16/E16 -> 1 | J16: 1 | M16: =F16/E16 -> 1 | N16: 1
A17: 5. | B17: Доля продукции, произведенной субъектами малого и среднего предпринимательства, в общем объеме ВРП Приморского края | C17: % | D17: 31,9* | E17: 32 | F17: 32 | G17: Приказ Росстата от 24.12.2013 г. № 499 "Об утверждении Порядка разработки методологии составления национальных счетов и ее утверждения и Порядка публикации национальных счетов" *Оценка показателя. В соответствии с п. 1.2.6 Федерального плана статистических работ, утвержденным распоряжением Правительства Российской Федерации от 6 мая 2008 г. № 671-р, валовой региональный продукт формируется до 27 февраля за год, предшествующий предудыщему, в текущих и постоянных ценах. | H17: отклонений нет. | I17: =F17/E17 -> 1 | J17: 1 | M17: =F17/E17 -> 1 | N17: 1
A18: 6. | B18: Оборот продукции (услуг), производимой малыми предприятиями, в том числе микропредприятиями, и индивидуальными предпринимателями на территории Приморского края | C18: млн. рублей | D18: 1066157.3 | E18: 751909.9 | F18: н/д* | G18: * Показатель исключен из Федерального плана статистических работ в связи с отменой действия Постановления Правительства РФ от 03.11.2012 № 1142 "О мерах по реализации Указа Президента Российской Федерации от 21 августа 2012 г. № 1199 "Об оценке эффективности деятельности органов исполнительной власти субъектов Российской Федерации". | H18: нет данных | I18: показатель в расчет не вошел, так как нет данных
A19: 7. | B19: Доля расходов краевого бюджета, формируемая на основе государственных программ Приморского края, в общем объеме расходов краевого бюджета | C19: % | D19: 95 | E19: 95 | F19: 95.9 | G19: Наименование показателя государственной программы Ед. изм. Значение показателя Алгоритм формирования (формула) Примечание Доля расходов краевого бюджета, формируемая на основе государственных программ Приморского края, в общем объеме расходов краевого бюджета % 95,9 Д = ГП /Р, где Д - доля расходов краевого бюджета, формируемых в рамках государственных программ Приморского края; ГП- объем расходов краевого бюджета, утвержденного законом Приморского края в рамках государственных программ; Р-общий объем расходов краевого бюджета -объем расходов краевого бюджета, утвержденного законом Приморского края в рамках государственных программ составил 104 336 506,76 тыс. рублей; - общий объем расходов краевого бюджета 108 802 073,08 тыс. руб. | H19: Значение показателя улучшено, объем расходов краевого бюджета по состоянию на 01.01.2019 в рамках государственных программ Приморского края составил 104 336 506,76 тыс. рублей или 95,9 % от общего объема расходов краевого бюджета ( 108 802 073,08 тыс. руб.) | I19: =F19/E19 -> 1.0094737 | M19: =F19/E19 -> 1.0094737 | N19: 1
A20: 8. | B20: Объем налоговых и неналоговых доходов консолидированного бюджета субъекта Российской Федерации | C20: миллион рублей | D20: 91524.7 | E20: 94270.4 | F20: 111696.88 | G20: https://www.primorsky.ru/upload/medialibrary/a2f/a2fdafbe0fa09e33dfbe140707b17e12.xlsx Отчет консолидированного бюджета Приморского края на 01.01.2019 | H20: Значение показателя улучшено | I20: =F20/E20 -> 1.1848563 | J20: 1 | L20: =(F20/D20)*100 -> 122.04015 | M20: =F20/E20 -> 1.1848563 | N20: 1
A21: Подпрограмма № 1 "Улучшение инвестиционного климата в Приморском крае" на 2013 - 2021 годы | J21: =J13+J14+J15+J16+J17+I19+J20 -> 7.0094737
A22: 1. | B22: Объем инвестиций по отношению к ВРП Приморского края | C22: % | D22: 16.5 | E22: 24 | F22: 15.3 | G22: Приказ Росстата от 30.01.2014 № 56 "Об утверждении методик расчета показателей "Прирост инвестиций в основной капитал, в процентах к предыдущему году", "Объем инвестиций в основной капитал (за исключением бюджетных средств)", "Доля инвестиций в основной капитал в валовом внутреннем продукте" и "Доля инвестиций в основной капитал в валовом региональном продукте субъекта Российской Федерации" Расчетный показатель. Определяется как отношение объема инвестиций в основной капитал к валовому региональному продукту. Инв./ВРП*100% Сайт департамента экономики и развития предпринимательства Приморского края (ВРП) https://primorsky.ru/authorities/executive-agencies/departments/economics/366-%D1%80%D0%B0%20%D0%BE%D1%82%2019.10.2018.PDF | H22: Базовое значение ВРП взято из прогноза социально - экономического развития Приморского края на 2018 год и плановый период 2019 и 2020 годов, утвержденного распоряжением Администрации Приморского края от 17 октября 2017 года №448-ра Значение объема инвестиций соответствует значению за январь - сентябрь 2018 года. | I22: =F22/E22 -> 0.6375 | M22: =F22/E22 -> 0.6375 | N22: 0.64
A23: 2. | B23: Прирост инвестиций в основной капитал к предыдущему году | C23: % | D23: 6.8 | E23: 17.5 | F23: 7.9 | G23: Приказ Росстата от 30.01.2014 № 56 "Об утверждении методик расчета показателей "Прирост инвестиций в основной капитал, в процентах к предыдущему году", "Объем инвестиций в основной капитал (за исключением бюджетных средств)", "Доля инвестиций в основной капитал в валовом внутреннем продукте" и "Доля инвестиций в основной капитал в валовом региональном продукте субъекта Российской Федерации" Расчетный показатель. Определяется как отношение объема инвестиций в основной капитал за отчетный год к объему инвестиций в основной капитал за предыдущий год. Инв. отчетный год/Инв.предыд.год*100%-100% Источником данных служат данные территориального органа Федеральной службы статистики по Приморскому краю из раздела "Официальная статистика" /Предпринимательство/Инвестиции/"Динамика инвестиций в основной капитал". Сайт федеральной службы государственной статистики http://www.primstat.ru:81/BGD/BASE18/IssWWW.exe/Stg/0218/%D1%8D%D0%BA%D1%81%D0%BF%D1%80%D0%B5%D1%81%D1%81%20%D0%B8%D0%BD%D0%B2%D0%B5%D1%81%D1%82%D0%B8%D1%86%D0%B8%D0%B8%2012_2017.htm | H23: Отклонение значений показателя связано со снижением инвестиционной активности, связанное с неблагоприятной внешнеэкономической конъюнктурой, высокой неопределенностью в инвестиционном секторе в связи с принятыми санкциями в отношении Российской Федерации и волатильностью бивалютной корзины. Расчетные периоды январь - сентябрь 2017 и январь сентябрь 2018 | I23: =F23/E23 -> 0.45142857 | M23: =F23/E23 -> 0.45142857 | N23: 0.45
A24: 3. | B24: Прирост инвестиций в основной капитал без учета бюджетных средств | C24: % к предыдущему году | D24: 11.6 | E24: 17.8 | F24: 17.5 | G24: Приказ Росстата от 30.01.2014 № 56 "Об утверждении методик расчета показателей "Прирост инвестиций в основной капитал, в процентах к предыдущему году", "Объем инвестиций в основной капитал (за исключением бюджетных средств)", "Доля инвестиций в основной капитал в валовом внутреннем продукте" и "Доля инвестиций в основной капитал в валовом региональном продукте субъекта Российской Федерации" Расчетный показатель. Определяется как отношение объема инвестиций в основной капитал без учета бюджетных средств за отчетный год к объему инвестиций без учета бюджетных средств за предыдущий год. Инв.(без БС) отчетный год/Инв.предыд.год(без БС)*100%-100% Показатель объема инвестиций в основной капитал без учета бюджетных сретсв рассчитывается как разница между объемом инвестиций в основной капитал и объемом бюджетных средств. Сайт федеральной службы государственной статистики http://www.primstat.ru/default.aspx | H24: Отклонение значений показателя связано со снижением инвестиционной активности, связанное с неблагоприятной внешнеэкономической конъюнктурой, высокой неопределенностью в инвестиционном секторе в связи с принятыми санкциями в отношении Российской Федерации и волатильностью бивалютной корзины. Расчетные периоды январь - сентябрь 2017 и январь сентябрь 2018 | I24: =F24/E24 -> 0.98314607 | M24: =F24/E24 -> 0.98314607 | N24: 0.98
A25: 4. | B25: Доля проектов нормативных правовых актов Приморского края, нормативных правовых актов Приморского края, прошедших процедуру оценки регулирующего воздействия, экспертизу, в общем объеме проектов нормативных правовых актов Приморского края, нормативных правовых актов Приморского края, затрагивающих вопросы осуществления предпринимательской и инвестиционной деятельности, подлежащих оценке регулирующего воздействия, включенных в План проведения экспертизы нормативных правовых актов Приморского края для устранения административных барьеров | C25: % | D25: 100 | E25: 100 | F25: 100 | G25: Распоряжение Правительства РФ от 10.04.2014 N 570-р "Об утверждении перечней показателей оценки эффективности деятельности и методик определения целевых значений показателей оценки эффективности деятельности руководителей органов исполнительной власти по созданию благоприятных условий ведения предпринимательской деятельности (до 2018 года)" Проведены процедуры оценки регулирующего воздействия в отношении 20 проектов НПА Приморского края. Сроки проведения ОРВ соответствуют требованиям постановления Администрации Приморского края от 26 декабря 2012 года № 435-па «Об утверждении Порядка организации и проведения оценки регулирующего воздействия проектов нормативных правовых актов Приморского края, экспертизы нормативных правовых актов Приморского края, оценки фактического воздействия нормативных правовых актов Приморского края». Проведена экспертиза Закона Приморского края от 19.12.2013 №332-КЗ «О регулировании отношений в сфере оборота древесины на территории Приморского края». В Минэкономразвития России направлена информация, необходимая для формирования рейтинга качества осуществления оценки регулирующего воздействия и экспертизы в субъектах Российской Федерации за 2018 г. | H25: отклонений нет | I25: =F25/E25 -> 1 | M25: =F25/E25 -> 1 | N25: 1
A26: 5. | B26: Доля информации о деятельности на приоритетных товарных рынках Приморского края, опубликованной на официальном сайте, из общего объема информации, необходимой к публикации | C26: % | D26: 100 | E26: 100 | F26: 100 | G26: Распоряжение Правительства РФ от 10.04.2014 N 570-р "Об утверждении перечней показателей оценки эффективности деятельности и методик определения целевых значений показателей оценки эффективности деятельности руководителей органов исполнительной власти по созданию благоприятных условий ведения предпринимательской деятельности (до 2018 года)" Ссылки на размещенную информацию по рынкам на странице департамента в разделе «Развитие конкуренции»: https://www.primorsky.ru/upload/medialibrary/ad5/ad58d85df09ebed02f69ae90f4de1df9.doc https://www.primorsky.ru/upload/medialibrary/f02/f02ef16d9c5f6b7fbeb9a5a7dbf691fe.doc | H26: отклонений нет | I26: =F26/E26 -> 1 | M26: =F26/E26 -> 1 | N26: 1
A27: 6. | B27: Оценка предпринимательским сообществом эффективности реализации внедренных элементов деятельности органов исполнительной власти субъекта Российской Федерации по обеспечению благоприятного инвестиционного климата в регионе | C27: баллов | D27: 10 | E27: 10 | F27: 10 | G27: Распоряжение Правительства РФ от 10.04.2014 N 570-р "Об утверждении перечней показателей оценки эффективности деятельности и методик определения целевых значений показателей оценки эффективности деятельности руководителей органов исполнительной власти по созданию благоприятных условий ведения предпринимательской деятельности (до 2018 года)" Показатель оценочный | H27: отклонений нет | I27: =F27/E27 -> 1 | M27: =F27/E27 -> 1 | N27: 1
A28: Подпрограмма № 2 "Развитие малого и среднего предпринимательства в Приморском крае" на 2013 - 2021 годы | J28: =I22+I23+I24+I25+I26+I27 -> 5.0720746
A29: 1. | B29: Количество субъектов малого и среднего предпринимательства, получивших государственную поддержку | C29: единиц | D29: 939 | E29: 1854 | F29: 1965 | G29: Кп = Кр + Кмо + Кгф + Кц, где: Кп - количество субъектов малого и среднего предпринимательства, получивших государственную поддержку в рамках реализации данной подпрограммы; Кр - количество субъектов МСП, получивших "прямую" финансовую поддержку в рамках настоящей подпрограммы; Кмо - количество субъектов МСП, получивших поддержку в муниципальных образованиях края за счет средств субсидий из краевого и федерального бюджетов; Кгф - количество субъектов МСП, получивших поддержку в НО "Гарантийный фонд Приморского края"; Кц - количество субъектов МСП, получивших поддержку в АНО "Центр развития экспорта Приморского края". Источником информации для определения значения показателя являются отчеты получателей поддержки и реестры субъектов малого и среднего предпринимательства - получателей субсидий, утвержденные департаментом экономики и развития предпринимательства Приморского края. | H29: показатель улучшен | I29: =F29/E29 -> 1.0598706 | J29: 1 | L29: =F29/D29 -> 2.0926518 | M29: =F29/E29 -> 1.0598706 | N29: 1
A30: 2. | B30: Количество субъектов малого и среднего предпринимательства (включая индивидуальных предпринимателей) в расчете на 1 тыс. человек населения Приморского края | C30: единиц | D30: 46.6 | E30: 40 | F30: 47 | G30: Количество субъектов МСП / (Численность населения Приморского края / 1000). Источник информации для расчета показателя: данные ФНС России - единый реестр субъектов МСП (rmsp.nalog.ru); данные Росстата (gks.ru). *Данные представлены по состоянию на 01.12.2018, в связи с отсутствием информации о численности населения Приморского края по итогам 2018 года. В соответствии с п. 1.8.1 Федерального плана статистических работ, утвержденным распоряжением Правительства Российской Федерации от 6 мая 2008 г. № 671-р, итоговая оценка численности постоянного населения на 1 января текущего года формируется до 15 марта ежегодно. | H30: показатель улучшен | I30: =F30/E30 -> 1.175 | J30: 1 | L30: =F30/D30 -> 1.0085837 | N30: 1
A31: 3. | B31: Доля среднесписочной численности работников (без внешних совместителей), занятых у субъектов малого и среднего предпринимательства (в том числе у индивидуальных предпринимателей), в общей численности занятого населения | C31: процент | D31: 26.5 | E31: 28.6 | F31: 23.3 | G31: Дч = Чмсп / Чз * 100%, где: Дч - доля среднесписочной численности работников (без внешних совместителей), занятых у субъектов малого и среднего предпринимательства (в том числе у индивидуальных предпринимателей), в общей численности занятого населения; Чмсп - среднесписочная численность работников (без внешних совместителей), занятых у субъектов малого и среднего предпринимательства (в том числе у индивидуальных предпринимателей); Чз - общая численность занятого населения. Источник информации для расчета показателя: данные ФНС России - единый реестр субъектов МСП (rmsp.nalog.ru); данные Росстата (gks.ru). *Данные представлены по состоянию на 01.12.2018, в связи с отсутствием информации о численности занятого населения по итогам 2018 года. | H31: По информации на 01.12.2018 года значение показателя меньше планового в связи с сокращением численности занятых на малых и средних предприятиях. | I31: =F31/E31 -> 0.81468531 | L31: =F31/D31 -> 0.87924528 | N31: 0.8
A32: 4. | B32: Количество вновь созданных рабочих мест (включая вновь зарегистрированных индивидуальных предпринимателей) субъектами малого и среднего предпринимательства, получившими государственную поддержку | C32: единиц | D32: 156 | E32: 265 | F32: 446 | G32: Км = К1 + К2 + К3 + К4, где: Км - количество вновь созданных рабочих мест (включая вновь зарегистрированных индивидуальных предпринимателей); К1 - количество вновь созданных рабочих мест у субъектов малого и среднего предпринимательства, получивших "прямую" финансовую поддержку в рамках реализации подпрограммы; К2 - количество вновь созданных рабочих мест у субъектов малого и среднего предпринимательства (включая вновь зарегистрированных индивидуальных предпринимателей), получивших финансовую поддержку в муниципальных образованиях края; К3 - количество вновь созданных рабочих мест у субъектов малого и среднего предпринимательства, получивших поддержку в НО "Гарантийный фонд Приморского края"; К4 - количество вновь созданных рабочих мест у субъектов малого и среднего предпринимательства, получивших поддержку в АНО "Центр развития экспорта Приморского края". Источником информации для определения значения показателя являются сведения и отчеты получателей поддержки. | H32: показатель улучшен | I32: =F32/E32 -> 1.6830189 | J32: 1 | L32: =F32/E32 -> 1.6830189 | M32: 1.7 | N32: 1
A33: 5. | B33: Прирост оборота продукции и услуг, производимых малыми предприятиями, в том числе микропредприятиями, и индивидуальными предпринимателями (в сопоставимых ценах) | C33: % к предыдущему году | D33: - | E33: 7.3 | F33: н/д* | G33: * Показатель исключен из Распоряжения Правительства РФ от 10.04.2014 № 570-р "Об утверждении перечней показателей оценки эффективности деятельности и методик определения целевых значений показателей оценки эффективности деятельности руководителей органов исполнительной власти по созданию благоприятных условий ведения предпринимательской деятельности (до 2018 года)" в связи с принятием Постановления Правительства РФ от 19.04.2018 № 472 "Об осуществлении мер по реализации государственной политики в сфере оценки эффективности деятельности органов исполнительной власти субъектов Российской Федерации и признании утратившими силу некоторых актов Правительства Российской Федерации". | H33: показатель в расчет не вошел, так как нет данных | N33: 1
A34: 6. | B34: Оценка предпринимательским сообществом эффективности реализации программы поддержки малого и среднего предпринимательства | C34: баллов | D34: - | E34: 8 | F34: н/д* | G34: * Показатель исключен из Распоряжения Правительства РФ от 10.04.2014 № 570-р "Об утверждении перечней показателей оценки эффективности деятельности и методик определения целевых значений показателей оценки эффективности деятельности руководителей органов исполнительной власти по созданию благоприятных условий ведения предпринимательской деятельности (до 2018 года)" в связи с принятием Постановления Правительства РФ от 19.04.2018 № 472 "Об осуществлении мер по реализации государственной политики в сфере оценки эффективности деятельности органов исполнительной власти субъектов Российской Федерации и признании утратившими силу некоторых актов Правительства Российской Федерации". | H34: показатель в расчет не вошел, так как нет данных
A35: 7. | B35: Прирост количества субъектов малого и среднего предпринимательства, осуществляющих деятельность на территории Приморского края | C35: % к предыдущему году | D35: - | E35: 7.3 | F35: н/д* | G35: * Показатель исключен из Распоряжения Правительства РФ от 10.04.2014 № 570-р "Об утверждении перечней показателей оценки эффективности деятельности и методик определения целевых значений показателей оценки эффективности деятельности руководителей органов исполнительной власти по созданию благоприятных условий ведения предпринимательской деятельности (до 2018 года)" в связи с принятием Постановления Правительства РФ от 19.04.2018 № 472 "Об осуществлении мер по реализации государственной политики в сфере оценки эффективности деятельности органов исполнительной власти субъектов Российской Федерации и признании утратившими силу некоторых актов Правительства Российской Федерации". | H35: показатель в расчет не вошел, так как нет данных | N35: 1
A36: 8. | B36: Прирост среднесписочной численности работников (без внешних совместителей), занятых у субъектов малого и среднего предпринимательства, получивших государственную поддержку | C36: процент | D36: 9.5 | E36: 2.5 | F36: 13.8 | G36: Письмо Департамента развития малого и среднего предпринимательства и конкуренции Минэкономразвития России от 06.09.2017 № Д05и-885 о методических рекомендациях по расчету показателей результативности использования субсидий из федерального бюджета. Источником информации для расчета значения показателя являются сведения и отчеты получателей поддержки. | H36: показатель улучшен | I36: =F36/E36 -> 5.52 | J36: 1 | L36: =F36/E36 -> 5.52 | M36: !!!! | N36: 1
A37: 9. | B37: Увеличение оборота субъектов малого и среднего предпринимательства, получивших государственную поддержку, в постоянных ценах по отношению к показателю 2014 года | C37: процент | D37: 53.6 | E37: 4 | F37: 33.3 | G37: Письмо Департамента развития малого и среднего предпринимательства и конкуренции Минэкономразвития России от 06.09.2017 № Д05и-885 о методических рекомендациях по расчету показателей результативности использования субсидий из федерального бюджета. Источником информации для расчета значения показателя являются сведения и отчеты получателей поддержки, а также данные статистики по индексу потребительских цен. | H37: показатель улучшен | I37: =F37/E37 -> 8.325 | J37: 1 | L37: =F37/E37 -> 8.325 | N37: 1
A38: 10. | B38: Доля обрабатывающей промышленности в обороте субъектов малого и среднего предпринимательства (без учета индивидуальных предпринимателей), получивших государственную поддержку | C38: процент | D38: 15 | E38: 5 | F38: 28 | G38: Письмо Департамента развития малого и среднего предпринимательства и конкуренции Минэкономразвития России от 06.09.2017 № Д05и-885 о методических рекомендациях по расчету показателей результативности использования субсидий из федерального бюджета. Источником информации для расчета значения показателя являются сведения и отчеты получателей поддержки. | H38: показатель улучшен | I38: =F38/E38 -> 5.6 | J38: 1 | L38: =F38/E38 -> 5.6 | N38: 1
A39: 11. | B39: Годовой объем закупок товаров, работ, услуг, осуществляемых отдельными видами юридических лиц у субъектов малого и среднего предпринимательства, в совокупном стоимостном объеме договоров, заключенных по результатам закупок, в том числе: | C39: процент | D39: 41.45 | E39: 25 | F39: 69.32 | G39: Стоимостной объем договоров, заключенных с субъектами малого и среднего предпринимательства (по результатам закупок всеми способами) в соответствии с Федеральным законом от 18.07.2011 г. № 223-ФЗ за отчетный период / Общий стоимостной объем договоров за отчетный период * 100%. Источник информации для расчета показателя: данные официального сайта zakupki.gov.ru (годовые отчеты о закупке товаров, работ, услуг отдельными видами юридических лиц у субъектов малого и среднего предпринимательства в соответствии с постановлением Правительства Российской Федерации от 11.12.2014 г. № 1352). | H39: показатель улучшен | I39: =F39/E39 -> 2.7728 | J39: 1 | L39: =F39/E39 -> 2.7728 | N39: 1
A40: 11.1. | B40: годовой стоимостной объем договоров, заключенных с субъектами малого и среднего предпринимательства по результатам закупок, участниками которых являются только субъекты малого и среднего предпринимательства | C40: процент | D40: 39.22 | E40: 15 | F40: 29.26 | G40: Стоимостной объем договоров, заключенных с субъектами малого и среднего предпринимательства (по результатам прямых закупок, участниками которых являются исключительно субъекты МСП) в соответствии с Федеральным законом от 18.07.2011 г. № 223-ФЗ за отчетный период / Общий стоимостной объем договоров за отчетный период * 100%. Источник информации для расчета показателя: данные официального сайта zakupki.gov.ru (годовые отчеты о закупке товаров, работ, услуг отдельными видами юридических лиц у субъектов малого и среднего предпринимательства в соответствии с постановлением Правительства Российской Федерации от 11.12.2014 г. № 1352). | H40: показатель улучшен | I40: =F40/E40 -> 1.9506667 | J40: 1 | L40: =F40/E40 -> 1.9506667 | N40: 1
A41: 12. | B41: Доля средств, направляемая на реализацию мероприятий в сфере развития малого и среднего предпринимательства в монопрофильных муниципальных образованиях, в общем объеме финансового обеспечения государственной поддержки малого и среднего предпринимательства за счет средств федерального бюджета | C41: процент | D41: 22.4 | E41: 10 | F41: 10.75 | G41: Объем средств федерального бюджета, направляемый на реализацию мероприятий в сфере развития малого и среднего предпринимательства в монопрофильных муниципальных образованиях / Общий объем средств федерального бюджета, направляемый на реализацию мероприятий в сфере развития малого и среднего предпринимательства в Приморском крае * 100%. Источник информации для определения показателя: данные бюджетной, финансовой отчетности. | H41: показатель улучшен | I41: =F41/E41 -> 1.075 | J41: 1 | L41: =F41/E41 -> 1.075 | N41: 1
...

Sheet Лист6

Sheet Приложение № 2
G1: Приложение № 2
A4: ОТЧЕТ
A5: о степени выполнения подпрограмм, программ, принятых в соответствии с требованиями федерального законодательства в сфере реализации государственной программы государственной программы Приморского края государственной программы Приморского края "Экономическое развитие и инновационная экономика Приморского края" на 2013 - 2021 годы за 2018 год.
A7: № п/п | B7: Наименование подпрограммы, программы, принятой в соответствии с требованиями федерального законодательства в сфере реализации государственной программы | C7: Плановый срок | E7: Фактический срок | G7: Результаты | I7: Причины недостижения запланированных результатов
C8: начала реализации | D8: окончания реализации | E8: начала реализации | F8: окончания реализации | G8: запланированные | H8: достигнутые | K8: Связь мероприятий программы с показателями
A9: 1 | B9: 2 | C9: 3 | D9: 4 | E9: 5 | F9: 6 | G9: 7 | H9: 8 | I9: 9
A10: ='[1]Приложение № 6 (приложение №5)'!A20 -> 1. | B10: ='[9]Приложение № 4'!B20 -> Подпрограмма № 1 «Улучшение инвестиционного климата в Приморском крае» на 2013-2021 годы | C10: 2013 | D10: 2020 | E10: 2013 | F10: 2020 | G10: На улучшение инвестиционного климата в Приморском крае в 2018 году запланировано 141,2 млн рублей. | H10: На улучшение инвестиционного климата в Приморском крае в 2018 году израсходовано 153,6 млн рублей. (108%). | I10: результаты достигнуты
A13: ='[1]Приложение № 6 (приложение №5)'!A24 -> 1.1. | B13: ='[1]Приложение № 6 (приложение №5)'!B24 -> Основное мероприятие «Создание благоприятных условий для привлечения инвестиций в экономику Приморского края» | C13: 2013 | D13: 2020 | E13: 2013 | F13: 2020 | G13: На организацию деятельности АНО «Инвестиционное Агентство Приморского края» в целях предоставления услуг в сфере повышения инвестиционной привлекательности Приморского края, роста привлечения капитала с внешних рынков запланировано предоставление субсидии из краевого бюджета 48578,06 млн рублей. Организация работы совещательного органа «Экспертный (общественный) совет по привлечению инвестиций»; | H13: Предоставлено АНО «Инвестиционное Агентство Приморского края» субсидий из краевого бюджета на осуществление уставной деятельности в размере 58678,8 млн рублей. (120%)
A14: ='[1]Приложение № 6 (приложение №5)'!A27 -> 1.1.1. | B14: ='[1]Приложение № 6 (приложение №5)'!B27 -> Предоставление автономной некоммерческой организации (далее - АНО) «Агентство по привлечению инвестиций в Приморский край» субсидии из краевого бюджета на осуществление уставной деятельности | C14: 2013 | D14: 2013 | E14: 2013 | F14: 2013 | G14: На организацию деятельности АНО «Инвестиционное Агентство Приморского края» в целях предоставления услуг в сфере повышения инвестиционной привлекательности Приморского края, роста привлечения капитала с внешних рынков запланировано предоставление субсидии из краевого бюджета 48578,06 млн рублей. | H14: Предоставлено АНО «Инвестиционное Агентство Приморского края» субсидий из краевого бюджета на осуществление уставной деятельности в размере 58678,8 млн рублей. В отчетном периоде - 1-4 кварталы 2018 года - в Агентство поступила 85 инвестиционных заявок на реализацию инвестиционных проектов на территории Приморского края. За текущий период было проведено 157 консультаций для субъектов инвестиционной деятельности В 2018 году Агентство приняло участие в 32 конгрессно-выставочных международных мероприятиях. В рамках PR-взаимодействия со СМИ за отчетный период Агентством подготовлено и размещено на инвестиционном портале более 230 пресс-релизов.
A15: ='[1]Приложение № 6 (приложение №5)'!A28 -> 1.1.2. | B15: ='[1]Приложение № 6 (приложение №5)'!B28 -> Предоставление АНО «Инвестиционное Агентство Приморского края» субсидии из краевого бюджета на осуществление уставной деятельности | C15: 2013 | D15: 2020 | E15: 2013 | F15: 2020 | G15: На организацию деятельности АНО «Инвестиционное Агентство Приморского края» в целях предоставления услуг в сфере повышения инвестиционной привлекательности Приморского края, роста привлечения капитала с внешних рынков запланировано предоставление субсидии из краевого бюджета 48578,06 млн рублей. | H15: Предоставлено АНО «Инвестиционное Агентство Приморского края» субсидий из краевого бюджета на осуществление уставной деятельности в размере 58678,8 млн рублей. В отчетном периоде - 1-4 кварталы 2018 года - в Агентство поступила 85 инвестиционных заявок на реализацию инвестиционных проектов на территории Приморского края. За текущий период было проведено 157 консультаций для субъектов инвестиционной деятельности В 2018 году Агентство приняло участие в 32 конгрессно-выставочных международных мероприятиях. В рамках PR-взаимодействия со СМИ за отчетный период Агентством подготовлено и размещено на инвестиционном портале более 230 пресс-релизов. | I15: 1 | K15: прирост инвестиций в основной капитал к предыдущему году, прирост инвестиций в основной капитал без учета бюджетных средств
A16: 1.1.2.1. | B16: Контрольное событие: разработан порядок определения объема и условий предоставления АНО «Инвестиционное Агентство Приморского края» субсидий из краевого бюджета на осуществление уставной деятельности | C16: дата наступления контрольного события (месяц, год): март 2015 г. | G16: разработан порядок определения объема и условий предоставления АНО «Инвестиционное Агентство Приморского края» субсидий из краевого бюджета на осуществление уставной деятельности
A17: 1.1.2.2. | B17: Контрольное событие: заключено соглашение между департаментом экономики и стратегического развития Приморского края и АНО «Инвестиционное Агентство Приморского края» о предоставлении субсидии из краевого бюджета | C17: дата наступления контрольного события (месяц, год): март 2018 апрель 2018 сентябрь 2018 | G17: заключено соглашение между департаментом экономики и стратегического развития Приморского края и АНО «Инвестиционное Агентство Приморского края» о предоставлении субсидии из краевого бюджета | H17: Заключено соглашение между департаментом экономики и развития предпринимательства Приморского края и автономной некоммерческой организацией "Инвестиционное Агентство Приморского края" о предоставлении субсидий из краевого бюджета на осуществление уставной деятельности от 26 марта 2018 года в соответствии с приказом Департамента от 23.03.2018 № 17. Заключено дополнительное соглашение между департаментом экономики и развития предпринимательства Приморского края и автономной некоммерческой организацией "Инвестиционное Агентство Приморского края" о предоставлении субсидий из краевого бюджета на осуществление уставной деятельности от 03.04.2018 г. №1/1 Заключено дополнительное соглашение между департаментом экономики и развития предпринимательства Приморского края и автономной некоммерческой организацией "Инвестиционное Агентство Приморского края" о предоставлении субсидий из краевого бюджета на осуществление уставной деятельности от 24.09.2018 г. №1/2 Заключено дополнительное соглашение между департаментом экономики и развития предпринимательства Приморского края и автономной некоммерческой организацией "Инвестиционное Агентство Приморского края" о предоставлении субсидий из краевого бюджета на осуществление уставной деятельности от 07.12.2018 г. №1/3
A18: ='[1]Приложение № 6 (приложение №5)'!A30 -> 1.1.3. | B18: ='[1]Приложение № 6 (приложение №5)'!B30 -> Организация ежегодного Тихоокеанского экономического конгресса | C18: 2013 | D18: 2013 | G18: формирование репутации края как привлекательной и безопасной инвестиционной площадки в АТР. Повышение информированности потенциальных инвесторов об инвестиционных возможностях Приморского края. Проведение качественного маркетинга территории на всех уровнях
A19: ='[1]Приложение № 6 (приложение №5)'!A32 -> 1.1.4. | B19: ='[1]Приложение № 6 (приложение №5)'!B32 -> Организация работы по оценке инвестиционной привлекательности Приморского края в рейтинговых исследованиях российских и зарубежных рейтинговых агентств | C19: 2013 | D19: 2017 | E19: 2013 | F19: 2017 | H19: Исключено из ГП
A20: ='[1]Приложение № 6 (приложение №5)'!A35 -> 1.1.5. | B20: ='[1]Приложение № 6 (приложение №5)'!B35 -> Создание и программное сопровождение многоязычного интернет-портала об инвестиционной деятельности в Приморском крае | C20: 2013 | D20: 2013
A22: ='[1]Приложение № 6 (приложение №5)'!A39 -> 1.1.6. | B22: ='[1]Приложение № 6 (приложение №5)'!B39 -> Разработка и издание печатного материала «Инвестиционный паспорт Приморского края» | C22: 2013 | D22: 2015
A23: ='[1]Приложение № 6 (приложение №5)'!A42 -> 1.1.7. | B23: ='[1]Приложение № 6 (приложение №5)'!B42 -> Разработка и издание печатного материала «Каталог инвестиционных проектов Приморского края» | C23: 2013 | D23: 2015
A24: ='[1]Приложение № 6 (приложение №5)'!A45 -> 1.1.8. | B24: ='[1]Приложение № 6 (приложение №5)'!B45 -> Создание (строительство, реконструкция) объектов инфраструктуры для краевых государственных нужд, необходимой для обеспечения функционирования инвестиционных проектов Приморского края | C24: 2013 | D24: 2020 | E24: 2013 | F24: 2020 | G24: Мониторинг создания объектов транспортной, энергетической, коммунальной инфраструктуры с участием средств краевого бюджета | H24: В соответствии с Регламентом разработки, согласования, утверждения и контроля реализации Плана контрольных событий проекта, Плана-графика проекта, Оперативного плана мероприятий проекта в рамках реализации Приморским краем соглашений о создании ТОСЭР велась реализация мероприятий по строительству и ремонту объектов транспортной и коммунальной инфраструктуры в ТОСЭР «Надеждинская» ТОСЭР «Михайловский» ТОСЭР «Большой Камень». | I24: 2 | K24: оказывает прямое влияние на все показатели подпрограммы, оказывает непосредственное влияние на достижение следующих показателей: объем инвестиций по отношению к ВРП Приморского края, прирост инвестиций в основной капитал к предыдущему году, прирост инвестиций в основной капитал без учета бюджетных средств
A25: 1.1.8.1. | B25: Контрольное событие: разработан и принят Закон Приморского края «Об участии Приморского края в проектах государственно-частного партнерства» | C25: дата наступления контрольного события (месяц, год): февраль 2015 г. | G25: разработан и принят Закон Приморского края «Об участии Приморского края в проектах государственно-частного партнерства»
A26: 1.1.8.2. | B26: Контрольное событие: разработан закон Приморского края «О внесении изменений в Закон Приморского края «О государственной поддержке инвестиционной деятельности в Приморском крае» | C26: дата наступления контрольного события (месяц, год): сентябрь 2015 г. | G26: разработан закон Приморского края «О внесении изменений в Закон Приморского края «О государственной поддержке инвестиционной деятельности в Приморском крае»
A27: ='[1]Приложение № 6 (приложение №5)'!A48 -> 1.1.9. | B27: ='[1]Приложение № 6 (приложение №5)'!B48 -> Обеспечение открытого информационного пространства инвестиционной деятельности | C27: 2013 | D27: 2020 | E27: 2013 | F27: 2020 | G27: Организация работы канала прямой связи инвесторов и руководства Приморского края для оперативного решения возникающих в процессе инвестиционной деятельности проблем и вопросов. запуск на обновленной платформе двуязычного Инвестиционного интернет-портал Приморского края: www.invest.primorsky.ru прием инвестиционных заявок на электронная почта приема - prim-invest@inbox.ru Сопровождение инвестиционного интернет-портала Приморского края. | H27: В Приморском крае работают каналы прямой связи инвесторов и руководства Приморского края для оперативного решения возникающих в процессе инвестиционной деятельности проблем и вопросов: - запущен на обновленной платформе двуязычный Инвестиционный интернет-портал Приморского края: www.invest.primorsky.ru - работает электронная почта приема инвестиционных заявок - prim-invest@inbox.ru Количество посетителей Инвестиционного интернет-портала Приморского края за январь - декабрь 2018 года - 23 648 | I27: 3 | K27: оказывает прямое влияние на все показатели подпрограммы, оказывает непосредственное влияние на достижение следующих показателей: объем инвестиций по отношению к ВРП Приморского края, прирост инвестиций в основной капитал к предыдущему году, прирост инвестиций в основной капитал без учета бюджетных средств
A29: ='[1]Приложение № 6 (приложение №5)'!A50 -> 1.2. | B29: ='[1]Приложение № 6 (приложение №5)'!B50 -> Основное мероприятие «Развитие особых экономических зон» | C29: 2014 | D29: 2017 | E29: 2014 | F29: 2017 | G29: создание эффективной инновационной инфраструктуры на территориях особых экономических зон Приморского края; создание инженерной, транспортной, социальной, инновационной и иной инфраструктуры особых экономических зон Приморского края; формирование системы управления особых экономических зон Приморского края; обеспечение контроля за исполнением резидентами соглашений о ведении деятельности на территории особых экономических зон Приморского края; развитие экспорта высокотехнологичной продукции и интеллектуальных услуг; создание новых рабочих мест в Приморском крае
A30: ='[1]Приложение № 6 (приложение №5)'!A52 -> 1.2.1. | B30: ='[1]Приложение № 6 (приложение №5)'!B52 -> Взнос в уставный капитал акционерного общества «Владивосток Индастриал Сервис» в целях создания инновационной, инженерной, транспортной, социльной и иной инфраструктуры особой экономической зоны промышленно-производственнго типа в городе Владивостоке | C30: 2014 | D30: 2017 | E30: 2014 | F30: 2017 | G30: увеличение с 75 тыс. авто до 100 тыс. авто объема сборки автомобилей в Приморском крае, переход на мелкоузловую сборку автомобилей, создание объектов инфраструктуры особой экономической зоны промышленно-производственного типа на территории города Владивостока | H30: В соответствии с постановлением Правительства Российской Федерации от 6 декабря 2017 г. № 1477 «О досрочном прекращении существования особой экономической зоны промышленно-производственного типа на территории г. Владивостока» особая экономическая зона перестала существовать. | I30: Отсутствие финансирования
A31: 1.2.1.1. | B31: Контрольное событие: разработан закон Приморского края «Об установлении льготного налогообложения резидентов особой экономической зоны промышленно-производственного типа в г. Владивостоке» | C31: дата наступления контрольного события (месяц, год): март 2015 г. | G31: разработан закон Приморского края «Об установлении льготного налогообложения резидентов особой экономической зоны промышленно-производственного типа в г. Владивостоке»
A32: 1.2.1.2. | B32: Контрольное событие: разработан закон Приморского края «Об установлении налоговых льгот резидентам территорий опережающего социально-экономического развития Приморского края» | C32: дата наступления контрольного события (месяц, год): июнь 2015 г. | G32: разработан закон Приморского края «Об установлении налоговых льгот резидентам территорий опережающего социально-экономического развития Приморского края»
A33: 1.2.1.3. | B33: Контрольное событие: Подготовлен проект решения о предоставлении бюджетных инвестиций управляющей компании особой экономической зоны | C33: дата наступления контрольного события (месяц, год): декабрь 2015 г. | G33: подготовлен проект решения о предоставлении бюджетных инвестиций управляющей компании особой экономической зоны
A34: ='[1]Приложение № 6 (приложение №5)'!A54 -> 1.3. | B34: ='[1]Приложение № 6 (приложение №5)'!B54 -> Основное мероприятие «Содействие развитию моногородов» | C34: 2013 | D34: 2014 | G34: уменьшение зависимости монопрофильных муниципальных образований от градообразующих предприятий, в том числе посредством развития социальной и инженерной инфраструктуры
A35: ='[1]Приложение № 6 (приложение №5)'!A57 -> 1.3.1. | B35: ='[2]Приложение № 6 (приложение № 5)'!B57 -> Предоставление субсидий из краевого бюджета бюджетам монопрофильных муниципальных образований Приморского края на реализацию мероприятий по поддержке и развитию социальной и инженерной инфраструктуры комплексных инвестиционных планов модернизации мо | C35: 2013 | D35: 2014
A36: ='[1]Приложение № 6 (приложение №5)'!A60 -> 1.4. | B36: ='[1]Приложение № 6 (приложение №5)'!B60 -> Основное мероприятие «Повышение качества оценки регулирующего воздействия нормативных правовых актов и их проектов | C36: 2013 | D36: 2020 | E36: 2013 | F36: 2020 | G36: проведение оценки регулирующего воздействия проектов нормативных правовых актов Приморского края, экспертизы нормативных правовых актов Приморского края в порядке и в сроки в соответствии с Законом Приморского края от 22.12.2008 № 373-КЗ, Постановлением Администрации Приморского края от 26.12.2012 № 435-па. | H36: Завершена процедура оценки регулирующего воздействия по 20 нормативном правовым актам Приморского края. В отношении 1 закона Приморского края проведена экспертиза
G54: проведение оценки регулирующего воздействия проектов нормативных правовых актов Приморского края, экспертизы нормативных правовых актов Приморского края в порядке и в сроки в соответствии с Законом Приморского края от 22.12.2008 № 373-КЗ, Постановлением Администрации Приморского края от 26.12.2012 № 435-па.
A55: 1.4.1. | B55: Повышение качества регуляторной среды для бизнеса | C55: 2013 | D55: 2020 | E55: 2013 | F55: 2020 | G55: проведение оценки регулирующего воздействия проектов нормативных правовых актов Приморского края, экспертизы нормативных правовых актов Приморского края в порядке и в сроки в соответствии с Законом Приморского края от 22.12.2008 № 373-КЗ, Постановлением Администрации Приморского края от 26.12.2012 № 435-па. | H55: Завершена процедура оценки регулирующего воздействия по 20 нормативном правовым актам Приморского края. В отношении 1 закона Приморского края проведена экспертиза | I55: 4 | K55: оказывает непосредственное влияние на показатели подпрограммы
A56: 1.4.1.1. | B56: Контрольное событие: подготовлен отчет о состоянии оценки регулирующего воздействия в Приморском крае | C56: дата наступления контрольного события (месяц, год): февраль 2015 г. февраль 2016 г. Февраль 2017 г. | E56: 15 февраля 2016 года | G56: подготовлен отчет о состоянии оценки регулирующего воздействия в Приморском крае | H56: Отчет о внедрении ОРВ в Приморском крае за 2017 год для формирования рейтинга качества проведения оценки регулирующего воздействия и экспертизы в субъектах Российской Федерации направлен в Минэкономразвития России в ноябре 2017 года. Сроки предоставления информации изменены Минэкономразвития России.
A57: 1.4.1.2. | B57: Контрольное событие: проведен семинар о процедуре оценки регулирующего воздействия для органов исполнительной власти Приморского края, органов местного самоуправления Приморского края | C57: дата наступления контрольного события (месяц, год): февраль 2017 г. июнь 2017 г. ноябрь 2017 г. | E57: 29 января 2016 года; 25 февраля 2016 года | G57: проведение семинара о процедуре оценки регулирующего воздействия для органов исполнительной власти Приморского края, органов местного самоуправления Приморского края | H57: 25 июня проведен семинар-совещание для представителей органов местного самоуправления муниципальных образований Приморского края по вопросам внедрения оценки регулирующего воздействия на муниципальном уровне и внедрения Стандарта развития конкуренции в Приморском крае.
A58: 1.4.1.1. | B58: Контрольное событие: подготовлен отчет о состоянии оценки регулирующего воздействия в Приморском крае | C58: дата наступления контрольного события (месяц, год): ноябрь 2018 | G58: подготовлен отчет о о внедрении ОРВ в Приморском крае за 2018 год | H58: Отчет о внедрении ОРВ в Приморском крае за 2018 год для формирования рейтинга качества проведения оценки регулирующего воздействия и экспертизы в субъектах Российской Федерации направлен в Минэкономразвития России в ноябре 2018 года. Сроки предоставления информации изменены Минэкономразвития России.
A59: 1.4.1.2. | B59: Контрольное событие: проведен семинар о процедуре оценки регулирующего воздействия для органов исполнительной власти Приморского края, органов местного самоуправления Приморского края | C59: дата наступления контрольного события (месяц, год): июнь, декабрь | G59: проведены семинары-совещания для представителей органов местного самоуправления муниципальных образований Приморского края по вопросам внедрения оценки регулирующего воздействия | H59: 21 июня и 21 декабря 2018 года проведены семинары-совещания для представителей органов местного самоуправления муниципальных образований Приморского края по вопросам внедрения оценки регулирующего воздействия на муниципальном уровне и внедрения Стандарта развития конкуренции в Приморском крае.
A60: ='[1]Приложение № 6 (приложение №5)'!A96 -> 1.5. | B60: ='[1]Приложение № 6 (приложение №5)'!B96 -> Основное мероприятие «Создание благоприятной конкурентной среды» | C60: 2013 | D60: 2020 | E60: 2013 | F60: 2020 | G60: проведение исследования конкурентной среды на рынках товаров и услуг Приморского края в соответствии с распоряжением Правительства РФ от 05.09.2015 , распоряжением Губернатора Приморского края от 13.05.2016 № 88-рг, пресечение согласованных действий хозяйствующих субъектов, направленных на недопущение ограничения и устранения конкуренции на рынках товаров и услуг Приморского края, в соответствии с Федеральным законом от 26.07.2006 № 135-ФЗ, Постановлением Правительства РФ от 18.10 2018, распоряжением Губернатора Приморского края от 28.02.2019 № 52-рг | H60: в целях определения эффективности реализуемых мер по развитию конкуренции ежеквартально проводится мониторинг состояния конкуренции на приоритетных товарных рынках Приморского края (рынок агропродовольственных товаров, розничной торговли, строительства и стройматериалов, пассажирских и грузовых перевозок, жилищно-коммунальных услуг, туристских услуг).
A77: ='[1]Приложение № 6 (приложение №5)'!A114 -> 1.5.1. | B77: ='[1]Приложение № 6 (приложение №5)'!B114 -> Мониторинг состояния и развития конкурентной среды на рынках товаров и услуг края | C77: 2013 | D77: 2020 | E77: 2013 | F77: 2020 | G77: проведение исследования конкурентной среды на рынках товаров и услуг Приморского края в соответствии с распоряжением Правительства РФ от 05.09.2015 , распоряжением Губернатора Приморского края от 13.05.2016 № 88-рг, пресечение согласованных действий хозяйствующих субъектов, направленных на недопущение ограничения и устранения конкуренции на рынках товаров и услуг Приморского края, в соответствии с Федеральным законом от 26.07.2006 № 135-ФЗ, Постановлением Правительства РФ от 18.10 2018, распоряжением Губернатора Приморского края от 28.02.2019 № 52-рг | I77: 5 | K77: оказывает непосредственное влияние на все показатели программы
A78: 1.5.1.1. | B78: Контрольное событие: подготовлен отчет о состоянии конкуренции в Приморском крае | C78: дата наступления контрольного события (месяц, год): январь, апрель, июль, октябрь 2015 г. январь, апрель, июль, октябрь 2016 г. январь, апрель, июль, октябрь 2017 г. январь, апрель, июль, октябрь 2018 г. январь, апрель, июль, октябрь 2019 г. январь, апрель, июль, октябрь 2020 г. | E78: 31 октябрь 2018 года | G78: подготовлен отчет о состоянии конкуренции в Приморском крае | H78: подготовлен отчет о состоянии конкуренции в Приморском крае. Информация о ходе выполнения мероприятий по проведению мониторинга состояния и развития конкурентной среды на рынках товаров и услуг в ходе реализации государственной программы «Экономическое развитие и инновационная экономика Приморского края» на 2013-2020 годы размещена в информационно-телекоммуникационной сети Интернет на официальном сайте Администрации Приморского края.
A79: 1.5.1.2. | B79: Контрольное событие: внедрение Стандарта развития конкуренции в Приморском крае. Утвержден состав Совета по содействию развития конкуренции в Приморском крае | C79: дата наступления контрольного события (месяц, год): апрель 2015 г. | G79: распоряжение Губернатора Приморского края об утверждении Совета по содействию развития конкуренции в Приморском крае
A80: 1.5.1.3. | B80: Контрольное событие: сформирован проект перечня приоритетных и социально значимых рынков для содействия развитию конкуренции в Приморском крае | C80: дата наступления контрольного события (месяц, год): июль 2015 г. | G80: размещение проекта перечня приоритетных и социально значимых рынков для содействия развитию конкуренции в Приморском крае на официальном сайте департамента экономики и развития предпринимательства Приморского края для публичного обсуждения
...

Sheet Приложение 3
A2: ОТЧЕТ
A3: о выполнении показателей государственных заданий на оказание государственных услуг (выполнение работ) краевыми государственными учреждениями в рамках государственной программы Приморского края
A4: "Экономическое развитие и инновационная экономика Приморского края" на 2013 - 2021 годы
A5: (наименование государственной программы)
A6: за 2018 год
A8: № п/п | B8: Наименование государственной услуги (работы) | C8: Значение показателя объема государственной услуги (работы) | E8: Расходы краевого бюджета на оказание государственной услуги (выполнение работы) (тыс. руб.)
C9: план | D9: факт | E9: сводная бюджетная роспись на 1 января отчетного года | F9: сводная бюджетная роспись на 31 декабря отчетного года | G9: кассовое исполнение
A10: 1 | B10: 2 | C10: 3 | D10: 4 | E10: 5 | F10: 6 | G10: 7
A11: № | B11: Наименование государственной услуги (работы) | C11: Значение показателя объема государственной услуги (работы) | E11: Расходы краевого бюджета на оказание государственной услуги (выполнение работы) (тыс. руб.)
C12: план | D12: факт | E12: сводная бюджетная роспись на 1 января отчетного года | F12: сводная бюджетная роспись на 31 декабря отчетного года | G12: кассовое исполнение
A13: 1 | B13: 2 | C13: 3 | D13: 4 | E13: 5 | F13: 6 | G13: 7
A14: 6. | B14: Содержание (эксплуатация) имущества, находящегося в государственной (муниципальной) собственности) | C14: =C14:G22 -> 0 | E14: 471203.78 | F14: 448488.67 | G14: 443362.56
B15: Содержание, ремонт, охрана объектов от пожаров, эксплуатация зданий, содержание имущества, используемого органами власти (тыс. кв. м.) | C15: 329.52 | D15: 332.05
A16: 7. | B16: Организация и осуществление транспортного обслуживания должностных лиц в случаях, установленных нормативными правовыми актами Российской Федерации, субъектов Российской Федерации, органов местного самоуправления) | E16: 207819.97 | F16: 229713.31 | G16: 224212.71
B17: Обеспечение транспортного обслуживания органов власти (машино-часы) | C17: 270000 | D17: 302847.5
A18: 9. | B18: Административное обеспечение деятельности организации) | E18: 73443.98 | F18: 89828.279 | G18: 81681.075
B19: Материально-техническое обеспечение деятельности органов власти (количество отчетов) | C19: 4 | D19: 4
A20: 13. | B20: Обеспечение проведения мероприятий) | E20: 30277.5 | F20: 9888.634 | G20: 8920.4034
B21: Материально-техническое обеспечение мероприятий, проводимых органами власти (количество проведенных мероприятий) | C21: 22 | D21: 28
A22: 20. | B22: Сбор, обработка, систематизация и накопление информации, необходимой для определения кадастровой стоимости объектов капитального строительства | C22: 1320545 | D22: 1320545 | E22: 63993.29 | F22: 63313.11 | G22: 54811.23
A23: Итого | E23: =E22+E21+E20+E19+E18+E17+E16+E15+E14 -> 846738.52 | F23: =F22+F21+F20+F19+F18+F17+F16+F15+F14 -> 841232 | G23: =G22+G21+G20+G19+G18+G17+G16+G15+G14 -> 812987.98

Sheet Приложение № 4
H1: Приложение № 12
A3: Отчет
A4: о расходовании бюджетных ассигнований краевого бюджета на реализацию государственной программы Приморского края (тыс. руб.) "Экономическое развитие и инновационная экономика Приморского края" на 2013 - 2021 годы за 2018 год
A7: № п/п | B7: Наименование подпрограммы, программы, принятой (принимаемой) в соответствии с требованиями федерального законодательства в сфере реализации государственной программы, отдельного мероприятия | C7: Ответственный исполнитель, соисполнители | D7: Код бюджетной классификации | H7: Оценка расходов в соответствии с программой | I7: Объем бюджетных ассигнований краевого бюджета (тыс. руб.)
D8: ГРБС | E8: Рз Пр | F8: ЦСР | G8: ВР | I8: сводная бюджетная роспись, план на 1 января отчетного года | J8: сводная бюджетная роспись на отчетную дату | K8: кассовое исполнение
A9: 1 | B9: 2 | C9: 3 | D9: 4 | E9: 5 | F9: 6 | G9: 7 | H9: 11 | I9: 12 | J9: 13 | K9: 14 | L9: ='Приложение № 5'!F16 -> 3971929.5
B10: Государственная программа Приморского края «Экономическое развитие и инновационная экономика Приморского края» на 2013 - 2021 годы | C10: всего | D10: Х | E10: Х | F10: Х | G10: Х | H10: =SUM(H11:H19) -> #REF! | I10: =I11+I12+I13+I14+I15+I16+I17+I18+I19 -> 4578083.1 | J10: =J11+J12+J13+J14+J15+J16+J17+J18+J19 -> 4285219.4 | K10: =K11+K12+K13+K14+K15+K16+K17+K18+K19 -> 3971929.5 | L10: =L11+L12+L13+L14+L15+L16+L17+L18+L19 -> 3971929.5 | M10: =[3]Лист2!$H$21 -> 3.868
C11: департамент экономики и развития предпринимательства Приморского края | D11: 784 | E11: Х | F11: Х | G11: Х | H11: =SUM(H21,H135) -> 107021.61 | I11: =I21+I135 -> 150128.63 | J11: =J21+J135 -> 179390.76 | K11: =K21+K135 -> 176705.98 | L11: ='Приложение № 5'!F17 -> 176705.98
C12: департамент промышленности Приморского края | D12: 794 | E12: Х | F12: Х | G12: Х | H12: =SUM(H22) -> 200000 | I12: =SUM(I22) -> 0 | J12: =SUM(J22) -> 0 | K12: =SUM(K22) -> 0 | L12: ='Приложение № 5'!F18 -> 0
C13: департамент финансов Приморского края | D13: 752 | E13: Х | F13: Х | G13: Х | H13: =H150 -> #REF! | I13: =I150 -> 2771203.3 | J13: =J150 -> 2516653.9 | K13: =K150 -> 2327187.9 | L13: ='Приложение № 5'!F19 -> 2327187.9
C14: департамент земельных и имущественных отношений Приморского края | D14: 779 | E14: Х | F14: Х | G14: Х | H14: =SUM(H206) -> 1618765.5 | I14: =I206 -> 1618765.5 | J14: =J206 -> 1550125.8 | K14: =K206 -> 1439001.9 | L14: ='Приложение № 5'!F20 -> 1439001.9
C15: департамент внутренней политики Приморского края | D15: =D224 -> 789 | E15: =E224 -> Х | F15: =F224 -> Х | G15: =G224 -> Х | H15: =SUM(H224) -> 23760 | I15: =I224 -> 23460 | J15: =J224 -> 23460 | K15: =K224 -> 14480 | L15: ='Приложение № 5'!F21 -> 14480
C16: =C225 -> департамент по координации правоохранительной деятельности, исполнения административного законодательства и обеспечения деятельности мировых судей Приморского края | D16: =D225 -> 785 | E16: =E225 -> Х | F16: =F225 -> Х | G16: =G225 -> Х | H16: =H225 -> 600 | I16: =I225 -> 600 | J16: =J225 -> 600 | K16: =K225 -> 0 | L16: ='Приложение № 5'!F22 -> 0
C17: =C125 -> департамент проектного управления Приморского края | D17: =D125 -> 798 | E17: =E226 -> Х | F17: =F226 -> Х | G17: =G226 -> Х | H17: =H123 -> 12845.03 | I17: =I23 -> 13925.8 | J17: =J23 -> 14988.9 | K17: =K23 -> 14553.7 | L17: ='Приложение № 5'!F23 -> 14553.7
C18: =C227 -> департамент информатизации и телекоммуникаций Приморского края | D18: 755 | E18: =E227 -> Х | F18: =F227 -> Х | G18: =G227 -> Х | H18: =H227 -> 0 | I18: =I227 -> 0 | J18: =J227 -> 0 | K18: =K227 -> 0
C19: =C228 -> департамент информационной политики Приморского края | D19: 771 | E19: =E228 -> Х | F19: =F228 -> Х | G19: =G228 -> Х | H19: =H228 -> 0 | I19: =I228 -> 0 | J19: =J228 -> 0 | K19: =K228 -> 0
A20: ='[1]Приложение № 7 (приложение № 6)'!A27 -> 1. | B20: Подпрограмма № 1 «Улучшение инвестиционного климата в Приморском крае» на 2013-2021 годы | C20: всего | D20: Х | E20: Х | F20: Х | G20: Х | H20: =SUM(H21:H23) -> 282211.64 | I20: =I21+I22+I23 -> 126399.43 | J20: =J21+J22+J23 -> 156724.66 | K20: =K21+K22+K23 -> 153604.68
C21: департамент экономики и развития предпринимательства Приморского края | D21: 784 | E21: Х | F21: Х | G21: Х | H21: =SUM(H26,H56,H60,H78,H96,H116,H124,H132) -> 69366.61 | I21: =I26+I51+I116+I124+I132 -> 112473.63 | J21: =J26+J51+J116+J124+J132 -> 141735.76 | K21: =K26+K51+K116+K124+K132 -> 139050.98
C22: департамент промышленности Приморского края | D22: 794 | E22: Х | F22: Х | G22: Х | H22: =H51 -> 200000 | I22: =I51 -> 0 | J22: =J51 -> 0 | K22: =K51 -> 0
C23: департамент проектного управления Приморского края | D23: 798 | E23: Х | F23: Х | G23: Х | H23: =SUM(H123) -> 12845.03 | I23: =I126 -> 13925.8 | J23: =J126 -> 14988.9 | K23: =K126 -> 14553.7
