Workbook

Sheet Приложение № 1
F1: Приложение № 2 к постановлению Администрации Приморского края «Приложение № 1 к государственной программе Приморского края «Экономическое развитие и инновационная экономика Приморского края» на 2013 - 2020 годы, утвержденной постановлением Администрации Приморского края от 7 декабря 2012 года № 382-па
A3: ПЕРЕЧЕНЬ ПОКАЗАТЕЛЕЙ
A4: государственной программы Приморского края
A5: «Экономическое развитие и инновационная экономика Приморского края» на 2013 - 2020 годы
A7: № п/п | B7: Наименование показателя | C7: Ед. измере-ния | D7: Значения показателей
D8: 2011 | E8: 2012 | F8: 2013 | G8: 2014 | H8: 2015 | I8: 2016 | J8: 2017 | K8: 2018 | L8: 2019 | M8: 2020
A9: 1 | B9: 2 | C9: 3 | D9: 4 | E9: 5 | F9: 6 | G9: 7 | H9: 8 | I9: 9 | J9: 10 | K9: 11 | L9: 12 | M9: 13
A10: ='[1]Приложение № 6 (приложение № 5)'!B10 -> Государственная программа Приморского края «Экономическое развитие и инновационная экономика Приморского края» на 2013 - 2020 годы
A11: 1. | B11: Валовой региональный продукт Приморского края, в % к предыдущему году в сопоставимых ценах | C11: % | D11: 107.3 | E11: 105.1 | F11: 102,4-106,0 | G11: 103,7-106,1 | H11: 100.3 | I11: 101.1 | J11: 102.2 | K11: 103.6 | L11: 103.9 | M11: 104
A12: 2. | B12: Индекс производительности труда | C12: % | D12: 106.7 | E12: 104.6 | F12: 105.9 | G12: 106 | H12: 102.34694 | I12: 101.2 | J12: 101.8 | K12: 103.5 | L12: 104.7 | M12: 105.1
A13: 3. | B13: Доля продукции высокотехнологичных и наукоемких отраслей в валовом региональном продукте | C13: % | D13: 16.6 | E13: 17.6 | F13: 17.9 | G13: 18.6 | H13: 19.1 | I13: 19.6 | J13: 20.6 | K13: 21.58 | L13: 21.7 | M13: 22
A14: 4. | B14: Количество высокопроизводительных рабочих мест | C14: рабочих мест, единиц | D14: 235400 | E14: 254700 | F14: 260600 | G14: 267300 | H14: 274600 | I14: 282700 | J14: 291800 | K14: 301900 | L14: 318191 | M14: 334482
A15: 5. | B15: Доля продукции, произведенной субъектами малого и среднего предпринимательства, в общем объеме ВРП Приморского края | C15: % | D15: 23.5 | E15: 24.1 | F15: 31 | G15: 31.2 | H15: 31.4 | I15: 31.7 | J15: 31.9 | K15: 32 | L15: 32.1 | M15: 32.2
A16: 6. | B16: Оборот продукции (услуг), производимой малыми предприятиями, в том числе микропредприятиями, и индивидуальными предпринимателями на территории Приморского края | C16: млн. рублей | D16: 427839.1 | E16: 476862.3 | F16: 513426 | G16: 558536 | H16: 614241 | I16: 665454 | J16: 709349 | K16: 751909.94 | L16: 797024.54 | M16: 843251.96
A17: 7. | B17: Доля расходов краевого бюджета, формируемая на основе государственных программ Приморского края, в общем объеме расходов краевого бюджета | C17: % | D17: - | E17: - | F17: =0.931*100 -> 93.1 | G17: =0.939*100 -> 93.9 | H17: 94.3 | I17: 94.7 | J17: 95 | K17: 95 | L17: 95 | M17: 95
A18: 8. | B18: Объем налоговых и неналоговых доходов консолидированного бюджета субъекта Российской Федерации | C18: млн. рублей | D18: 63577.75 | E18: 72978.01 | F18: 75048.42 | G18: 80195.24 | H18: 86270.8 | I18: 88858.92 | J18: 91524.73 | K18: 94270.4 | L18: 97098.5 | M18: 100011.5
A19: ='[1]Приложение № 4 (приложение (2'!B11 -> Подпрограмма № 1 «Улучшение инвестиционного климата в Приморском крае» на 2013-2020 годы
A20: 9. | B20: Объем инвестиций по отношению к ВРП Приморского края | C20: % | D20: - | E20: - | F20: 23 | G20: 25 | H20: 25.5 | I20: 26 | J20: 27 | K20: 27 | L20: 27 | M20: 27
A21: 10. | B21: Прирост инвестиций в основной капитал без учета бюджетных средств | C21: % к предыдущему году | D21: - | E21: - | F21: 15.3 | G21: 15.8 | H21: 16.3 | I21: 16.8 | J21: 17.3 | K21: 17.8 | L21: 18.3 | M21: 18.8
A22: 11. | B22: Количество реализованных основных положений стандарта деятельности органов исполнительной власти Приморского края по обеспечению благоприятного климата в Приморском крае | C22: единиц | D22: 12 | E22: 12 | F22: 12 | G22: 12 | H22: 12 | I22: 12 | J22: 12 | K22: 12 | L22: 12 | M22: 12
A23: 12. | B23: Прирост инвестиций в основной капитал к предыдущему году | C23: % | D23: - | E23: - | F23: 13.8 | G23: 14.4 | H23: 15.2 | I23: 15.9 | J23: 16.7 | K23: 17.5 | L23: 18.5 | M23: 19.6
A24: 13. | B24: Изменение объема прямых иностранных инвестиций к среднегодовому значению за прошлые периоды | D24: - | E24: - | F24: 101.1 | G24: 102 | H24: 102 | I24: 102.5 | J24: 103.1 | K24: 103.1 | L24: 103.1 | M24: 103.1
A25: 14. | B25: Количество мероприятий по развитию социальной и инженерной инфраструктуры, реализованных в рамках комплексных инвестиционных планов модернизации монопрофильных муниципальных образований Приморского края | C25: единиц | D25: - | E25: 1 | F25: 2 | G25: 1 | H25: - | I25: - | J25: - | K25: - | L25: -
A26: 15. | B26: Оценка предпринимательским сообществом эффективности реализации внедренных составляющих стандарта в Приморском крае | C26: баллов | D26: - | E26: - | F26: 5.5 | G26: 6 | H26: 6.5 | I26: - | J26: - | K26: - | L26: - | M26: -
A27: 16. | B27: Уровень развития государственно-частного партнерства Приморского края | C27: % | D27: - | E27: - | F27: - | G27: 13.2 | H27: 21.9 | I27: 35.9 | J27: 49.9 | K27: 66.9 | L27: - | M27: -
A28: 17. | B28: Оценка предпринимательским сообществом эффективности реализации внедренных элементов деятельности органов исполнительной власти субъекта Российской Федерации по обеспечению благоприятного инвестиционного климата в регионе | C28: баллов | D28: - | E28: - | F28: - | G28: - | H28: 8 | I28: 10 | J28: 10 | K28: 10 | L28: 10 | M28: 10
A29: 18. | B29: Доля проектов нормативных правовых актов Приморского края, нормативных правовых актов Приморского края, прошедших процедуру оценки регулирующего воздействия, экспертизу, в общем объеме проектов нормативных правовых актов Приморского края, нормативных правовых актов Приморского края, затрагивающих вопросы осуществления предпринимательской и инвестиционной деятельности, подлежащих оценке регулирующего воздействия, включенных в План проведения экспертизы нормативных правовых актов Приморского края для устранения административных барьеров | C29: % | D29: 0 | E29: 0 | F29: 100 | G29: 100 | H29: 100 | I29: 100 | J29: 100 | K29: 100 | L29: 100 | M29: 100
A30: 19. | B30: Доля информации о деятельности на приоритетных товарных рынках Приморского края, опубликованной на официальном сайте, из общего объема информации, необходимой к публикации | C30: % | D30: 100 | E30: 100 | F30: 100 | G30: 100 | H30: 100 | I30: 100 | J30: 100 | K30: 100 | L30: 100 | M30: 100
A31: ='[1]Приложение № 4 (приложение (2'!B96 -> Подпрограмма № 2 «Развитие малого и среднего предпринимательства в Приморском крае» на 2013-2020 годы
A32: 20. | B32: Количество субъектов малого и среднего предпринимательства, получивших государственную поддержку | C32: единиц | D32: 664 | E32: 699 | F32: 726 | G32: 1204 | H32: 6974 | I32: 695 | J32: 700 | K32: 700 | L32: 700 | M32: 700
A33: 21. | B33: Количество субъектов малого и среднего предпринимательства (включая индивидуальных предпринимателей) в расчете на 1 тыс. человек населения Приморского края | C33: единиц | D33: - | E33: - | F33: - | G33: 42.1 | H33: - | I33: - | J33: - | K33: - | L33: - | M33: -
A34: 22. | B34: Доля среднесписочной численности работников (без внешних совместителей) всех предприятий и организаций субъектов малого и среднего предпринимательства в среднесписочной численности работников (без внешних совместителей) всех предприятий и организаций | C34: % | D34: 23.9 | E34: 32.5 | F34: 29 | G34: 29.2 | H34: - | I34: - | J34: - | K34: - | L34: - | M34: -
A35: 23. | B35: Доля среднесписочной численности работников (без внешних совместителей), занятых на микропредприятиях, малых и средних предприятиях и у индивидуальных предпринимателей, в общей численности занятого населения | C35: % | D35: - | E35: - | F35: - | G35: 27.3 | H35: - | I35: - | J35: - | K35: - | L35: - | M35: -
A36: 24. | B36: Количество вновь созданных рабочих мест (включая вновь зарегистрированных индивидуальных предпринимателей) субъектами малого и среднего предпринимательства, получившими государственную поддержку | C36: единиц | D36: - | E36: - | F36: - | G36: 344 | H36: 179 | I36: 140 | J36: 145 | K36: 150 | L36: 150 | M36: 150
A37: 25. | B37: Прирост оборота продукции и услуг, производимых малыми предприятиями, в том числе микропредприятиями, и индивидуальными предпринимателями (в сопоставимых ценах) | C37: % к предыдущему году | F37: 7.3 | G37: 7.3 | H37: 7.3 | I37: 7.3 | J37: 7.3 | K37: 7.3 | L37: - | M37: -
A38: 26. | B38: Оценка предпринимательским сообществом общих условий ведения предпринимательской деятельности в Приморском крае | C38: баллов | D38: - | E38: - | F38: 5.5 | G38: 6 | H38: 6.5 | I38: 7 | J38: 7.5 | K38: 8 | L38: - | M38: -
A39: 27. | B39: Оценка предпринимательским сообществом эффективности реализации программы поддержки малого и среднего предпринимательства | C39: баллов | D39: - | E39: - | F39: 5.5 | G39: 6 | H39: 6.5 | I39: 7 | J39: 7.5 | K39: 8 | L39: - | M39: -
A40: 28. | B40: Прирост количества субъектов малого и среднего предпринимательства, осуществляющих деятельность на территории Приморского края | C40: % к предыдущему году | D40: - | E40: - | F40: 7.3 | G40: 7.3 | H40: 7.3 | I40: 7.3 | J40: 7.3 | K40: 7.3 | L40: - | M40: -
A41: 29. | B41: Исполнение расходных обязательств за счет субсидии, предоставленной в текущем финансовом году на реализацию мероприятий | C41: % | D41: - | E41: - | F41: - | G41: - | H41: 100 | I41: 100 | J41: 100 | K41: 100 | L41: 100 | M41: 100
A42: 30. | B42: Отношение объема выданных кредитов субъектам малого и среднего предпринимательства под гарантии (поручительства) гарантийной организации к совокупному размеру средств гарантийного фонда, сформированному за счет субсидий, предоставленных из бюджетов всех уровней, а также доходов от операционной и финансовой деятельности | C42: % | D42: - | E42: - | F42: - | G42: - | H42: 200 | I42: 200 | J42: 200 | K42: 200 | L42: 200 | M42: 200
...

Sheet Приложение № 2 (труд.ресурсы)
F1: Приложение № 3 к постановлению Администрации Приморского края «Приложение № 2 к государственной программе Приморского края «Экономическое развитие и инновационная экономика Приморского края» на 2013 - 2020 годы, утвержденной постановлением Администрации Приморского края от 7 декабря 2012 года № 382-па
A12: ОСНОВНЫЕ ПАРАМЕТРЫ потребности в трудовых ресурсах, необходимых для реализации государственной программы Приморского края «Экономическое развитие и инновационная экономика Приморского края» на 2013 - 2020 годы
A14: № п/п | B14: Наименования укрупненных групп направлений подготовки (специальностей, профессий) | C14: Требуемый образовательный уровень | H14: Требуемый образовательный уровень
C15: СПО1 по программам подготовки квалифицированных рабочих (служащих) | D15: СПО по программам подготовки специалистов среднего звена | E15: высшее образование (бакалавриат) | F15: высшее образование (магистратура) | G15: высшее образование (специалитет) | H15: СПО по программам подготовки квалифицированных рабочих | I15: СПО по программам подготовки специалистов среднего звена | J15: высшее образование (бакалавриат) | K15: высшее образование (магистратура) | L15: высшее образование (специалитет)
C16: 2015 год | H16: 2016 год
A17: 1 | B17: 2 | C17: 3 | H17: 4
A18: 1. | B18: Математические и естественные науки (всего, сумма строк 1.1-1.6) | C18: 0 | D18: 0 | E18: 0 | F18: 0 | G18: 0 | H18: 0 | I18: 0 | J18: 0 | K18: 0 | L18: 0
A19: 1.1. | B19: Математика и механика | C19: Х | D19: Х | E19: 0 | F19: 0 | G19: 0 | H19: Х | I19: Х | J19: 0 | K19: 0 | L19: 0
A20: 1.2. | B20: Компьютерные и информационные науки | C20: Х | D20: Х | E20: 0 | F20: 0 | G20: 0 | H20: Х | I20: Х | J20: 0 | K20: 0 | L20: Х
A21: 1.3. | B21: Физика и астрономия | C21: Х | D21: Х | E21: 0 | F21: 0 | G21: 0 | H21: Х | I21: Х | J21: 0 | K21: 0 | L21: 0
A22: 1.4. | B22: Химия | C22: Х | D22: Х | E22: 0 | F22: 0 | G22: 0 | H22: Х | I22: Х | J22: 0 | K22: 0 | L22: 0
A23: 1.5. | B23: Науки о земле | C23: Х | D23: Х | E23: 0 | F23: 0 | G23: Х | H23: Х | I23: Х | J23: 0 | K23: 0 | L23: Х
A24: 1.6. | B24: Биологические науки | C24: Х | D24: Х | E24: 0 | F24: 0 | H24: Х | I24: Х | J24: 0 | K24: 0
A25: 2. | B25: Инженерное дело, технологии и технические науки (всего, сумма строк 2.1-2.23) | C25: 0 | D25: 0 | E25: 0 | F25: 0 | G25: 0 | H25: 0 | I25: 0 | J25: 0 | K25: 0 | L25: 0
A26: 2.1. | B26: Архитектура | C26: Х | D26: 0 | E26: 0 | F26: 0 | G26: Х | H26: Х | I26: 0 | J26: 0 | K26: 0 | L26: Х
A27: 2.2. | B27: Техника и технологии строительства | C27: 0 | D27: 0 | E27: 0 | F27: 0 | G27: 0 | H27: 0 | I27: 0 | J27: 0 | K27: 0 | L27: 0
A28: 2.3. | B28: Информатика и вычислительная техника | C28: 0 | D28: 0 | E28: 0 | F28: 0 | G28: Х | H28: 0 | I28: 0 | J28: 0 | K28: 0 | L28: Х
A29: 2.4. | B29: Информационная безопасность | C29: Х | D29: 0 | E29: 0 | F29: 0 | G29: 0 | H29: Х | I29: 0 | J29: 0 | K29: 0 | L29: 0
A30: 2.5. | B30: Электроника, радиотехника и системы связи | C30: 0 | D30: 0 | E30: 0 | F30: 0 | G30: 0 | H30: 0 | I30: 0 | J30: 0 | K30: 0 | L30: 0
A31: 2.6. | B31: Фотоника, приборостроение, оптические и биотехнические системы и технологии | C31: 0 | D31: 0 | E31: 0 | F31: 0 | G31: 0 | H31: 0 | I31: 0 | J31: 0 | K31: 0 | L31: 0
A32: 2.7. | B32: Электро- и теплоэнергетика | C32: 0 | D32: 0 | E32: 0 | F32: 0 | G32: Х | H32: 0 | I32: 0 | J32: 0 | K32: 0 | L32: Х
A33: 2.8. | B33: Ядерная энергетика и технологии | C33: Х | D33: 0 | E33: 0 | F33: 0 | G33: 0 | H33: Х | I33: 0 | J33: 0 | K33: 0 | L33: 0
A34: 2.9. | B34: Машиностроение | C34: 0 | D34: 0 | E34: 0 | F34: 0 | G34: 0 | H34: 0 | I34: 0 | J34: 0 | K34: 0 | L34: 0
A35: 2.10. | B35: Физико-технические науки и технологии | C35: Х | D35: Х | E35: 0 | F35: 0 | G35: 0 | H35: Х | I35: Х | J35: 0 | K35: 0 | L35: 0
A36: 2.11. | B36: Оружие и системы вооружения | C36: Х | D36: Х | E36: 0 | F36: 0 | G36: 0 | H36: Х | I36: Х | J36: 0 | K36: 0 | L36: 0
A37: 2.12. | B37: Химические технологии | C37: 0 | D37: 0 | E37: 0 | F37: 0 | G37: 0 | H37: 0 | I37: 0 | J37: 0 | K37: 0 | L37: 0
A38: 2.13. | B38: Промышленная экология и биотехнологии | C38: 0 | D38: 0 | E38: 0 | F38: 0 | G38: Х | H38: 0 | I38: 0 | J38: 0 | K38: 0 | L38: Х
A39: 2.14. | B39: Техносферная безопасность и природообустройство | C39: 0 | D39: 0 | E39: 0 | F39: 0 | G39: 0 | H39: 0 | I39: 0 | J39: 0 | K39: 0 | L39: 0
A40: 2.15. | B40: Прикладная геология, горное дело, нефтегазовое дело и геодезия | C40: 0 | D40: 0 | E40: 0 | F40: 0 | G40: 0 | H40: 0 | I40: 0 | J40: 0 | K40: 0 | L40: 0
A41: 2.16. | B41: Технологии материалов | C41: 0 | D41: 0 | E41: 0 | F41: 0 | G41: Х | H41: 0 | I41: 0 | J41: 0 | K41: 0 | L41: Х
A42: 2.17. | B42: Техника и технологии наземного транспорта | C42: 0 | D42: 0 | E42: 0 | F42: 0 | G42: 0 | H42: 0 | I42: 0 | J42: 0 | K42: 0 | L42: 0
A43: 2.18. | B43: Авиационная и ракетно-космическая техника | C43: 0 | D43: 0 | E43: 0 | F43: 0 | G43: 0 | H43: 0 | I43: 0 | J43: 0 | K43: 0 | L43: 0
A44: 2.19. | B44: Аэронавигация и эксплуатация авиационной и ракетно-космической техники | C44: 0 | D44: 0 | E44: 0 | F44: 0 | G44: 0 | H44: 0 | I44: 0 | J44: 0 | K44: 0 | L44: 0
A45: 2.20. | B45: Техника и технологии кораблестроения и водного транспорта | C45: 0 | D45: 0 | E45: 0 | F45: 0 | G45: 0 | H45: 0 | I45: 0 | J45: 0 | K45: 0 | L45: 0
A46: 2.21. | B46: Управление в технических системах | C46: Х | D46: 0 | E46: 0 | F46: 0 | G46: 0 | H46: Х | I46: 0 | J46: 0 | K46: 0 | L46: 0
A47: 2.22. | B47: Нанотехнологии и наноматериалы | C47: Х | D47: Х | E47: 0 | F47: 0 | G47: Х | H47: Х | I47: Х | J47: 0 | K47: 0 | L47: Х
A48: 2.23. | B48: Технологии легкой промышленности | C48: 0 | D48: 0 | E48: 0 | F48: 0 | G48: Х | H48: 0 | I48: 0 | J48: 0 | K48: 0 | L48: Х
A49: 3. | B49: Здравоохранение и медицинские науки (всего, сумма строк 3.1-3.5) | C49: 0 | D49: 0 | E49: 0 | F49: 0 | G49: 0 | H49: 0 | I49: 0 | J49: 0 | K49: 0 | L49: 0
A50: 3.1. | B50: Фундаментальная медицина | C50: Х | D50: Х | E50: Х | F50: Х | G50: 0 | H50: Х | I50: Х | J50: Х | K50: Х | L50: 0
A51: 3.2. | B51: Клиническая медицина | C51: Х | D51: 0 | E51: Х | F51: Х | G51: 0 | H51: Х | I51: 0 | J51: Х | K51: Х | L51: 0
...

Sheet Приложение № 2 (№3 к ГП)
F1: Приложение № 2 к постановлению Администрации Приморского края «Приложение № 3 к государственной программе Приморского края «Экономическое развитие и инновационная экономика Приморского края» на 2013 - 2020 годы, утвержденной постановлением Администрации Приморского края от 7 декабря 2012 года № 382-па
A4: ПЕРЕЧЕНЬ МЕРОПРИЯТИЙ
A5: государственной программы Приморского края
A6: «Экономическое развитие и инновационная экономика Приморского края» на 2013 - 2020 годы и план их реализации
A8: № п/п | B8: Наименование подпрограммы, контрольные события | C8: Ответственный исполнитель, соисполнители | D8: Срок реализации | F8: Ожидаемый непосредственный результат (краткое описание) | G8: Связь с показателями государственной программы
D9: дата начала реализации | E9: дата окончания реализации
A10: 1 | B10: 2 | C10: 3 | D10: 4 | E10: 5 | F10: 6 | G10: 7
A11: ='[2]Приложение № 6 (приложение №5)'!A20 -> 1. | B11: ='[2]Приложение № 6 (приложение №5)'!B20 -> Подпрограмма № 1 «Улучшение инвестиционного климата в Приморском крае» на 2013-2020 годы | C11: департамент экономики и развития предпринимательства Приморского края; департамент проектов и стратегического развития Приморского края; департамент промышленности Приморского края | D11: 2013 | E11: 2020 | F11: повышение инвестиционной привлекательности Приморского края; нормативных правовых актов Приморского края; создание эффективной инновационной инфраструктуры на территориях особых экономических зон Приморского края; повышение качества государственного регулирования за счет проведения оценки регулирующего воздействия проектов | G11: оказывает прямое влияние на показатели программы, указанные в пунктах 1-4, 8, и на показатели подпрограммы, указанные в пунктах 9-19
F13: проведение исследования конкурентной среды на рынках товаров и услуг Приморского края; развитие государственного стратегического планирования с целью формирования гибкой системы управления экономическим развитием Приморского края, в том числе развитием малого и среднего бизнеса в приоритетных сферах экономики, развитием конкуренции на рынках товаров и услуг
A14: ='[2]Приложение № 6 (приложение №5)'!A24 -> 1.1. | B14: ='[2]Приложение № 6 (приложение №5)'!B24 -> Основное мероприятие «Создание благоприятных условий для привлечения инвестиций в экономику Приморского края» | C14: ='[2]Приложение № 6 (приложение №5)'!C24 -> департамент экономики и развития предпринимательства Приморского края | D14: 2013 | E14: 2020 | F14: повышение инвестиционной привлекательности Приморского края, рост привлечения капитала с внешних рынков. Организация работы совещательного органа «Экспертный (общественный) совет по привлечению инвестиций» в целях повышения эффективности проводимой на территории Приморского края инвестиционной политики | G14: обеспечение темпов роста экономики, предусматриваемых инновационным сценарием развития, при опережающем росте инвестиций в высокотехнологичные производства. Оказывает прямое влияние на все показатели подпрограммы, оказывает непосредственное влияние на достижение следующих показателей: объем инвестиций по отношению к ВРП Приморского края
A15: ='[2]Приложение № 6 (приложение №5)'!A27 -> 1.1.1. | B15: ='[2]Приложение № 6 (приложение №5)'!B27 -> Предоставление автономной некоммерческой организации (далее - АНО) «Агентство по привлечению инвестиций в Приморский край» субсидии из краевого бюджета на осуществление уставной деятельности | C15: ='[2]Приложение № 6 (приложение №5)'!C27 -> департамент экономики и развития предпринимательства Приморского края | D15: 2013 | E15: 2013 | F15: создание и организация деятельности АНО «Агентство по привлечению инвестиций в Приморский край» в целях предоставления услуг в сфере повышения инвестиционной привлекательности Приморского края, роста привлечения капитала с внешних рынков | G15: прирост инвестиций в основной капитал к предыдущему году, прирост инвестиций в основной капитал без учета бюджетных средств
A16: ='[2]Приложение № 6 (приложение №5)'!A28 -> 1.1.2. | B16: ='[2]Приложение № 6 (приложение №5)'!B28 -> Предоставление АНО «Инвестиционное Агентство Приморского края» субсидии из краевого бюджета на осуществление уставной деятельности | C16: ='[2]Приложение № 6 (приложение №5)'!C28 -> департамент экономики и развития предпринимательства Приморского края | D16: 2013 | E16: 2016 | F16: организация деятельности АНО «Инвестиционное Агентство Приморского края» в целях предоставления услуг в сфере повышения инвестиционной привлекательности Приморского края, роста привлечения капитала с внешних рынков | G16: прирост инвестиций в основной капитал к предыдущему году, прирост инвестиций в основной капитал без учета бюджетных средств
B17: Контрольное событие 1. Разработка порядка определения объема и условий предоставления АНО «Инвестиционное Агентство Приморского края» субсидий из краевого бюджета на осуществление уставной деятельности | C17: департамент экономики и развития предпринимательства Приморского края | D17: дата наступления контрольного события (месяц, год): март 2015 г. | F17: разработан порядок определения объема и условий предоставления АНО «Инвестиционное Агентство Приморского края» субсидий из краевого бюджета на осуществление уставной деятельности
B18: Контрольное событие 2. Заключение соглашения между департаментом экономики и стратегического развития Приморского края и АНО «Инвестиционное Агентство Приморского края» о предоставлении субсидии из краевого бюджета | C18: департамент экономики и развития предпринимательства Приморского края | D18: дата наступления контрольного события (месяц, год): май 2015 г. май 2016 г. | F18: заключено соглашение между департаментом экономики и стратегического развития Приморского края и АНО «Инвестиционное Агентство Приморского края» о предоставлении субсидии из краевого бюджета
A19: ='[2]Приложение № 6 (приложение №5)'!A30 -> 1.1.3. | B19: ='[2]Приложение № 6 (приложение №5)'!B30 -> Организация ежегодного Тихоокеанского экономического конгресса | C19: ='[2]Приложение № 6 (приложение №5)'!C30 -> департамент экономики и развития предпринимательства Приморского края | D19: 2013 | E19: 2013 | F19: формирование репутации края как привлекательной и безопасной инвестиционной площадки в АТР. Повышение информированности потенциальных инвесторов об инвестиционных возможностях Приморского края. Проведение качественного маркетинга территории на всех уровнях | G19: задает вектор на опережающий рост экономики края. Оказывает прямое влияние на все показатели подпрограммы, оказывает непосредственное влияние на достижение следующих показателей: объем инвестиций по отношению к ВРП Приморского края, прирост инвестиций в основной капитал к предыдущему году, прирост инвестиций в основной капитал без учета бюджетных средств
A20: ='[2]Приложение № 6 (приложение №5)'!A32 -> 1.1.4. | B20: ='[2]Приложение № 6 (приложение №5)'!B32 -> Организация работы по оценке инвестиционной привлекательности Приморского края в рейтинговых исследованиях российских и зарубежных рейтинговых агентств | C20: ='[2]Приложение № 6 (приложение №5)'!C32 -> департамент экономики и развития предпринимательства Приморского края | D20: 2013 | E20: 2017
A21: ='[2]Приложение № 6 (приложение №5)'!A35 -> 1.1.5. | B21: ='[2]Приложение № 6 (приложение №5)'!B35 -> Создание и программное сопровождение многоязычного интернет-портала об инвестиционной деятельности в Приморском крае | C21: ='[2]Приложение № 6 (приложение №5)'!C35 -> департамент экономики и развития предпринимательства Приморского края; | D21: 2013 | E21: 2013
C22: ='[2]Приложение № 6 (приложение №5)'!C38 -> департамент информатизации и телекоммуникаций Приморского края
A23: ='[2]Приложение № 6 (приложение №5)'!A39 -> 1.1.6. | B23: ='[2]Приложение № 6 (приложение №5)'!B39 -> Разработка и издание печатного материала «Инвестиционный паспорт Приморского края» | C23: ='[2]Приложение № 6 (приложение №5)'!C39 -> департамент экономики и развития предпринимательства Приморского края | D23: 2013 | E23: 2015
A24: ='[2]Приложение № 6 (приложение №5)'!A42 -> 1.1.7. | B24: ='[2]Приложение № 6 (приложение №5)'!B42 -> Разработка и издание печатного материала «Каталог инвестиционных проектов Приморского края» | C24: ='[2]Приложение № 6 (приложение №5)'!C42 -> департамент экономики и развития предпринимательства Приморского края | D24: 2013 | E24: 2015
A25: ='[2]Приложение № 6 (приложение №5)'!A45 -> 1.1.8. | B25: ='[2]Приложение № 6 (приложение №5)'!B45 -> Создание (строительство, реконструкция) объектов инфраструктуры для краевых государственных нужд, необходимой для обеспечения функционирования инвестиционных проектов Приморского края | C25: ='[2]Приложение № 6 (приложение №5)'!C45 -> департамент экономики и развития предпринимательства Приморского края | D25: 2013 | E25: 2020 | F25: преодоление ограничений в инфраструктурных отраслях. Привлечение к реализации инвестиционных проектов федеральных и частных структур на принципах частно-государственного партнерства. Формирование отраслевых и инновационных кластеров и повышение на этой основе конкурентоспособности и инвестиционной привлекательности экономики Приморского края. Создание объектов транспортной, энергетической, коммунальной инфраструктуры с участием средств краевого бюджета | G25: оказывает прямое влияние на все показатели подпрограммы, оказывает непосредственное влияние на достижение следующих показателей: объем инвестиций по отношению к ВРП Приморского края, прирост инвестиций в основной капитал к предыдущему году, прирост инвестиций в основной капитал без учета бюджетных средств
B26: Контрольное событие 1. Разработка и принятие Закона Приморского края «Об участии Приморского края в проектах государственно-частного партнерства» | C26: департамент экономики и развития предпринимательства Приморского края | D26: дата наступления контрольного события (месяц, год): февраль 2015 г. | F26: разработан и принят Закон Приморского края «Об участии Приморского края в проектах государственно-частного партнерства»
B27: Контрольное событие 2. Разработка Закона Приморского края «О внесении изменений в Закон Приморского края «О государственной поддержке инвестиционной деятельности в Приморском крае» | C27: департамент экономики и развития предпринимательства Приморского края | D27: дата наступления контрольного события (месяц, год): сентябрь 2015 г. | F27: разработан закон Приморского края «О внесении изменений в Закон Приморского края «О государственной поддержке инвестиционной деятельности в Приморском крае»
A28: ='[2]Приложение № 6 (приложение №5)'!A48 -> 1.1.9. | B28: ='[2]Приложение № 6 (приложение №5)'!B48 -> Обеспечение открытого информационного пространства инвестиционной деятельности | C28: ='[2]Приложение № 6 (приложение №5)'!C48 -> департамент экономики и развития предпринимательства Приморского края; | D28: 2013 | E28: 2020 | F28: увеличение числа инвесторов, заинтересованных в реализации проектов в Приморском крае. Ускорение принятия решений по инвестиционным проектам, активизация инвестиционных процессов в крае | G28: оказывает прямое влияние на все показатели подпрограммы, оказывает непосредственное влияние на достижение следующих показателей: объем инвестиций по отношению к ВРП Приморского края, прирост инвестиций в основной капитал к предыдущему году, прирост инвестиций в основной капитал без учета бюджетных средств
C29: ='[2]Приложение № 6 (приложение №5)'!C49 -> департамент информатизации и телекоммуникаций Приморского края
A30: ='[2]Приложение № 6 (приложение №5)'!A50 -> 1.2. | B30: ='[2]Приложение № 6 (приложение №5)'!B50 -> Основное мероприятие «Развитие особых экономических зон» | C30: ='[2]Приложение № 6 (приложение №5)'!C50 -> департамент промышленности Приморского края | D30: 2014 | E30: 2017 | F30: создание эффективной инновационной инфраструктуры на территориях особых экономических зон Приморского края; создание инженерной, транспортной, социальной, инновационной и иной инфраструктуры особых экономических зон Приморского края; формирование системы управления особых экономических зон Приморского края; обеспечение контроля за исполнением резидентами соглашений о ведении деятельности на территории особых экономических зон Приморского края; развитие экспорта высокотехнологичной продукции и интеллектуальных услуг; создание новых рабочих мест в Приморском крае | G30: прирост инвестиций в основной капитал к предыдущему году, прирост инвестиций в основной капитал без учета бюджетных средств
A31: ='[2]Приложение № 6 (приложение №5)'!A52 -> 1.2.1. | B31: ='[2]Приложение № 6 (приложение №5)'!B52 -> Взнос в уставный капитал акционерного общества «Владивосток Индастриал Сервис» в целях создания инновационной, инженерной, транспортной, социльной и иной инфраструктуры особой экономической зоны промышленно-производственнго типа в городе Владивостоке | C31: ='[2]Приложение № 6 (приложение №5)'!C52 -> департамент промышленности Приморского края | D31: 2014 | E31: 2017 | F31: увеличение с 75 тыс. авто до 100 тыс. авто объема сборки автомобилей в Приморском крае, переход на мелкоузловую сборку автомобилей, создание объектов инфраструктуры особой экономической зоны промышленно-производственного типа на территории города Владивостока | G31: прирост инвестиций в основной капитал к предыдущему году, прирост инвестиций в основной капитал без учета бюджетных средств
B32: Контрольное событие 1. Разработка закона Приморского края «Об установлении льготного налогообложения резидентов особой экономической зоны промышленно-производственного типа в г. Владивостоке» | C32: =C31 -> департамент промышленности Приморского края | D32: дата наступления контрольного события (месяц, год): март 2015 г. | F32: разработан закон Приморского края «Об установлении льготного налогообложения резидентов особой экономической зоны промышленно-производственного типа в г. Владивостоке»
B33: Контрольное событие 2. Разработка закона Приморского края «Об установлении налоговых льгот резидентам территорий опережающего социально-экономического развития Приморского края» | C33: департамент экономики и развития предпринимательства Приморского края | D33: дата наступления контрольного события (месяц, год): июнь 2015 г. | F33: разработан закон Приморского края «Об установлении налоговых льгот резидентам территорий опережающего социально-экономического развития Приморского края»
B34: Контрольное событие 3. Подготовка проекта решения о предоставлении бюджетных инвестиций управляющей компании особой экономической зоны | C34: департамент экономики и развития предпринимательства Приморского края | D34: дата наступления контрольного события (месяц, год): декабрь 2015 г. | F34: подготовлен проект решения о предоставлении бюджетных инвестиций управляющей компании особой экономической зоны
A35: ='[2]Приложение № 6 (приложение №5)'!A54 -> 1.3. | B35: ='[2]Приложение № 6 (приложение №5)'!B54 -> Основное мероприятие «Содействие развитию моногородов» | C35: департамент экономики и развития предпринимательства Приморского края | D35: 2013 | E35: 2014 | F35: уменьшение зависимости монопрофильных муниципальных образований от градообразующих предприятий, в том числе посредством развития социальной и инженерной инфраструктуры | G35: оказывает влияние на достижение всех показателей подпрограммы
A36: ='[2]Приложение № 6 (приложение №5)'!A57 -> 1.3.1. | B36: ='Приложение № 2 (№5 к ГП)'!B57 -> Предоставление субсидий из краевого бюджета бюджетам монопрофильных муниципальных образований Приморского края на реализацию мероприятий по поддержке и развитию социальной и инженерной инфраструктуры комплексных инвестиционных планов модернизации монопрофильных муниципальных образований Приморского края | C36: ='[2]Приложение № 6 (приложение №5)'!C57 -> департамент экономики и развития предпринимательства Приморского края | D36: 2013 | E36: 2014
A37: ='[2]Приложение № 6 (приложение №5)'!A60 -> 1.4. | B37: ='[2]Приложение № 6 (приложение №5)'!B60 -> Основное мероприятие «Повышение качества оценки регулирующего воздействия нормативных правовых актов и их проектов | C37: ='[2]Приложение № 6 (приложение №5)'!C60 -> департамент экономики и развития предпринимательства Приморского края | D37: 2013 | E37: 2020 | F37: повышение качества государственного регулирования за счет проведения оценки регулирующего воздействия проектов нормативных правовых актов Приморского края, экспертизы нормативных правовых актов Приморского края; правовой экспертизы проектов нормативных правовых актов Приморского края; правовой экспертизы нормативных правовых актов органов местного самоуправления; | G37: оказывает непосредственное влияние на все показатели программы
C38: ='[2]Приложение № 6 (приложение №5)'!C61 -> #REF!
C39: ='[2]Приложение № 6 (приложение №5)'!C62 -> #REF!
C40: ='[2]Приложение № 6 (приложение №5)'!C63 -> #REF!
C41: ='[2]Приложение № 6 (приложение №5)'!C64 -> #REF!
C42: ='[2]Приложение № 6 (приложение №5)'!C65 -> #REF!
C43: ='[2]Приложение № 6 (приложение №5)'!C66 -> #REF!
C44: ='[2]Приложение № 6 (приложение №5)'!C67 -> #REF!
...

Sheet Приложение № 4
J1: Приложение № 2 к постановлению Администрации Приморского края Приложение № 4 к государственной программе Приморского края «Экономическое развитие и инновационная экономика Приморского края» на 2013 - 2020 годы, утвержденной постановлением Администрации Приморского края от 7 декабря 2012 года № 382-па
A4: ПРОГНОЗ
A5: сводных показателей государственных заданий на оказание государственных услуг (выполнение работ) краевыми государственными учреждениями в рамках государственной программы Приморского края «Экономическое развитие и инновационная экономика Приморского края» на 2013 - 2020 годы
A7: № п/п | B7: Наименование государственной услуги (работы), показателя объема услуги (работы) | C7: Значение показателя объема государственной услуги (работы) | J7: Расходы краевого бюджета на оказание государственной услуги (выполнение работы), тыс. руб.
C8: 2014 год | D8: 2015 год | E8: 2016 год | F8: 2017 год | G8: 2018 год | H8: 2019 год | I8: 2020 год | J8: 2014 год | K8: 2015 год | L8: 2016 год | M8: 2017 год | N8: 2018 год | O8: 2019 год | P8: 2020 год
A9: 1 | B9: 2 | C9: 3 | D9: 4 | E9: 5 | F9: 6 | G9: 7 | H9: 8 | I9: 9 | J9: 10 | K9: 11 | L9: 12 | M9: 13 | N9: 14 | O9: 15 | P9: 16
A10: 1. | B10: Содержание, ремонт, обеспечение охраны объектов от пожаров и преступных посягательств и эксплуатация зданий (помещений), строений, сооружений, прилегающих к ним территорий и акваторий, используемых государственными органами Приморского края, в том числе по договорам аренды и безвозмездного пользования (включая расходы на текущий ремонт, оплату коммунальных услуг, налогов на имущество) | C10: 63300.2 | D10: 142458.16 | E10: - | F10: - | G10: - | H10: - | I10: - | J10: 194035.96 | K10: 171235 | L10: - | M10: - | N10: - | O10: -
A11: 2. | B11: Обеспечение государственных органов Приморского края электросвязью (количество заключенных договоров) | C11: 17 | D11: 16 | E11: - | F11: - | G11: - | H11: - | I11: - | J11: 20660 | K11: 19200 | L11: - | M11: - | N11: - | O11: - | P11: -
A12: 3. | B12: Транспортное обслуживание государственных органов Приморского края (количество транспортных средств) | C12: 150 | D12: 151 | E12: - | F12: - | G12: - | H12: - | I12: - | J12: 212207.99 | K12: 162545 | L12: - | M12: - | N12: - | O12: - | P12: -
A13: 4. | B13: Материально-техническое обеспечение деятельности государственных органов Приморского края (количество человек) | C13: 3275.5 | D13: 3292 | E13: - | F13: - | G13: - | H13: - | I13: - | J13: 169786.79 | K13: 197011
A14: 5. | B14: Материально-техническое обеспечение мероприятий, проводимых государственными органами Приморского края (количество мероприятий) | C14: 16 | D14: 32 | E14: - | F14: - | G14: - | H14: - | I14: - | J14: 12300 | K14: 19000 | L14: - | M14: - | N14: - | O14: - | P14: -
A15: 6. | B15: Содержание (эксплуатация) имущества, находящегося в государственной (муниципальной) собственности (Обеспечение эксплуатационно-технического обслуживания объектов и помещений, а также содержание указанных объектов и помещений, оборудования и прилегающей территории в надлежащем состоянии ), тыс. кв.м | E15: 145.01 | F15: 145.01 | G15: 145.01 | H15: 145.01 | I15: 145.01 | L15: 341317 | M15: 341317 | N15: 341317 | O15: 341317 | P15: 341317
A16: 7. | B16: Организация и осуществление транспортного обслуживания должностных лиц в случаях, установленных нормативными правовыми актами Российской Федерации, субъектов Российской Федерации, органов местного самоуправления | C16: - | D16: - | E16: 300000 | F16: 249000 | G16: 249000 | H16: 249000 | I16: 249000 | J16: - | K16: - | L16: 159695 | M16: 131715 | N16: 131715 | O16: 131715 | P16: 131715
B17: (Автотранспортное обслуживание лиц и государственных органов, работников их аппаратов, а также Управления делами Президента Российской Федерации и подведомтсвенных ему организаций), машино-часы работы автомобилей (единицы)
A18: 8. | B18: Административное обеспечение деятельности организаций (Организация закупок (Связь), кол-во отчетов | C18: - | D18: - | E18: 4 | F18: 4 | G18: 4 | H18: 4 | I18: 4 | J18: - | K18: - | L18: 19010 | M18: 19010 | N18: 19010 | O18: 19010 | P18: 19010
A19: 9. | B19: Административное обеспечение деятельности организаций (Организация закупок (Общеотраслевые услуги (работы), кол-во отчетов | C19: - | D19: - | E19: 4 | F19: 4 | G19: 4 | H19: 4 | I19: 4 | J19: - | K19: - | L19: 35149 | M19: 35149 | N19: 35149 | O19: 35149 | P19: 35149
A20: 10. | B20: Организация мероприятий (Конференции, семинары), кол-во мероприятий | C20: - | D20: - | E20: 6 | F20: 5 | G20: 5 | H20: 5 | I20: 5 | J20: - | K20: - | L20: 10500 | M20: 500 | N20: 500 | O20: 500 | P20: 500
A21: 11. | B21: Организация мероприятий (Переговоры, встречи, совещания), кол-во мероприятий | C21: - | D21: - | E21: 26 | F21: 7 | G21: 7 | H21: 7 | I21: 7 | J21: - | K21: - | L21: 8000 | M21: 2000 | N21: 2000 | O21: 2000 | P21: 2000
A22: 12. | B22: Организация мероприятий (Народные гуляния, праздники) кол-во мероприятий | C22: - | D22: - | E22: 3 | F22: 1 | G22: 1 | H22: 1 | I22: 1 | J22: - | K22: - | L22: 1000 | M22: 300 | N22: 300 | O22: 300 | P22: 300
A23: ИТОГО | J23: =SUM(J10:J22) -> 608990.74 | K23: =SUM(K10:K22) -> 568991 | L23: =SUM(L10:L22) -> 574671 | M23: =SUM(M10:M22) -> 529991 | N23: =SUM(N10:N22) -> 529991 | O23: =SUM(O10:O22) -> 529991 | P23: =SUM(P10:P22) -> 529991
P24: ».

Sheet Приложение № 2 (№5 к ГП)
J1: Приложение № 2 к постановлению Администрации Приморского края «Приложение № 5 к государственной программе Приморского края «Экономическое развитие и инновационная экономика Приморского края» на 2013 - 2020 годы, утвержденной постановлением Администрации Приморского края от 7 декабря 2012 года № 382-па
A3: ИНФОРМАЦИЯ
A4: о ресурсном обеспечении реализации государственной программы Приморского края «Экономическое развитие и инновационная экономика Приморского края» на 2013 - 2020 годы за счет средств краевого бюджета (тыс. руб.)
A7: № п/п | B7: Наименование подпрограммы, программы, принятой в соответствии с требованиями федерального законодательства в сфере реализации государственной программы | C7: Ответственный исполнитель, соисполнители | D7: Код бюджетной классификации | H7: Расходы (тыс. руб.), годы
D8: ГРБС | E8: Рз Пр | F8: ЦСР | G8: ВР | H8: 2013 | I8: 2014 | J8: 2015 | K8: 2016 | L8: 2017 | M8: 2018 | N8: 2019 | O8: 2020 | P8: всего
A9: 1 | B9: 2 | C9: 3 | D9: 4 | E9: 5 | F9: 6 | G9: 7 | H9: 8 | I9: 9 | J9: 10 | K9: 11 | L9: 12 | M9: 13 | N9: 14 | O9: 15 | P9: 16
B10: ='[2]Приложение № 7 (приложение № 6)'!B10 -> Государственная программа Приморского края «Экономическое развитие и инновационная экономика Приморского края» на 2013 - 2020 годы | C10: всего | D10: Х | E10: Х | F10: Х | G10: Х | H10: =SUM(H11:H19) -> 2169618.2 | I10: =SUM(I11:I19) -> 3001417.5 | J10: =SUM(J11:J19) -> 3340369.8 | K10: =SUM(K11:K19) -> 3097770.6 | L10: =SUM(L11:L19) -> 4450763.4 | M10: =SUM(M11:M19) -> 3721866.9 | N10: =SUM(N11:N19) -> 3720062.8 | O10: =SUM(O11:O19) -> 3618994.3 | P10: =SUM(P11:P19) -> 27120864
C11: департамент экономики и развития предпринимательства Приморского края | D11: 784 | E11: Х | F11: Х | G11: Х | H11: =SUM(H21,H135) -> 294750.3 | I11: =SUM(I21,I135) -> 147438.82 | J11: 183487.54 | K11: =SUM(K21,K135) -> 193366.49 | L11: =SUM(L21,L135) -> 236986.15 | M11: =SUM(M21,M135) -> 122607.09 | N11: =SUM(N21,N135) -> 122607.09 | O11: =SUM(O21,O135) -> 122507.09 | P11: =SUM(P21,P135) -> 1423750.6
C12: департамент промышленности Приморского края | D12: 794 | E12: Х | F12: Х | G12: Х | H12: =SUM(H22) -> 0 | I12: =SUM(I22) -> 0 | J12: =SUM(J22) -> 100000 | K12: =SUM(K22) -> 100000 | L12: =SUM(L22) -> 200000 | M12: =SUM(M22) -> 0 | N12: =SUM(N22) -> 0 | O12: =SUM(O22) -> 0 | P12: =SUM(H12:O12) -> 400000
C13: департамент финансов Приморского края | D13: 752 | E13: Х | F13: Х | G13: Х | H13: =H197 -> 1874867.9 | I13: =I197 -> 1734852.2 | J13: =J197 -> 1972961.4 | K13: =K197 -> 1676755.1 | L13: =L197 -> 2680776.9 | M13: =M197 -> 2685733.8 | N13: =N197 -> 2685733.8 | O13: =O197 -> 2685733.8 | P13: =SUM(H13:O13) -> 17997415
C14: департамент земельных и имущественных отношений Приморского края | D14: 779 | E14: Х | F14: Х | G14: Х | H14: =SUM(H268) -> 0 | I14: =SUM(I268) -> 1119126.5 | J14: =SUM(J268) -> 1075070.8 | K14: =SUM(K268) -> 1089984.7 | L14: =SUM(L268) -> 1295894.8 | M14: =SUM(M268) -> 876420.45 | N14: =SUM(N268) -> 874616.36 | O14: =SUM(O268) -> 773647.85 | P14: =SUM(P268) -> 7104761.5
C15: департамент внутренней политики Приморского края | D15: =D301 -> 789 | E15: =E301 -> Х | F15: =F301 -> Х | G15: =G301 -> Х | H15: =SUM(H301) -> 0 | I15: =SUM(I301) -> 0 | J15: =SUM(J301) -> 4450 | K15: =SUM(K301) -> 23819.85 | L15: =SUM(L301) -> 23460 | M15: =SUM(M301) -> 23460 | N15: =SUM(N301) -> 23460 | O15: =SUM(O301) -> 23460 | P15: =SUM(P301) -> 122109.85
C16: =C302 -> департамент по координации правоохранительной деятельности, исполнения административного законодательства и обеспечения деятельности мировых судей Приморского края | D16: =D302 -> 785 | E16: =E302 -> Х | F16: =F302 -> Х | G16: =G302 -> Х | H16: =H302 -> 0 | I16: =I302 -> 0 | J16: =J302 -> 600 | ... O16: =O302 -> 600 | P16: =SUM(H16:O16) -> 3999.4
C17: департамент проектного управления Приморского края | D17: =D125 -> 798 | E17: =E303 -> Х | F17: =F303 -> Х | G17: =G303 -> Х | H17: =H122 -> 0 | I17: =I122 -> 0 | J17: =J122 -> 3800 | K17: =K123 -> 12845.03 | L17: =L123 -> 13045.6 | M17: =M123 -> 13045.6 | N17: =N123 -> 13045.6 | O17: =O123 -> 13045.6 | P17: =SUM(H17:O17) -> 68827.43
C18: =C304 -> департамент информатизации и телекоммуникаций Приморского края | D18: 755 | E18: =E304 -> Х | F18: =F304 -> Х | G18: =G304 -> Х | H18: =H304 -> 0 | I18: =I304 -> 0 | J18: =J304 -> 0 | K18: =K304 -> 0 | L18: =L304 -> 0 | ... O18: =O304 -> 0 | P18: =SUM(H18:O18) -> 0
C19: =C305 -> департамент информационной политики Приморского края | D19: 771 | E19: =E305 -> Х | F19: =F305 -> Х | G19: =G305 -> Х | H19: =H305 -> 0 | I19: =I305 -> 0 | J19: =J305 -> 0 | K19: =K305 -> 0 | L19: =L305 -> 0 | ... O19: =O305 -> 0 | P19: =SUM(H19:O19) -> 0
A20: ='[2]Приложение № 7 (приложение № 6)'!A27 -> 1. | B20: ='[2]Приложение № 7 (приложение № 6)'!B27 -> Подпрограмма № 1 «Улучшение инвестиционного климата в Приморском крае» на 2013-2020 годы | C20: всего | D20: Х | E20: Х | F20: Х | G20: Х | H20: =SUM(H21:H23) -> 226945.3 | I20: =SUM(I21:I23) -> 79633.822 | J20: =SUM(J21:J23) -> 229553.54 | K20: =SUM(K21:K23) -> 239404.5 | L20: =SUM(L21:L23) -> 375910.04 | M20: =SUM(M21:M23) -> 81985.98 | N20: =SUM(N21:N23) -> 81985.98 | O20: =SUM(O21:O23) -> 81985.98 | P20: =SUM(H20:O20) -> 1397405.1
C21: департамент экономики и развития предпринимательства Приморского края | D21: 784 | E21: Х | F21: Х | G21: Х | H21: =SUM(H24,H26,H54,H56,H115,H123,H131) -> 226945.3 | I21: =SUM(I24,I26,I54,I56,I115,I123,I131) -> 79633.822 | J21: =SUM(J24,J26,J54,J56,J115,J123,J131) -> 125753.54 | K21: =SUM(K26,K56,K60,K78,K96,K116,K124,K132) -> 126559.47 | L21: =SUM(L26,L56,L60,L78,L96,L116,L124,L132) -> 162864.44 | M21: =SUM(M26,M56,M60,M78,M96,M116,M124,M132) -> 68940.38 | N21: =SUM(N26,N56,N60,N78,N96,N116,N124,N132) -> 68940.38 | O21: =SUM(O26,O56,O60,O78,O96,O116,O124,O132) -> 68940.38 | P21: =SUM(H21:O21) -> 928577.71
C22: департамент промышленности Приморского края | D22: 794 | E22: Х | F22: Х | G22: Х | H22: =H50 -> 0 | I22: =I50 -> 0 | J22: =J50 -> 100000 | K22: =K51 -> 100000 | L22: =L51 -> 200000 | M22: =M51 -> 0 | N22: =N51 -> 0 | O22: =O51 -> 0 | P22: =SUM(H22:O22) -> 400000
C23: департамент проектного управления Приморского края | D23: 798 | E23: Х | F23: Х | G23: Х | H23: =H122 -> 0 | I23: =I122 -> 0 | J23: =J122 -> 3800 | K23: =SUM(K123) -> 12845.03 | L23: =SUM(L123) -> 13045.6 | M23: =SUM(M123) -> 13045.6 | N23: =SUM(N123) -> 13045.6 | O23: =SUM(O123) -> 13045.6 | P23: =SUM(H23:O23) -> 68827.43
A24: ='Приложение № 3 (№6 к ГП)'!A36 -> 1.1. | B24: ='Приложение № 3 (№6 к ГП)'!B36 -> Основное мероприятие «Создание благоприятных условий для привлечения инвестиций в экономику Приморского края» | C24: департамент экономики и развития предпринимательства Приморского края | D24: 784 | E24: Х | F24: Х | G24: Х | H24: =SUM(H27,H28,H29,H30,H32,H34,H35,H37,H38,H39,H41,H42,H44,H45,H47,H48) -> 124950 | I24: =SUM(I27,I28,I31,I36,I40,I38,I43,I45,I48) -> 29200 | J24: =SUM(J27,J28,J31,J36,J40,J38,J43,J45,J48) -> 82169 | P24: =H24+I24+J24+K26+L26+M26+N26+O26 -> 482943.07 | Q24: =P27+P28+P30+P32+P35+P38+P39+P42+P45+P48 -> 482943.07
D26: 784 | E26: 0412 | F26: 17 1 01 00000 | G26: Х | K26: =SUM(K27,K28,K29,K30,K32,K34,K35,K37,K38,K39,K41,K42,K44,K45,K47,K48) -> 86700 | L26: =SUM(L27,L28,L29,L30,L32,L34,L35,L37,L38,L39,L41,L42,L44,L45,L47,L48) -> 72924.07 | M26: =SUM(M27,M28,M29,M30,M32,M34,M35,M37,M38,M39,M41,M42,M44,M45,M47,M48) -> 29000 | N26: =SUM(N27,N28,N29,N30,N32,N34,N35,N37,N38,N39,N41,N42,N44,N45,N47,N48) -> 29000 | O26: =SUM(O27,O28,O29,O30,O32,O34,O35,O37,O38,O39,O41,O42,O44,O45,O47,O48) -> 29000 | Q26: =P24-Q24 -> 0
A27: ='Приложение № 3 (№6 к ГП)'!A43 -> 1.1.1. | B27: ='Приложение № 3 (№6 к ГП)'!B43 -> Предоставление автономной некоммерческой организации «Агентство по привлечению инвестиций в Приморский край» субсидии из краевого бюджета на осуществление уставной деятельности | C27: департамент экономики и развития предпринимательства Приморского края | D27: 784 | E27: 0412 | F27: 5225440 | G27: 630 | H27: ='Приложение № 3 (№6 к ГП)'!E45 -> 36500 | I27: ='Приложение № 3 (№6 к ГП)'!F45 -> 0 | J27: ='Приложение № 3 (№6 к ГП)'!G45 -> 0 | K27: ='Приложение № 3 (№6 к ГП)'!H45 -> 0 | L27: ='Приложение № 3 (№6 к ГП)'!I45 -> 0 | M27: ='Приложение № 3 (№6 к ГП)'!J45 -> 0 | N27: ='Приложение № 3 (№6 к ГП)'!K45 -> 0 | O27: ='Приложение № 3 (№6 к ГП)'!L45 -> 0 | P27: =H27+I27+J27+K27+L27+M27+N27+O27 -> 36500
A28: ='Приложение № 3 (№6 к ГП)'!A50 -> 1.1.2. | B28: ='Приложение № 3 (№6 к ГП)'!B50 -> Предоставление автономной некоммерческой организации «Инвестиционное Агентство Приморского края» субсидии из краевого бюджета на осуществление уставной деятельности | C28: департамент экономики и развития предпринимательства Приморского края | D28: 784 | E28: 0412 | F28: 1716047 | G28: 630 | H28: ='Приложение № 3 (№6 к ГП)'!E52 -> 74500 | I28: ='Приложение № 3 (№6 к ГП)'!F52 -> 29000 | J28: ='Приложение № 3 (№6 к ГП)'!G52 -> 82169 | P28: =H28+I28+J28+K29+L29+M29+N29+O29 -> 429293.07
D29: 784 | E29: 0412 | F29: 17 1 01 60470 | G29: 630 | K29: ='Приложение № 3 (№6 к ГП)'!H52 -> 86700 | L29: ='Приложение № 3 (№6 к ГП)'!I52 -> 69924.07 | M29: ='Приложение № 3 (№6 к ГП)'!J52 -> 29000 | N29: ='Приложение № 3 (№6 к ГП)'!K52 -> 29000 | O29: ='Приложение № 3 (№6 к ГП)'!L52 -> 29000
A30: ='Приложение № 3 (№6 к ГП)'!A57 -> 1.1.3. | B30: ='Приложение № 3 (№6 к ГП)'!B57 -> Организация ежегодного Тихоокеанского экономического конгресса | C30: департамент экономики и развития предпринимательства Приморского края | D30: 784 | E30: 0412 | F30: 5225430 | G30: 010 | H30: ='Приложение № 3 (№6 к ГП)'!E59 -> 13700 | K30: ='Приложение № 3 (№6 к ГП)'!H59 -> 0 | L30: ='Приложение № 3 (№6 к ГП)'!I59 -> 0 | M30: ='Приложение № 3 (№6 к ГП)'!J59 -> 0 | N30: ='Приложение № 3 (№6 к ГП)'!K59 -> 0 | O30: ='Приложение № 3 (№6 к ГП)'!L59 -> 0 | P30: =SUM(H30:O30) -> 13700
D31: 784 | E31: 0412 | F31: 1712136 | G31: 240 | I31: ='Приложение № 3 (№6 к ГП)'!F59 -> 0 | J31: ='Приложение № 3 (№6 к ГП)'!G59 -> 0 | P31: =SUM(H31:O31) -> 0
A32: ='Приложение № 3 (№6 к ГП)'!A64 -> 1.1.4. | B32: ='Приложение № 3 (№6 к ГП)'!B64 -> Организация работы по оценке инвестиционной привлекательности Приморского края в рейтинговых исследованиях российских и зарубежных рейтинговых агентств | C32: департамент экономики и развития предпринимательства Приморского края | D32: 784 | E32: 0412 | F32: 5225410 | G32: 010 | H32: ='Приложение № 3 (№6 к ГП)'!E66 -> 0 | I32: ='Приложение № 3 (№6 к ГП)'!F66 -> 0 | J32: ='Приложение № 3 (№6 к ГП)'!G66 -> 0 | P32: =SUM(H32:J33,K34:O34) -> 3000
D33: 784 | E33: 0412 | F33: 1712137 | G33: 240
D34: 784 | E34: 0412 | F34: 17 1 01 22600 | G34: 240 | K34: ='Приложение № 3 (№6 к ГП)'!H66 -> 0 | L34: ='Приложение № 3 (№6 к ГП)'!I66 -> 3000 | M34: ='Приложение № 3 (№6 к ГП)'!J66 -> 0 | N34: ='Приложение № 3 (№6 к ГП)'!K66 -> 0 | O34: ='Приложение № 3 (№6 к ГП)'!L66 -> 0
A35: ='Приложение № 3 (№6 к ГП)'!A71 -> 1.1.5. | B35: ='Приложение № 3 (№6 к ГП)'!B71 -> Создание и программное сопровождение многоязычного интернет-портала об инвестиционной деятельности в Приморском крае | C35: департамент экономики и развития предпринимательства Приморского края | D35: 784 | E35: 0412 | F35: 5225410 | G35: 010 | H35: ='Приложение № 3 (№6 к ГП)'!E73 -> 50 | P35: =SUM(H35:O35) -> 50
D36: 784 | E36: 0412 | F36: 1712137 | G36: 240 | I36: ='Приложение № 3 (№6 к ГП)'!F73 -> 0 | J36: ='Приложение № 3 (№6 к ГП)'!G73 -> 0 | P36: =SUM(H36:O36) -> 0
D37: 784 | E37: 0412 | F37: 17 1 01 22610 | G37: 240 | K37: ='Приложение № 3 (№6 к ГП)'!H73 -> 0 | L37: ='Приложение № 3 (№6 к ГП)'!I73 -> 0 | M37: ='Приложение № 3 (№6 к ГП)'!J73 -> 0 | N37: ='Приложение № 3 (№6 к ГП)'!K73 -> 0 | O37: ='Приложение № 3 (№6 к ГП)'!L73 -> 0 | P37: =SUM(H37:O37) -> 0
C38: департамент информатизации и телекоммуникаций Приморского края | D38: 755 | E38: Х | F38: Х | G38: Х | H38: 0 | I38: 0 | J38: 0 | K38: 0 | L38: 0 | M38: 0 | N38: 0 | O38: 0 | P38: =SUM(H38:O38) -> 0
A39: ='Приложение № 3 (№6 к ГП)'!A78 -> 1.1.6. | B39: ='Приложение № 3 (№6 к ГП)'!B78 -> Разработка и издание печатного материала «Инвестиционный паспорт Приморского края» | C39: департамент экономики и развития предпринимательства Приморского края | D39: 784 | E39: 0412 | F39: 5225410 | G39: 010 | H39: ='Приложение № 3 (№6 к ГП)'!E80 -> 100 | P39: =O41+N41+M41+L41+K41+J40+I40+H39 -> 200
D40: 784 | E40: 0412 | F40: 1712137 | G40: 240 | I40: ='Приложение № 3 (№6 к ГП)'!F80 -> 100 | J40: ='Приложение № 3 (№6 к ГП)'!G80 -> 0 | P40: =SUM(H40:O40) -> 100
D41: 784 | E41: 0412 | F41: 17 1 01 22620 | G41: 240 | K41: ='Приложение № 3 (№6 к ГП)'!H80 -> 0 | L41: ='Приложение № 3 (№6 к ГП)'!I80 -> 0 | M41: ='Приложение № 3 (№6 к ГП)'!J80 -> 0 | N41: ='Приложение № 3 (№6 к ГП)'!K80 -> 0 | O41: ='Приложение № 3 (№6 к ГП)'!L80 -> 0 | P41: =SUM(H41:O41) -> 0
A42: ='Приложение № 3 (№6 к ГП)'!A85 -> 1.1.7. | B42: ='Приложение № 3 (№6 к ГП)'!B85 -> Разработка и издание печатного материала «Каталог инвестиционных проектов Приморского края» | C42: департамент экономики и развития предпринимательства Приморского края | D42: 784 | E42: 0412 | F42: 5225410 | G42: 010 | H42: ='Приложение № 3 (№6 к ГП)'!E87 -> 100 | P42: =O44+N44+M44+L44+K44+J43+I43+H42 -> 200
D43: 784 | E43: 0412 | F43: 1712137 | G43: 240 | I43: ='Приложение № 3 (№6 к ГП)'!F87 -> 100 | J43: ='Приложение № 3 (№6 к ГП)'!G87 -> 0 | P43: =SUM(H43:O43) -> 100
D44: 784 | E44: 0412 | F44: 17 1 01 22630 | G44: 240 | K44: ='Приложение № 3 (№6 к ГП)'!H87 -> 0 | L44: ='Приложение № 3 (№6 к ГП)'!I87 -> 0 | M44: ='Приложение № 3 (№6 к ГП)'!J87 -> 0 | N44: ='Приложение № 3 (№6 к ГП)'!K87 -> 0 | O44: ='Приложение № 3 (№6 к ГП)'!L87 -> 0 | P44: =SUM(H44:O44) -> 0
...

Sheet Приложение № 3 (№6 к ГП)
H1: Приложение № 3 к постановлению Администрации Приморского края «Приложение № 6 к государственной программе Приморского края «Экономическое развитие и инновационная экономика Приморского края» на 2013 - 2020 годы, утвержденной постановлением Администрации Приморского края от 7 декабря 2012 года № 382-па
A3: ИНФОРМАЦИЯ
A4: о ресурсном обеспечении государственной программы Приморского края «Экономическое развитие и инновационная экономика Приморского края» на 2013 - 2020 годы за счет средств краевого бюджета и прогнозная оценка привлекаемых на реализацию ее целей средств федерального бюджета, бюджетов государственных внебюджетных фондов, иных внебюджетных источников, бюджетов муниципальных образований Приморского края в случае участия Приморского края в реализации муниципальных программ, аналогичных мероприятиям государственной программы Приморского края
A7: № п/п | B7: Наименование подпрограммы, программы, принятой в соответствии с требованиями федерального законодательства в сфере реализации государственной программы | C7: Источники ресурсного обеспечения | D7: ГРБС | E7: Оценка расходов (тыс. руб.), годы
E8: 2013 | F8: 2014 | G8: 2015 | H8: 2016 | I8: 2017 | J8: 2018 | K8: 2019 | L8: 2020 | M8: Всего
A9: 1 | B9: 2 | C9: 3 | D9: 4 | E9: 5 | F9: 6 | G9: 7 | H9: 8 | I9: 9 | J9: 10 | K9: 11 | L9: 12 | M9: 13
B10: Государственная программа Приморского края «Экономическое развитие и инновационная экономика Приморского края» на 2013 - 2020 годы | C10: всего | D10: Х | E10: =E27+E233+E429+E527+E632 -> 3384061.8 | F10: =F27+F233+F429+F527+F632 -> 7271300.1 | G10: =G27+G233+G429+G527+G632 -> 4319461.8 | H10: =H27+H233+H429+H527+H632 -> 3956711.2 | I10: =I27+I233+I429+I527+I632 -> 7138005.7 | J10: =J27+J233+J429+J527+J632 -> 5461052.6 | K10: =K27+K233+K429+K527+K632 -> 5955553.5 | L10: =L27+L233+L429+L527+L632 -> 5854485 | M10: =SUM(E10:L10) -> 43340632
C11: федеральный бюджет (субсидии, субвенции, иные межбюджетные трансферты) | D11: Х | E11: =E234+E430+E633 -> 989883.09 | F11: =F234+F430+F633 -> 982649.73 | G11: =G234+G430+G633 -> 836304.03 | H11: =H234+H430+H633 -> 708733.38 | I11: =I234+I430+I633 -> 644130.6 | J11: =J234+J430+J633 -> 200529 | K11: =K234+K430+K633 -> 196834 | L11: =L234+L430+L633 -> 196834 | M11: =SUM(E11:L11) -> 4755897.8
D12: 784 | E12: =SUM(E28,E234) -> 278798.09 | F12: =SUM(F28,F234) -> 272917.73 | G12: =SUM(G28,G234) -> 239901.93 | H12: =SUM(H28,H234) -> 146958.78 | I12: =SUM(I28,I234) -> 92006 | J12: =SUM(J28,J234) -> 0 | K12: =SUM(K28,K234) -> 0 | L12: =SUM(L28,L234) -> 0 | M12: =SUM(E12:L12) -> 1030582.5
D13: 752 | E13: =SUM(E430) -> 711085 | F13: =SUM(F430) -> 709732 | G13: =SUM(G430) -> 596402.1 | H13: =SUM(H430) -> 561774.6 | I13: =SUM(I430) -> 552124.6 | J13: =SUM(J430) -> 200529 | K13: =SUM(K430) -> 196834 | L13: =SUM(L430) -> 196834 | M13: =SUM(M430) -> 3725315.3
D14: 789 | E14: =SUM(E633) -> 0 | F14: =SUM(F633) -> 0 | G14: =SUM(G633) -> 0 | H14: =SUM(H633) -> 0 | I14: =SUM(I633) -> 0 | J14: =SUM(J633) -> 0 | K14: =SUM(K633) -> 0 | L14: =SUM(L633) -> 0 | M14: =SUM(E14:L14) -> 0
C15: краевой бюджет | D15: Х | E15: =SUM(E29,E30,E235,E431,E529,E634,E635,E31) -> 2169618.2 | F15: =SUM(F29,F30,F235,F431,F529,F634,F635,F31) -> 3001417.5 | G15: ='Приложение № 2 (№5 к ГП)'!J10 -> 3340369.8 | H15: =SUM(H29,H30,H235,H431,H529,H634,H635,H31) -> 3097770.6 | I15: =SUM(I29,I30,I235,I431,I529,I634,I635,I31) -> 4450763.4 | J15: =SUM(J29,J30,J235,J431,J529,J634,J635,J31) -> 3721866.9 | K15: =SUM(K29,K30,K235,K431,K529,K634,K635,K31) -> 3720062.8 | L15: =SUM(L29,L30,L235,L431,L529,L634,L635,L31) -> 3618994.3 | M15: =SUM(E15:L15) -> 27120864
D16: 784 | E16: =SUM(E29,E235) -> 294750.3 | F16: =SUM(F29,F235) -> 147438.82 | G16: =SUM(G29,G235) -> 183487.54 | H16: =SUM(H29,H235) -> 193366.49 | I16: =SUM(I29,I235) -> 236986.15 | J16: =SUM(J29,J235) -> 122607.09 | K16: =SUM(K29,K235) -> 122607.09 | L16: =SUM(L29,L235) -> 122507.09 | M16: =SUM(M29,M235) -> 1423750.6
D17: 794 | E17: =SUM(E30) -> 0 | F17: =SUM(F30) -> 0 | G17: =SUM(G30) -> 100000 | H17: =SUM(H30) -> 100000 | I17: =SUM(I30) -> 200000 | J17: =SUM(J30) -> 0 | K17: =SUM(K30) -> 0 | L17: =SUM(L30) -> 0 | M17: =SUM(M30) -> 400000
D18: 752 | E18: =SUM(E431) -> 1874867.9 | F18: =SUM(F431) -> 1734852.2 | G18: =SUM(G431) -> 1972961.4 | H18: =SUM(H431) -> 1676755.1 | I18: =SUM(I431) -> 2680776.9 | J18: =SUM(J431) -> 2685733.8 | K18: =SUM(K431) -> 2685733.8 | L18: =SUM(L431) -> 2685733.8 | M18: =SUM(M431) -> 17997415
D19: 779 | E19: =SUM(E529) -> 0 | F19: =SUM(F529) -> 1119126.5 | G19: =SUM(G529) -> 1075070.8 | H19: =SUM(H529) -> 1089984.7 | I19: =SUM(I529) -> 1295894.8 | J19: =SUM(J529) -> 876420.45 | K19: =SUM(K529) -> 874616.36 | L19: =SUM(L529) -> 773647.85 | M19: =SUM(M529) -> 7104761.5
D20: 789 | E20: =SUM(E634) -> 0 | F20: =SUM(F634) -> 0 | G20: =SUM(G634) -> 4450 | H20: =SUM(H634) -> 23819.85 | I20: =SUM(I634) -> 23460 | J20: =SUM(J634) -> 23460 | K20: =SUM(K634) -> 23460 | L20: =SUM(L634) -> 23460 | M20: =SUM(M634) -> 122109.85
D21: 785 | E21: =SUM(E635) -> 0 | F21: =SUM(F635) -> 0 | G21: =SUM(G635) -> 600 | H21: =SUM(H635) -> 999.4 | I21: =SUM(I635) -> 600 | J21: =SUM(J635) -> 600 | K21: =SUM(K635) -> 600 | L21: =SUM(L635) -> 600 | M21: =SUM(M635) -> 3999.4
D22: 798 | E22: =E31 -> 0 | F22: =F31 -> 0 | G22: =G31 -> 3800 | H22: =H31 -> 12845.03 | I22: =I31 -> 13045.6 | J22: =J31 -> 13045.6 | K22: =K31 -> 13045.6 | L22: =L31 -> 13045.6 | M22: =SUM(E22:L22) -> 68827.43
C23: бюджет муниципальных образований | D23: - | E23: =E32+E236+E432+E530+E636 -> 40560.5 | F23: =F32+F236+F432+F530+F636 -> 53232.88 | G23: =G32+G236+G432+G530+G636 -> 42288 | H23: =H32+H236+H432+H530+H636 -> 49627.2 | I23: =I32+I236+I432+I530+I636 -> 42611.7 | J23: =J32+J236+J432+J530+J636 -> 38156.7 | K23: =K32+K236+K432+K530+K636 -> 38156.7 | L23: =L32+L236+L432+L530+L636 -> 38156.7 | M23: =SUM(E23:L23) -> 342790.38
C24: государственные внебюджетные фонды Российской Федерации | D24: - | E24: =E33+E237+E433+E531+E637 -> 0 | F24: =F33+F237+F433+F531+F637 -> 0 | G24: =G33+G237+G433+G531+G637 -> 0 | H24: =H33+H237+H433+H531+H637 -> 0 | I24: =I33+I237+I433+I531+I637 -> 0 | J24: =J33+J237+J433+J531+J637 -> 0 | K24: =K33+K237+K433+K531+K637 -> 0 | L24: =L33+L237+L433+L531+L637 -> 0 | M24: =SUM(E24:L24) -> 0
C25: территориальные государственные внебюджетные фонды | D25: - | E25: =E34+E238+E434+E532+E638 -> 0 | F25: =F34+F238+F434+F532+F638 -> 0 | G25: =G34+G238+G434+G532+G638 -> 0 | H25: =H34+H238+H434+H532+H638 -> 0 | I25: =I34+I238+I434+I532+I638 -> 0 | J25: =J34+J238+J434+J532+J638 -> 0 | K25: =K34+K238+K434+K532+K638 -> 0 | L25: =L34+L238+L434+L532+L638 -> 0 | M25: =SUM(E25:L25) -> 0
C26: иные внебюджетные источники | D26: - | E26: =E35+E239+E435+E533+E639 -> 184000 | F26: =F35+F239+F435+F533+F639 -> 3234000 | G26: =G35+G239+G435+G533+G639 -> 100500 | H26: =H35+H239+H435+H533+H639 -> 100579.94 | I26: =I35+I239+I435+I533+I639 -> 2000500 | J26: =J35+J239+J435+J533+J639 -> 1500500 | K26: =K35+K239+K435+K533+K639 -> 2000500 | L26: =L35+L239+L435+L533+L639 -> 2000500 | M26: =SUM(E26:L26) -> 11121080
A27: 1. | B27: Подпрограмма № 1 «Улучшение инвестиционного климата в Приморском крае» на 2013-2020 годы | C27: всего | D27: - | E27: =E36+E106+E120+E134+E148+E162+E190+E219 -> 410945.3 | F27: =F36+F106+F120+F134+F148+F162+F190+F219 -> 3313633.8 | G27: =G36+G106+G120+G134+G148+G162+G190+G219 -> 329553.54 | H27: =H36+H106+H120+H134+H148+H162+H190+H219 -> 339404.5 | I27: =I36+I106+I120+I134+I148+I162+I190+I219 -> 2375910 | J27: =J36+J106+J120+J134+J148+J162+J190+J219 -> 1581986 | K27: =K36+K106+K120+K134+K148+K162+K190+K219 -> 2081986 | L27: =L36+L106+L120+L134+L148+L162+L190+L219 -> 2081986 | M27: =SUM(E27:L27) -> 12515405
