Workbook
Name OLE_LINK1: 'Приложение 5'!$A$7

Sheet Приложение 5
A4: ИНФОРМАЦИЯ
A5: о ресурсном обеспечении реализации государственной программы Приморского края «Информационное общество» на 2013 - 2020 годы за счет средств краевого бюджета (тыс. руб.)
A7: № | B7: Наименование подпрограммы, программы, принятой в соответствии с требованиями федерального законодательства в сфере реализации государственной программы | C7: Ответственный | D7: Код бюджетной | H7: Расходы (тыс. руб.), годы
A8: п/п | C8: исполнитель,
C9: соисполнители | D9: ГРБС | E9: Рз | F9: ЦСР | G9: ВР | H9: 2013 | I9: 2014 | J9: 2015 | K9: 2016 | L9: 2017 | M9: 2018 | N9: 2019 | O9: 2020 | P9: всего
E10: Пр
A11: 1 | B11: 2 | C11: 3 | D11: 4 | E11: 5 | F11: 6 | G11: 7 | H11: 8 | I11: 9 | J11: 10 | K11: 11 | L11: 12 | M11: 13 | N11: 14 | O11: 15 | P11: 16
B12: Государственная программа «Информационное общество» на 2013 – 2020 годы | C12: всего: | D12: Х | E12: Х | F12: Х | G12: Х | H12: =SUM(H13:H21) -> 911665.01 | I12: =SUM(I13:I21) -> 766787.03 | J12: =SUM(J13:J21) -> 882516.69 | K12: =SUM(K13:K21) -> 912361.6 | L12: =SUM(L13:L21) -> 1095997.2 | M12: =SUM(M13:M21) -> 684213.85 | N12: =SUM(N13:N21) -> 689633.85 | O12: =SUM(O13:O21) -> 689633.85 | P12: =SUM(H12:O12) -> 6632809
C13: департамент информатизации и телекоммуникаций Приморского края | D13: 755 | E13: Х | F13: Х | G13: Х | H13: =H23+H67+H101+H143+H166 -> 395824.01 | I13: =I23+I67+I101+I143+I166 -> 266889.8 | J13: =J23+J67+J101+J143+J166 -> 541536.47 | K13: =ROUND(K24+K68+K101+K144+K166,2) -> 547983.12 | L13: =L24+L68+L101+L144+L166 -> 721260.23 | M13: =M24+M68+M101+M144+M166 -> 322335.53 | N13: =N24+N68+N101+N144+N166 -> 322335.53 | O13: =O24+O68+O101+O144+O166 -> 322335.53 | P13: =SUM(H13:L13) -> 2473493.6
C14: департамент сельского хозяйства и продовольствия Приморского края | D14: 758 | E14: Х | F14: Х | G14: Х | K14: =K167 -> 0 | L14: =L167 -> 0 | M14: =M167 -> 0 | N14: =N167 -> 0 | O14: =O167 -> 0 | P14: =SUM(K14:O14) -> 0
C15: департамент образования и науки Приморского края | D15: 759 | E15: Х | F15: Х | G15: Х | H15: =H102 -> 52800 | I15: =I102 -> 28856 | J15: =J102 -> 23056 | K15: =K103 -> 103.73 | L15: =L103 -> 0 | M15: =M103 -> 0 | N15: =N103 -> 0 | O15: =O103 -> 0 | P15: =SUM(H15:O15) -> 104815.73
C16: департамент труда и социального развития Приморского края | D16: 760 | E16: Х | F16: Х | G16: Х | H16: =H70+H104 -> 9950 | I16: =I70+I104 -> 7988 | J16: =J70+J104 -> 8789.5 | K16: =K70+K104 -> 8326 | L16: =L70+L104 -> 27579.61 | M16: =M70+M104 -> 19521 | N16: =N70+N104 -> 24941 | O16: =O70+O104 -> 24941 | P16: =SUM(H16:L16) -> 62633.11
C17: департамент лесного хозяйства Приморского края | D17: 763 | E17: Х | F17: Х | G17: Х | K17: =K168 -> 0 | L17: =L168 -> 0 | M17: =M168 -> 0 | N17: =N168 -> 0 | O17: =O168 -> 0 | P17: =SUM(K17:O17) -> 0
C18: департамент информационной политики Приморского края | D18: 771 | E18: Х | F18: Х | G18: Х | H18: =H195 -> 421111 | I18: =I195 -> 453719.43 | J18: =J195 -> 303569.08 | K18: =K195 -> 310948.75 | L18: =L195 -> 342357.32 | M18: =M195 -> 342357.32 | N18: =N195 -> 342357.32 | O18: =O195 -> 342357.32 | P18: =SUM(H18:O18) -> 2858777.5
C19: департамент градостроительства Приморского края | D19: 775 | E19: Х | F19: Х | G19: Х | K19: =K169 -> 45000 | L19: =L169 -> 4800 | M19: =M169 -> 0 | N19: =N169 -> 0 | O19: =O169 -> 0 | P19: =SUM(K19:O19) -> 49800
C20: департамент земельных и имущественных отношений Приморского края | D20: 779 | E20: Х | F20: Х | G20: Х | H20: =H69+H170 -> 30400 | I20: =I69+I170 -> 9333.8 | J20: =J69+J170 -> 5565.64 | K20: =K69+K171 -> 0 | L20: =L69+L171 -> 0 | M20: =M69+M171 -> 0 | N20: =N69+N171 -> 0 | O20: =O69+O171 -> 0 | P20: =SUM(H20:O20) -> 45299.44
C21: департамент экономики и развития предпринимательства Приморского края | D21: 784 | E21: Х | F21: Х | G21: Х | H21: =H105 -> 1580 | I21: =I105 -> 0 | J21: =J105 -> 0 | K21: =K105 -> 0 | L21: =L105 -> 0 | M21: =M105 -> 0 | N21: =N105 -> 0 | O21: =O105 -> 0 | P21: =SUM(H21:O21) -> 1580
A22: 1. | B22: Подпрограмма № 1 «Развитие телекоммуникационной инфраструктуры органов государственной власти Приморского края и органов местного самоуправления» | C22: всего: | D22: Х | E22: Х | F22: Х | G22: Х | H22: =H26+H40+H59 -> 245694.76 | I22: =I26+I40+I59 -> 205626.3 | J22: =J26+J40+J59 -> 350235.25 | K22: =K25+K39+K59 -> 335948.15 | L22: =L25+L39 -> 378711.94 | M22: =M25+M39 -> 158509.84 | N22: =N25+N39 -> 158509.84 | O22: =O25+O39 -> 158509.84 | P22: =SUM(H22:O22) -> 1991745.9
C23: департамент информатизации и телекоммуникаций Приморского края | D23: 755 | E23: Х | F23: Х | G23: Х | H23: =H26+H40+H59 -> 245694.76 | I23: =I26+I40+I59 -> 205626.3 | J23: =J26+J40+J59 -> 350235.25 | P23: =SUM(H23:O24) -> 1991745.9
D24: 755 | E24: Х | F24: 1110000000 | G24: Х | K24: =K25+K39+K59 -> 335948.15 | L24: =L25+L39 -> 378711.94 | M24: =M25+M39 -> 158509.84 | N24: =N25+N39 -> 158509.84 | O24: =O25+O39 -> 158509.84
A25: 1.1. | B25: Основное мероприятие 1. Формирование системы межведомственного электронного взаимодействия органов государственной власти Приморского края и органов местного самоуправления | C25: всего: | D25: 755 | E25: Х | F25: Х | G25: Х | H25: =SUM(H26:H27) -> 83851 | I25: =SUM(I26:I27) -> 27990 | J25: =SUM(J26:J27) -> 250.42 | K25: =SUM(K27:K27) -> 0 | L25: =SUM(L27:L27) -> 0 | M25: =SUM(M27:M27) -> 0 | N25: =SUM(N27:N27) -> 0 | O25: =SUM(O27:O27) -> 0 | P25: =SUM(H25:O25) -> 112091.42
C26: департамент информатизации и телекоммуникаций Приморского края | D26: 755 | E26: Х | F26: Х | G26: Х | H26: =H28+H35+H37 -> 83851 | I26: =I28+I36+I38 -> 27990 | J26: =J28+J36+J38 -> 250.42 | P26: =SUM(H26:O27) -> 112091.42
D27: 755 | E27: Х | F27: 1110100000 | G27: Х | K27: =K28+K36+K38 -> 0 | L27: =L28+L36+L38 -> 0 | M27: =M28+M36+M38 -> 0 | N27: =N28+N36+N38 -> 0 | O27: =O28+O36+O38 -> 0
A28: 1.1.1. | B28: Реализация мероприятий по использованию информационно-коммуникационных технологий в целях совершенствования системы государственного и муниципального управления, предоставления услуг, создания и развития информационно-аналитических, учетных и функциональных систем Приморского края | C28: департамент информатизации и телекоммуникации Приморского края | D28: 755 | E28: 0410 | F28: Х | G28: Х | H28: =SUM(H29:H34) -> 80851 | I28: =SUM(I29:I34) -> 19400 | J28: =SUM(J29:J34) -> 0 | K28: =SUM(K29:K34) -> 0 | L28: =SUM(L29:L34) -> 0 | M28: =SUM(M29:M34) -> 0 | N28: =SUM(N29:N34) -> 0 | O28: =SUM(O29:O34) -> 0 | P28: =SUM(H28:O28) -> 100251
A29: 1.1.1.1. | B29: Развитие регионального телекоммуникационного центра, включая централизованную систему организационно-технического администрирования телекоммуникационной инфраструктуры и информационных подсистем «электронного правительства» Приморского края; предоставление услуг по поддержке и администрированию региональных и муниципальных информационных систем | C29: департамент информатизации и телекоммуникации Приморского края | D29: 755 | E29: 0410 | F29: 5221020 | G29: 064 | H29: 29000 | P29: =SUM(H29:O30) -> 33600
D30: 755 | E30: 0410 | F30: 1112143 | G30: 244 | I30: =5200-600 -> 4600 | J30: 0 | K30: 0 | L30: 0 | M30: 0 | N30: 0 | O30: 0
A31: 1.1.1.2. | B31: Развитие систем информационной безопасности телекоммуникационной инфраструктуры электронного правительства Приморского края, защиты персональных данных | C31: департамент информатизации и телекоммуникаций Приморского края | D31: 755 | E31: 0410 | F31: 5221020 | G31: 064 | H31: 3700 | P31: =SUM(H31:O32) -> 4700
D32: 755 | E32: 0410 | F32: 1112143 | G32: 244 | I32: 1000 | J32: 0 | K32: 0 | L32: 0 | M32: 0 | N32: 0 | O32: 0
A33: 1.1.1.3. | B33: Формирование на территории Приморского края единого информационного пространства органов исполнительной власти Приморского края, территориальных органов федеральных органов исполнительной власти и органов местного самоуправления Приморского края. Подключение краевых государственных учреждений, подведомственных органам исполнительной власти Приморского края, к системе межведомственного электронного взаимодействия | C33: департамент информатизации и телекоммуникаций Приморского края | D33: 755 | E33: 0410 | F33: 5221020 | G33: 064 | H33: 48151 | P33: =SUM(H33:O34) -> 61951
D34: 755 | E34: 0410 | F34: 1112143 | G34: 244 | I34: 13800 | J34: 0 | K34: 0 | L34: 0 | M34: 0 | N34: 0 | O34: 0
A35: 1.1.2. | B35: Создание Ситуационного центра Губернатора Приморского края | C35: департамент информатизации и телекоммуникаций Приморского края | D35: 755 | E35: 0410 | F35: 5221020 | G35: 064 | H35: 0 | P35: =SUM(H35:M36) -> 5738.89
D36: 755 | E36: 0113 | F36: 1112189 | G36: 244 | I36: =47500-6500-35500 -> 5500 | J36: 238.89 | K36: 0 | L36: 0 | M36: 0 | N36: 0 | O36: 0
A37: 1.1.3. | B37: Обеспечение доступа к сети Интернет органов исполнительной власти Приморского края | C37: департамент информатизации и телекоммуникаций Приморского края | D37: 755 | E37: 0410 | F37: 5221020 | G37: 064 | H37: 3000 | P37: =SUM(H37:O38) -> 6101.53
D38: 755 | E38: 0410 | F38: 1112059 | G38: 244 | I38: 3090 | J38: 11.53 | K38: 0 | L38: 0 | M38: 0 | N38: 0 | O38: 0
A39: 1.2. | B39: Основное мероприятие 2. Организация предоставления государственных и муниципальных услуг в многофункциональных центрах Приморского края | C39: всего: | D39: Х | E39: Х | F39: Х | G39: Х | H39: =SUM(H42:H57) -> 152050 | I39: =SUM(I42:I57) -> 163636.3 | J39: =SUM(J42:J57) -> 340535.76 | K39: =SUM(K42:K58) -> 333113.43 | L39: =SUM(L42:L58) -> 378711.94 | M39: =SUM(M42:M58) -> 158509.84 | N39: =SUM(N42:N58) -> 158509.84 | O39: =SUM(O42:O58) -> 158509.84 | P39: =SUM(H39:O39) -> 1843576.9
C40: департамент информатизации и телекоммуникаций Приморского края | D40: 755 | E40: Х | F40: Х | G40: Х | H40: =SUM(H42:H57) -> 152050 | I40: =SUM(I42:I57) -> 163636.3 | J40: =SUM(J42:J57) -> 340535.76 | P40: =SUM(H40:O41) -> 1843576.9
D41: 755 | E41: Х | F41: 1110200000 | G41: Х | K41: =SUM(K42:K58) -> 333113.43 | L41: =SUM(L42:L58) -> 378711.94 | M41: =SUM(M42:M58) -> 158509.84 | N41: =SUM(N42:N58) -> 158509.84 | O41: =SUM(O42:O58) -> 158509.84
A42: 1.2.1. | B42: Предоставление субсидий краевым государственным автономным учреждениям на финансовое обеспечение выполнения государственного задания | C42: департамент информатизации и телекоммуникаций Приморского края | D42: 755 | E42: 0113 | F42: 0029900 | G42: 621 | H42: 14000 | P42: =SUM(H42:O44) -> 348494.56
D43: 755 | E43: 0113 | F43: 1117059 | G43: 621 | I43: =36186.3 -> 36186.3 | J43: =(38223.53+10200+2384.64)-(38223.53+10200+2384.64)*5/100 -> 48267.76
D44: 755 | E44: 0113 | F44: 1110270590 | G44: 621 | K44: =35519.6+10200+2290.24+1365.5+10000-10000 -> 49375.34 | L44: 56635.64 | M44: 48009.84 | N44: 48009.84 | O44: 48009.84
...

Sheet Приложение 6
A3: ИНФОРМАЦИЯ
A4: о ресурсном обеспечении государственной программы Приморского края «Информационное общество» на 2013-2020 годы за счет средств краевого бюджета и прогнозная оценка привлекаемых на реализацию ее целей средств федерального бюджета, бюджетов государственных внебюджетных фондов, иных внебюджетных источников, бюджетов муниципальных образований Приморского края в случае участия Приморского края в реализации муниципальных программ, аналогичных мероприятиям государственной программы Приморского края
B6: Наименование подпрограммы, программы, принятой в соответствии с требованиями федерального законодательства в сфере реализации государственной программы | C6: Источники ресурсного обеспечения | D6: ГРБС | E6: Оценка расходов (тыс.руб.), годы
A7: №
A8: п/п | E8: 2013 | F8: 2014 | G8: 2015 | H8: 2016 | I8: 2017 | J8: 2018 | K8: 2019 | L8: 2020 | M8: всего
A10: 1 | B10: 2 | C10: 3 | D10: 4 | E10: 5 | F10: 6 | G10: 7 | H10: 8 | I10: 9 | J10: 10 | K10: 11 | L10: 12 | M10: 13
A11: Государственная программа Приморского края «Информационное общество» на 2013 – 2020 годы | C11: всего: | E11: =E12+E13+E14+E15+E16+E17 -> 950596.01 | F11: =F12+F13+F14+F15+F16+F17 -> 925124.47 | G11: =G12+G13+G14+G15+G16+G17 -> 1109191.6 | H11: =H12+H13+H14+H15+H16+H17 -> 1180225.1 | I11: =I12+I13+I14+I15+I16+I17 -> 1344491.5 | J11: =J12+J13+J14+J15+J16+J17 -> 784213.85 | K11: =K12+K13+K14+K15+K16+K17 -> 789633.85 | L11: =L12+L13+L14+L15+L16+L17 -> 789633.85 | M11: =SUM(E11:L11) -> 7873110.2
C12: федеральный бюджет | E12: =E19+E145+E222+E320+E390+E481 -> 0 | F12: =F19+F145+F222+F320+F390+F481 -> 62420.58 | G12: =G19+G145+G222+G320+G390+G481 -> 72474.6 | H12: =H19+H145+H222+H320+H390+H481 -> 0 | I12: =I19+I145+I222+I320+I390+I481 -> 0 | J12: =J19+J145+J222+J320+J390+J481 -> 0 | K12: =K19+K145+K222+K320+K390+K481 -> 0 | L12: =L19+L145+L222+L320+L390+L481 -> 0 | M12: =SUM(E12:L12) -> 134895.18
C13: краевой бюджет | E13: =E20+E146+E223+E321+E391+E482 -> 911665.01 | F13: =F20+F146+F223+F321+F391+F482 -> 766787.03 | G13: =G20+G146+G223+G321+G391+G482 -> 882516.69 | H13: =H20+H146+H223+H321+H391+H482 -> 912361.6 | I13: =I20+I146+I223+I321+I391+I482 -> 1095997.2 | J13: =J20+J146+J223+J321+J391+J482 -> 684213.85 | K13: =K20+K146+K223+K321+K391+K482 -> 689633.85 | L13: =L20+L146+L223+L321+L391+L482 -> 689633.85 | M13: =SUM(E13:L13) -> 6632809
C14: бюджет муниципальных образований | E14: =E21+E147+E224+E322+E392+E483 -> 38931 | F14: =F21+F147+F224+F322+F392+F483 -> 95916.86 | G14: =G21+G147+G224+G322+G392+G483 -> 154200.29 | H14: =H21+H147+H224+H322+H392+H483 -> 252823.8 | I14: =I21+I147+I224+I322+I392+I483 -> 245454.55 | J14: =J21+J147+J224+J322+J392+J483 -> 100000 | K14: =K21+K147+K224+K322+K392+K483 -> 100000 | L14: =L21+L147+L224+L322+L392+L483 -> 100000 | M14: =SUM(E14:L14) -> 1087326.5
C15: государственные внебюджетные фонды Российской Федерации | E15: =E22+E148+E225+E323+E393+E484 -> 0 | F15: =F22+F148+F225+F323+F393+F484 -> 0 | G15: =G22+G148+G225+G323+G393+G484 -> 0 | H15: =H22+H148+H225+H323+H393+H484 -> 0 | I15: =I22+I148+I225+I323+I393+I484 -> 0 | J15: =J22+J148+J225+J323+J393+J484 -> 0 | K15: =K22+K148+K225+K323+K393+K484 -> 0 | L15: =L22+L148+L225+L323+L393+L484 -> 0 | M15: 0
C16: территориальные государственные внебюджетные фонды | E16: =E23+E149+E226+E324+E394+E485 -> 0 | F16: =F23+F149+F226+F324+F394+F485 -> 0 | G16: =G23+G149+G226+G324+G394+G485 -> 0 | H16: =H23+H149+H226+H324+H394+H485 -> 0 | I16: =I23+I149+I226+I324+I394+I485 -> 0 | J16: =J23+J149+J226+J324+J394+J485 -> 0 | K16: =K23+K149+K226+K324+K394+K485 -> 0 | L16: =L23+L149+L226+L324+L394+L485 -> 0 | M16: 0
C17: иные внебюджетные источники | E17: =E24+E150+E227+E325+E395+E486 -> 0 | F17: =F24+F150+F227+F325+F395+F486 -> 0 | G17: =G24+G150+G227+G325+G395+G486 -> 0 | H17: =H24+H150+H227+H325+H395+H486 -> 15039.75 | I17: =I24+I150+I227+I325+I395+I486 -> 3039.75 | J17: =J24+J150+J227+J325+J395+J486 -> 0 | K17: =K24+K150+K227+K325+K395+K486 -> 0 | L17: =L24+L150+L227+L325+L395+L486 -> 0 | M17: =SUM(E17:L17) -> 18079.5
A18: 1. | B18: Подпрограмма № 1 «Развитие телекоммуникационной инфраструктуры органов государственной власти Приморского края и органов местного самоуправления» | C18: всего: | E18: =SUM(E19:E24) -> 245694.76 | F18: =SUM(F19:F24) -> 318249.74 | G18: =SUM(G19:G24) -> 537596.14 | H18: =SUM(H19:H24) -> 588771.95 | I18: =SUM(I19:I24) -> 624166.49 | J18: =SUM(J19:J24) -> 258509.84 | K18: =SUM(K19:K24) -> 258509.84 | L18: =SUM(L19:L24) -> 258509.84 | M18: =SUM(E18:L18) -> 3090008.6
C19: федеральный бюджет | E19: =E26+E75+E131 -> 0 | F19: =F26+F75+F131 -> 62420.58 | G19: =G26+G75+G131 -> 37274.6 | H19: =H26+H75+H131 -> 0 | I19: =I26+I75+I131 -> 0 | J19: =J26+J75+J131 -> 0 | K19: =K26+K75+K131 -> 0 | L19: =L26+L75+L131 -> 0 | M19: =SUM(E19:L19) -> 99695.18
C20: краевой бюджет | E20: ='Приложение 5'!H22 -> 245694.76 | F20: ='Приложение 5'!I22 -> 205626.3 | G20: ='Приложение 5'!J22 -> 350235.25 | H20: ='Приложение 5'!K22 -> 335948.15 | I20: ='Приложение 5'!L22 -> 378711.94 | J20: ='Приложение 5'!M22 -> 158509.84 | K20: ='Приложение 5'!N22 -> 158509.84 | L20: ='Приложение 5'!O22 -> 158509.84 | M20: =SUM(E20:L20) -> 1991745.9
C21: бюджет муниципальных образований | E21: =E28+E77+E133 -> 0 | F21: =F28+F77+F133 -> 50202.86 | G21: =G28+G77+G133 -> 150086.29 | H21: =H28+H77+H133 -> 252823.8 | I21: =I28+I77+I133 -> 245454.55 | J21: =J28+J77+J133 -> 100000 | K21: =K28+K77+K133 -> 100000 | L21: =L28+L77+L133 -> 100000 | M21: =SUM(E21:L21) -> 998567.5
C22: государственные внебюджетные фонды Российской Федерации | E22: 0 | F22: 0 | G22: 0 | H22: 0 | I22: 0 | J22: 0 | K22: 0 | L22: 0 | M22: 0
C23: территориальные государственные внебюджетные фонды | E23: 0 | F23: 0 | G23: 0 | H23: 0 | I23: 0 | J23: 0 | K23: 0 | L23: 0 | M23: 0
C24: иные внебюджетные источники | E24: 0 | F24: 0 | G24: 0 | H24: 0 | I24: 0 | J24: 0 | K24: 0 | L24: 0 | M24: 0
A25: 1.1. | B25: Основное мероприятие 1. Формирование системы межведомственного электронного взаимодействия органов государственной власти Приморского края и органов местного самоуправления | C25: всего: | E25: =SUM(E26:E31) -> 83851 | F25: =SUM(F26:F31) -> 41190 | G25: =SUM(G26:G31) -> 250.42 | H25: =SUM(H26:H31) -> 0 | I25: =SUM(I26:I31) -> 0 | J25: =SUM(J26:J31) -> 0 | K25: =SUM(K26:K31) -> 0 | L25: =SUM(L26:L31) -> 0 | M25: =SUM(E25:L25) -> 125291.42
C26: федеральный бюджет | E26: =E33+E61+E68 -> 0 | F26: =F33+F61+F68 -> 13200 | G26: =G33+G61+G68 -> 0 | H26: =H33+H61+H68 -> 0 | I26: =I33+I61+I68 -> 0 | J26: =J33+J61+J68 -> 0 | K26: =K33+K61+K68 -> 0 | L26: =L33+L61+L68 -> 0 | M26: =SUM(E26:L26) -> 13200
C27: краевой бюджет | E27: ='Приложение 5'!H26 -> 83851 | F27: ='Приложение 5'!I26 -> 27990 | G27: ='Приложение 5'!J26 -> 250.42 | H27: ='Приложение 5'!K25 -> 0 | I27: ='Приложение 5'!L25 -> 0 | J27: ='Приложение 5'!M25 -> 0 | K27: ='Приложение 5'!N25 -> 0 | L27: ='Приложение 5'!O25 -> 0 | M27: =SUM(E27:L27) -> 112091.42
C28: бюджет муниципальных образований | E28: 0 | F28: 0 | G28: 0 | H28: 0 | I28: 0 | J28: 0 | K28: 0 | L28: 0 | M28: 0
C29: государственные внебюджетные фонды Российской Федерации | E29: 0 | F29: 0 | G29: 0 | H29: 0 | I29: 0 | J29: 0 | K29: 0 | L29: 0 | M29: 0
C30: территориальные государственные внебюджетные фонды | E30: 0 | F30: 0 | G30: 0 | H30: 0 | I30: 0 | J30: 0 | K30: 0 | L30: 0 | M30: 0
C31: иные внебюджетные источники | E31: 0 | F31: 0 | G31: 0 | H31: 0 | I31: 0 | J31: 0 | K31: 0 | L31: 0 | M31: 0
A32: 1.1.1. | B32: Реализация мероприятий по использованию информационно-коммуникационных технологий в целях совершенствования системы государственного и муниципального управления, предоставления услуг, создания и развития информационно-аналитических, учетных и функциональных систем Приморского края | C32: всего: | E32: =SUM(E33:E38) -> 80851 | F32: =SUM(F33:F38) -> 32600 | G32: =SUM(G33:G38) -> 0 | H32: =SUM(H33:H38) -> 0 | I32: =SUM(I33:I38) -> 0 | J32: =SUM(J33:J38) -> 0 | K32: =SUM(K33:K38) -> 0 | L32: =SUM(L33:L38) -> 0 | M32: =SUM(E32:L32) -> 113451
C33: федеральный бюджет | E33: =E40+E47+E54 -> 0 | F33: =F40+F47+F54 -> 13200 | G33: =G40+G47+G54 -> 0 | H33: =H40+H47+H54 -> 0 | I33: =I40+I47+I54 -> 0 | J33: =J40+J47+J54 -> 0 | K33: =K40+K47+K54 -> 0 | L33: =L40+L47+L54 -> 0 | M33: =SUM(E33:L33) -> 13200
C34: краевой бюджет | E34: ='Приложение 5'!H28 -> 80851 | F34: ='Приложение 5'!I28 -> 19400 | G34: ='Приложение 5'!J28 -> 0 | H34: ='Приложение 5'!K28 -> 0 | I34: ='Приложение 5'!L28 -> 0 | J34: ='Приложение 5'!M28 -> 0 | K34: ='Приложение 5'!N28 -> 0 | L34: ='Приложение 5'!O28 -> 0 | M34: =SUM(E34:L34) -> 100251
C35: бюджет муниципальных образований | E35: 0 | F35: 0 | G35: 0 | H35: 0 | I35: 0 | J35: 0 | K35: 0 | L35: 0 | M35: =SUM(E35:I35) -> 0
C36: государственные внебюджетные фонды Российской Федерации | E36: 0 | F36: 0 | G36: 0 | H36: 0 | I36: 0 | J36: 0 | K36: 0 | L36: 0 | M36: 0
C37: территориальные государственные внебюджетные фонды | E37: 0 | F37: 0 | G37: 0 | H37: 0 | I37: 0 | J37: 0 | K37: 0 | L37: 0 | M37: 0
C38: иные внебюджетные источники | E38: 0 | F38: 0 | G38: 0 | H38: 0 | I38: 0 | J38: 0 | K38: 0 | L38: 0 | M38: 0
A39: 1.1.1.1. | B39: Развитие регионального телекоммуникационного центра, включая централизованную систему организационно-технического администрирования телекоммуникационной инфраструктуры и информационных подсистем «электронного правительства» Приморского края; предоставление услуг по поддержке и администрированию региональных и муниципальных информационных систем | C39: всего: | D39: 755 | E39: =SUM(E40:E45) -> 29000 | F39: =SUM(F40:F45) -> 4600 | G39: =SUM(G40:G45) -> 0 | H39: =SUM(H40:H45) -> 0 | I39: =SUM(I40:I45) -> 0 | J39: =SUM(J40:J45) -> 0 | K39: =SUM(K40:K45) -> 0 | L39: =SUM(L40:L45) -> 0 | M39: =SUM(E39:L39) -> 33600
C40: федеральный бюджет | E40: 0 | F40: 0 | G40: 0 | H40: 0 | I40: 0 | J40: 0 | K40: 0 | L40: 0 | M40: =SUM(E40:I40) -> 0
C41: краевой бюджет | D41: 755 | E41: ='Приложение 5'!H29 -> 29000 | F41: ='Приложение 5'!I30 -> 4600 | G41: ='Приложение 5'!J30 -> 0 | H41: ='Приложение 5'!K30 -> 0 | I41: ='Приложение 5'!L30 -> 0 | J41: ='Приложение 5'!M30 -> 0 | K41: ='Приложение 5'!N30 -> 0 | L41: ='Приложение 5'!O30 -> 0 | M41: =SUM(E41:L41) -> 33600
C42: бюджет муниципальных образований | E42: 0 | F42: 0 | G42: 0 | H42: 0 | I42: 0 | J42: 0 | K42: 0 | L42: 0 | M42: =SUM(E42:I42) -> 0
C43: государственные внебюджетные фонды Российской Федерации | E43: 0 | F43: 0 | G43: 0 | H43: 0 | I43: 0 | J43: 0 | K43: 0 | L43: 0 | M43: 0
C44: территориальные государственные внебюджетные фонды | E44: 0 | F44: 0 | G44: 0 | H44: 0 | I44: 0 | J44: 0 | K44: 0 | L44: 0 | M44: 0
...
