Workbook
Name OLE_LINK1: 'Приложение 5'!$A$7

Sheet Приложение 5
A4: ИНФОРМАЦИЯ
A5: о ресурсном обеспечении реализации государственной программы Приморского края «Информационное общество» на 2013 - 2020 годы за счет средств краевого бюджета (тыс. руб.)
A7: № | B7: Наименование подпрограммы, программы, принятой в соответствии с требованиями федерального законодательства в сфере реализации государственной программы | C7: Ответственный | D7: Код бюджетной | H7: Расходы (тыс. руб.), годы
A8: п/п | C8: исполнитель,
C9: соисполнители | D9: ГРБС | E9: Рз | F9: ЦСР | G9: ВР | H9: 2013 | I9: 2014 | J9: 2015 | K9: 2016 | L9: 2017 | M9: 2018 | N9: 2019 | O9: 2020 | P9: всего
E10: Пр
A11: 1 | B11: 2 | C11: 3 | D11: 4 | E11: 5 | F11: 6 | G11: 7 | H11: 8 | I11: 9 | J11: 10 | K11: 11 | L11: 12 | M11: 13 | N11: 14 | O11: 15 | P11: 16
B12: Государственная программа «Информационное общество» на 2013 – 2020 годы | C12: всего: | D12: Х | E12: Х | F12: Х | G12: Х | H12: =SUM(H13:H21) -> 911665.01 | I12: =SUM(I13:I21) -> 766787.03 | J12: =SUM(J13:J21) -> 882516.69 | K12: =SUM(K13:K21) -> 896070.49 | L12: =SUM(L13:L21) -> 631066.04 | M12: =SUM(M13:M21) -> 629525.4 | N12: =SUM(N13:N21) -> 629525.4 | O12: =SUM(O13:O21) -> 629525.4 | P12: =SUM(H12:O12) -> 5976681.5
C13: департамент информатизации и телекоммуникаций Приморского края | D13: 755 | E13: Х | F13: Х | G13: Х | H13: =H23+H67+H101+H142+H165 -> 395824.01 | I13: =I23+I67+I101+I142+I165 -> 266889.8 | J13: =J23+J67+J101+J142+J165 -> 541536.47 | K13: =K24+K68+K101+K143+K165 -> 530477.23 | L13: =L24+L68+L101+L143+L165 -> 325969.77 | M13: =M24+M68+M101+M143+M165 -> 324429.13 | N13: =N24+N68+N101+N143+N165 -> 324429.13 | O13: =O24+O68+O101+O143+O165 -> 324429.13 | P13: =SUM(H13:L13) -> 2060697.3
C14: департамент сельского хозяйства и продовольствия Приморского края | D14: 758 | E14: Х | F14: Х | G14: Х | K14: =K166 -> 0 | L14: =L166 -> 0 | M14: =M166 -> 0 | N14: =N166 -> 0 | O14: =O166 -> 0 | P14: =SUM(K14:O14) -> 0
C15: департамент образования и науки Приморского края | D15: 759 | E15: Х | F15: Х | G15: Х | H15: =H102 -> 52800 | I15: =I102 -> 28856 | J15: =J102 -> 23056 | K15: =K103 -> 103.73 | L15: =L103 -> 0 | M15: =M103 -> 0 | N15: =N103 -> 0 | O15: =O103 -> 0 | P15: =SUM(H15:O15) -> 104815.73
C16: департамент труда и социального развития Приморского края | D16: 760 | E16: Х | F16: Х | G16: Х | H16: =H70+H104 -> 9950 | I16: =I70+I104 -> 7988 | J16: =J70+J104 -> 8789.5 | K16: =K70+K104 -> 8326 | L16: =L70+L104 -> 6955 | M16: =M70+M104 -> 6955 | N16: =N70+N104 -> 6955 | O16: =O70+O104 -> 6955 | P16: =SUM(H16:L16) -> 42008.5
C17: департамент лесного хозяйства Приморского края | D17: 763 | E17: Х | F17: Х | G17: Х | K17: =K167 -> 0 | L17: =L167 -> 0 | M17: =M167 -> 0 | N17: =N167 -> 0 | O17: =O167 -> 0 | P17: =SUM(K17:O17) -> 0
C18: департамент информационной политики Приморского края | D18: 771 | E18: Х | F18: Х | G18: Х | H18: =H192 -> 421111 | I18: =I192 -> 453719.43 | J18: =J192 -> 303569.08 | K18: =K192 -> 312163.53 | L18: =L192 -> 298141.27 | M18: =M192 -> 298141.27 | N18: =N192 -> 298141.27 | O18: =O192 -> 298141.27 | P18: =SUM(H18:O18) -> 2683128.1
C19: департамент градостроительства Приморского края | D19: 775 | E19: Х | F19: Х | G19: Х | K19: =K168 -> 45000 | L19: =L168 -> 0 | M19: =M168 -> 0 | N19: =N168 -> 0 | O19: =O168 -> 0 | P19: =SUM(K19:O19) -> 45000
C20: департамент земельных и имущественных отношений Приморского края | D20: 779 | E20: Х | F20: Х | G20: Х | H20: =H69+H169 -> 30400 | I20: =I69+I169 -> 9333.8 | J20: =J69+J169 -> 5565.64 | K20: =K69+K170 -> 0 | L20: =L69+L170 -> 0 | M20: =M69+M170 -> 0 | N20: =N69+N170 -> 0 | O20: =O69+O170 -> 0 | P20: =SUM(H20:O20) -> 45299.44
C21: департамент экономики и развития предпринимательства Приморского края | D21: 784 | E21: Х | F21: Х | G21: Х | H21: =H105 -> 1580 | I21: =I105 -> 0 | J21: =J105 -> 0 | K21: =K105 -> 0 | L21: =L105 -> 0 | M21: =M105 -> 0 | N21: =N105 -> 0 | O21: =O105 -> 0 | P21: =SUM(H21:O21) -> 1580
A22: 1. | B22: Подпрограмма № 1 «Развитие телекоммуникационной инфраструктуры органов государственной власти Приморского края и органов местного самоуправления» | C22: всего: | D22: Х | E22: Х | F22: Х | G22: Х | H22: =H26+H40+H59 -> 245694.76 | I22: =I26+I40+I59 -> 205626.3 | J22: =J26+J40+J59 -> 350235.25 | K22: =K25+K39+K59 -> 339010.06 | L22: =L25+L39 -> 159767.76 | M22: =M25+M39 -> 159509.84 | N22: =N25+N39 -> 159509.84 | O22: =O25+O39 -> 159509.84 | P22: =SUM(H22:O22) -> 1778863.7
C23: департамент информатизации и телекоммуникаций Приморского края | D23: 755 | E23: Х | F23: Х | G23: Х | H23: =H26+H40+H59 -> 245694.76 | I23: =I26+I40+I59 -> 205626.3 | J23: =J26+J40+J59 -> 350235.25 | P23: =SUM(H23:O24) -> 1778863.7
D24: 755 | E24: Х | F24: 1110000000 | G24: Х | K24: =K25+K39+K59 -> 339010.06 | L24: =L25+L39 -> 159767.76 | M24: =M25+M39 -> 159509.84 | N24: =N25+N39 -> 159509.84 | O24: =O25+O39 -> 159509.84
A25: 1.1. | B25: Основное мероприятие 1. Формирование системы межведомственного электронного взаимодействия органов государственной власти Приморского края и органов местного самоуправления | C25: всего: | D25: 755 | E25: Х | F25: Х | G25: Х | H25: =SUM(H26:H27) -> 83851 | I25: =SUM(I26:I27) -> 27990 | J25: =SUM(J26:J27) -> 250.42134 | K25: =SUM(K27:K27) -> 0 | L25: =SUM(L27:L27) -> 0 | M25: =SUM(M27:M27) -> 0 | N25: =SUM(N27:N27) -> 0 | O25: =SUM(O27:O27) -> 0 | P25: =SUM(H25:O25) -> 112091.42
C26: департамент информатизации и телекоммуникаций Приморского края | D26: 755 | E26: Х | F26: Х | G26: Х | H26: =H28+H35+H37 -> 83851 | I26: =I28+I36+I38 -> 27990 | J26: =J28+J36+J38 -> 250.42134 | P26: =SUM(H26:O27) -> 112091.42
D27: 755 | E27: Х | F27: 1110100000 | G27: Х | K27: =K28+K36+K38 -> 0 | L27: =L28+L36+L38 -> 0 | M27: =M28+M36+M38 -> 0 | N27: =N28+N36+N38 -> 0 | O27: =O28+O36+O38 -> 0
A28: 1.1.1. | B28: Реализация мероприятий по использованию информационно-коммуникационных технологий в целях совершенствования системы государственного и муниципального управления, предоставления услуг, создания и развития информационно-аналитических, учетных и функциональных систем Приморского края | C28: департамент информатизации и телекоммуникации Приморского края | D28: 755 | E28: 0410 | F28: Х | G28: Х | H28: =SUM(H29:H34) -> 80851 | I28: =SUM(I29:I34) -> 19400 | J28: =SUM(J29:J34) -> 0 | K28: =SUM(K29:K34) -> 0 | L28: =SUM(L29:L34) -> 0 | M28: =SUM(M29:M34) -> 0 | N28: =SUM(N29:N34) -> 0 | O28: =SUM(O29:O34) -> 0 | P28: =SUM(H28:O28) -> 100251
A29: 1.1.1.1. | B29: Развитие регионального телекоммуникационного центра, включая централизованную систему организационно-технического администрирования телекоммуникационной инфраструктуры и информационных подсистем «электронного правительства» Приморского края; предоставление услуг по поддержке и администрированию региональных и муниципальных информационных систем | C29: департамент информатизации и телекоммуникации Приморского края | D29: 755 | E29: 0410 | F29: 5221020 | G29: 064 | H29: 29000 | P29: =SUM(H29:O30) -> 33600
D30: 755 | E30: 0410 | F30: 1112143 | G30: 244 | I30: =5200-600 -> 4600 | J30: 0 | K30: 0 | L30: 0 | M30: 0 | N30: 0 | O30: 0
A31: 1.1.1.2. | B31: Развитие систем информационной безопасности телекоммуникационной инфраструктуры электронного правительства Приморского края, защиты персональных данных | C31: департамент информатизации и телекоммуникаций Приморского края | D31: 755 | E31: 0410 | F31: 5221020 | G31: 064 | H31: 3700 | P31: =SUM(H31:O32) -> 4700
D32: 755 | E32: 0410 | F32: 1112143 | G32: 244 | I32: 1000 | J32: 0 | K32: 0 | L32: 0 | M32: 0 | N32: 0 | O32: 0
A33: 1.1.1.3. | B33: Формирование на территории Приморского края единого информационного пространства органов исполнительной власти Приморского края, территориальных органов федеральных органов исполнительной власти и органов местного самоуправления Приморского края. Подключение краевых государственных учреждений, подведомственных органам исполнительной власти Приморского края, к системе межведомственного электронного взаимодействия | C33: департамент информатизации и телекоммуникаций Приморского края | D33: 755 | E33: 0410 | F33: 5221020 | G33: 064 | H33: 48151 | P33: =SUM(H33:O34) -> 61951
D34: 755 | E34: 0410 | F34: 1112143 | G34: 244 | I34: 13800 | J34: 0 | K34: 0 | L34: 0 | M34: 0 | N34: 0 | O34: 0
A35: 1.1.2. | B35: Создание Ситуационного центра Губернатора Приморского края | C35: департамент информатизации и телекоммуникаций Приморского края | D35: 755 | E35: 0410 | F35: 5221020 | G35: 064 | H35: 0 | P35: =SUM(H35:M36) -> 5738.8943
D36: 755 | E36: 0113 | F36: 1112189 | G36: 244 | I36: =47500-6500-35500 -> 5500 | J36: 238.89434 | K36: 0 | L36: 0 | M36: 0 | N36: 0 | O36: 0
A37: 1.1.3. | B37: Обеспечение доступа к сети Интернет органов исполнительной власти Приморского края | C37: департамент информатизации и телекоммуникаций Приморского края | D37: 755 | E37: 0410 | F37: 5221020 | G37: 064 | H37: 3000 | P37: =SUM(H37:O38) -> 6101.527
D38: 755 | E38: 0410 | F38: 1112059 | G38: 244 | I38: 3090 | J38: 11.527 | K38: 0 | L38: 0 | M38: 0 | N38: 0 | O38: 0
A39: 1.2. | B39: Основное мероприятие 2. Организация предоставления государственных и муниципальных услуг в многофункциональных центрах Приморского края | C39: всего: | D39: Х | E39: Х | F39: Х | G39: Х | H39: =SUM(H42:H57) -> 152050 | I39: =SUM(I42:I57) -> 163636.3 | J39: =SUM(J42:J57) -> 340535.76 | K39: =SUM(K42:K57) -> 336175.34 | L39: =SUM(L42:L57) -> 159767.76 | M39: =SUM(M42:M57) -> 159509.84 | N39: =SUM(N42:N57) -> 159509.84 | O39: =SUM(O42:O57) -> 159509.84 | P39: =SUM(H39:O39) -> 1630694.7
C40: департамент информатизации и телекоммуникаций Приморского края | D40: 755 | E40: Х | F40: Х | G40: Х | H40: =SUM(H42:H57) -> 152050 | I40: =SUM(I42:I57) -> 163636.3 | J40: =SUM(J42:J57) -> 340535.76 | P40: =SUM(H40:O41) -> 1630694.7
D41: 755 | E41: Х | F41: 1110200000 | G41: Х | K41: =SUM(K42:K57) -> 336175.34 | L41: =SUM(L42:L57) -> 159767.76 | M41: =SUM(M42:M57) -> 159509.84 | N41: =SUM(N42:N57) -> 159509.84 | O41: =SUM(O42:O57) -> 159509.84
A42: 1.2.1. | B42: Предоставление субсидий краевым государственным автономным учреждениям на финансовое обеспечение выполнения государственного задания | C42: департамент информатизации и телекоммуникаций Приморского края | D42: 755 | E42: 0113 | F42: 0029900 | G42: 621 | H42: 14000 | P42: =SUM(H42:O44) -> 340126.68
D43: 755 | E43: 0113 | F43: 1117059 | G43: 621 | I43: =36186.3 -> 36186.3 | J43: =(38223.53+10200+2384.64)-(38223.53+10200+2384.64)*5/100 -> 48267.762
D44: 755 | E44: 0113 | F44: 1110270590 | G44: 621 | K44: =35519.6+10200+2290.24+1365.5 -> 49375.34 | L44: 48267.76 | M44: 48009.84 | N44: 48009.84 | O44: 48009.84
...

Sheet Приложение 6
A3: ИНФОРМАЦИЯ
A4: о ресурсном обеспечении государственной программы Приморского края «Информационное общество» на 2013-2020 годы за счет средств краевого бюджета и прогнозная оценка привлекаемых на реализацию ее целей средств федерального бюджета, бюджетов государственных внебюджетных фондов, иных внебюджетных источников, бюджетов муниципальных образований Приморского края в случае участия Приморского края в реализации муниципальных программ, аналогичных мероприятиям государственной программы Приморского края
B6: Наименование подпрограммы, программы, принятой в соответствии с требованиями федерального законодательства в сфере реализации государственной программы | C6: Источники ресурсного обеспечения | D6: ГРБС | E6: Оценка расходов (тыс.руб.), годы
A7: №
A8: п/п | E8: 2013 | F8: 2014 | G8: 2015 | H8: 2016 | I8: 2017 | J8: 2018 | K8: 2019 | L8: 2020 | M8: всего
A10: 1 | B10: 2 | C10: 3 | D10: 4 | E10: 5 | F10: 6 | G10: 7 | H10: 8 | I10: 9 | J10: 10 | K10: 11 | L10: 12 | M10: 13
A11: Государственная программа Приморского края «Информационное общество» на 2013 – 2020 годы | C11: всего: | E11: =E12+E13+E14+E15+E17+E19 -> 950596.01 | F11: =F12+F13+F14+F15+F17+F19 -> 925124.47 | G11: =G12+G13+G14+G15+G17+G19 -> 1109191.6 | H11: =H12+H13+H14+H15+H17+H19 -> 1171396 | I11: =I12+I13+I14+I15+I17+I19 -> 734105.79 | J11: =J12+J13+J14+J15+J17+J19 -> 729525.4 | K11: =K12+K13+K14+K15+K17+K19 -> 729525.4 | L11: =L12+L13+L14+L15+L17+L19 -> 729525.4 | M11: =SUM(E11:L11) -> 7078990
C12: федеральный бюджет | E12: =E22+E160+E237+E335+E405+E496 -> 0 | F12: =F22+F160+F237+F335+F405+F496 -> 62420.58 | G12: =G22+G160+G237+G335+G405+G496 -> 72474.6 | H12: =H22+H160+H237+H335+H405+H496 -> 0 | I12: =I22+I160+I237+I335+I405+I496 -> 0 | J12: =J22+J160+J237+J335+J405+J496 -> 0 | K12: =K22+K160+K237+K335+K405+K496 -> 0 | L12: =L22+L160+L237+L335+L405+L496 -> 0 | M12: =SUM(E12:L12) -> 134895.18
C13: краевой бюджет | E13: =E23+E161+E238+E336+E406+E497 -> 911665.01 | F13: =F23+F161+F238+F336+F406+F497 -> 766787.03 | G13: =G23+G161+G238+G336+G406+G497 -> 882516.69 | H13: =H23+H161+H238+H336+H406+H497 -> 896070.49 | I13: =I23+I161+I238+I336+I406+I497 -> 631066.04 | J13: =J23+J161+J238+J336+J406+J497 -> 629525.4 | K13: =K23+K161+K238+K336+K406+K497 -> 629525.4 | L13: =L23+L161+L238+L336+L406+L497 -> 629525.4 | M13: =SUM(E13:L13) -> 5976681.5
C14: бюджет муниципальных образований | E14: =E24+E162+E239+E337+E407+E498 -> 38931 | F14: =F24+F162+F239+F337+F407+F498 -> 95916.857 | G14: =G24+G162+G239+G337+G407+G498 -> 154200.29 | H14: =H24+H162+H239+H337+H407+H498 -> 260285.71 | I14: =I24+I162+I239+I337+I407+I498 -> 100000 | J14: =J24+J162+J239+J337+J407+J498 -> 100000 | K14: =K24+K162+K239+K337+K407+K498 -> 100000 | L14: =L24+L162+L239+L337+L407+L498 -> 100000 | M14: =SUM(E14:L14) -> 949333.86
C15: государственные внебюджетные фонды Российской Федерации | E15: =E25+E163+E240+E338+E408+E499 -> 0 | F15: =F25+F163+F240+F338+F408+F499 -> 0 | G15: =G25+G163+G240+G338+G408+G499 -> 0 | H15: =H25+H163+H240+H338+H408+H499 -> 0 | I15: =I25+I163+I240+I338+I408+I499 -> 0 | J15: =J25+J163+J240+J338+J408+J499 -> 0 | K15: =K25+K163+K240+K338+K408+K499 -> 0 | L15: =L25+L163+L240+L338+L408+L499 -> 0 | M15: 0
C17: территориальные государственные внебюджетные фонды | E17: =E26+E164+E241+E339+E409+E500 -> 0 | F17: =F26+F164+F241+F339+F409+F500 -> 0 | G17: =G26+G164+G241+G339+G409+G500 -> 0 | H17: =H26+H164+H241+H339+H409+H500 -> 0 | I17: =I26+I164+I241+I339+I409+I500 -> 0 | J17: =J26+J164+J241+J339+J409+J500 -> 0 | K17: =K26+K164+K241+K339+K409+K500 -> 0 | L17: =L26+L164+L241+L339+L409+L500 -> 0 | M17: 0
C19: иные внебюджетные источники | E19: =E27+E165+E242+E340+E410+E501 -> 0 | F19: =F27+F165+F242+F340+F410+F501 -> 0 | G19: =G27+G165+G242+G340+G410+G501 -> 0 | H19: =H27+H165+H242+H340+H410+H501 -> 15039.75 | I19: =I27+I165+I242+I340+I410+I501 -> 3039.75 | J19: =J27+J165+J242+J340+J410+J501 -> 0 | K19: =K27+K165+K242+K340+K410+K501 -> 0 | L19: =L27+L165+L242+L340+L410+L501 -> 0 | M19: =SUM(E19:L20) -> 18079.5
A21: 1. | B21: Подпрограмма № 1 «Развитие телекоммуникационной инфраструктуры органов государственной власти Приморского края и органов местного самоуправления» | C21: всего: | E21: =SUM(E22:E27) -> 245694.76 | F21: =SUM(F22:F27) -> 318249.74 | G21: =SUM(G22:G27) -> 537596.14 | H21: =SUM(H22:H27) -> 599295.78 | I21: =SUM(I22:I27) -> 259767.76 | J21: =SUM(J22:J27) -> 259509.84 | K21: =SUM(K22:K27) -> 259509.84 | L21: =SUM(L22:L27) -> 259509.84 | M21: =SUM(E21:L21) -> 2739133.7
C22: федеральный бюджет | E22: =E29+E78+E146 -> 0 | F22: =F29+F78+F146 -> 62420.58 | G22: =G29+G78+G146 -> 37274.6 | H22: =H29+H78+H146 -> 0 | I22: =I29+I78+I146 -> 0 | J22: =J29+J78+J146 -> 0 | K22: =K29+K78+K146 -> 0 | L22: =L29+L78+L146 -> 0 | M22: =SUM(E22:L22) -> 99695.18
C23: краевой бюджет | E23: ='Приложение 5'!H22 -> 245694.76 | F23: ='Приложение 5'!I22 -> 205626.3 | G23: ='Приложение 5'!J22 -> 350235.25 | H23: ='Приложение 5'!K22 -> 339010.06 | I23: ='Приложение 5'!L22 -> 159767.76 | J23: ='Приложение 5'!M22 -> 159509.84 | K23: ='Приложение 5'!N22 -> 159509.84 | L23: ='Приложение 5'!O22 -> 159509.84 | M23: =SUM(E23:L23) -> 1778863.7
C24: бюджет муниципальных образований | E24: =E31+E80+E148 -> 0 | F24: =F31+F80+F148 -> 50202.857 | G24: =G31+G80+G148 -> 150086.29 | H24: =H31+H80+H148 -> 260285.71 | I24: =I31+I80+I148 -> 100000 | J24: =J31+J80+J148 -> 100000 | K24: =K31+K80+K148 -> 100000 | L24: =L31+L80+L148 -> 100000 | M24: =SUM(E24:L24) -> 860574.86
C25: государственные внебюджетные фонды Российской Федерации | E25: 0 | F25: 0 | G25: 0 | H25: 0 | I25: 0 | J25: 0 | K25: 0 | L25: 0 | M25: 0
C26: территориальные государственные внебюджетные фонды | E26: 0 | F26: 0 | G26: 0 | H26: 0 | I26: 0 | J26: 0 | K26: 0 | L26: 0 | M26: 0
C27: иные внебюджетные источники | E27: 0 | F27: 0 | G27: 0 | H27: 0 | I27: 0 | J27: 0 | K27: 0 | L27: 0 | M27: 0
A28: 1.1. | B28: Основное мероприятие 1. Формирование системы межведомственного электронного взаимодействия органов государственной власти Приморского края и органов местного самоуправления | C28: всего: | E28: =SUM(E29:E34) -> 83851 | F28: =SUM(F29:F34) -> 41190 | G28: =SUM(G29:G34) -> 250.42134 | H28: =SUM(H29:H34) -> 0 | I28: =SUM(I29:I34) -> 0 | J28: =SUM(J29:J34) -> 0 | K28: =SUM(K29:K34) -> 0 | L28: =SUM(L29:L34) -> 0 | M28: =SUM(E28:L28) -> 125291.42
C29: федеральный бюджет | E29: =E36+E64+E71 -> 0 | F29: =F36+F64+F71 -> 13200 | G29: =G36+G64+G71 -> 0 | H29: =H36+H64+H71 -> 0 | I29: =I36+I64+I71 -> 0 | J29: =J36+J64+J71 -> 0 | K29: =K36+K64+K71 -> 0 | L29: =L36+L64+L71 -> 0 | M29: =SUM(E29:L29) -> 13200
C30: краевой бюджет | E30: ='Приложение 5'!H26 -> 83851 | F30: ='Приложение 5'!I26 -> 27990 | G30: ='Приложение 5'!J26 -> 250.42134 | H30: ='Приложение 5'!K25 -> 0 | I30: ='Приложение 5'!L25 -> 0 | J30: ='Приложение 5'!M25 -> 0 | K30: ='Приложение 5'!N25 -> 0 | L30: ='Приложение 5'!O25 -> 0 | M30: =SUM(E30:L30) -> 112091.42
C31: бюджет муниципальных образований | E31: 0 | F31: 0 | G31: 0 | H31: 0 | I31: 0 | J31: 0 | K31: 0 | L31: 0 | M31: 0
C32: государственные внебюджетные фонды Российской Федерации | E32: 0 | F32: 0 | G32: 0 | H32: 0 | I32: 0 | J32: 0 | K32: 0 | L32: 0 | M32: 0
C33: территориальные государственные внебюджетные фонды | E33: 0 | F33: 0 | G33: 0 | H33: 0 | I33: 0 | J33: 0 | K33: 0 | L33: 0 | M33: 0
C34: иные внебюджетные источники | E34: 0 | F34: 0 | G34: 0 | H34: 0 | I34: 0 | J34: 0 | K34: 0 | L34: 0 | M34: 0
A35: 1.1.1. | B35: Реализация мероприятий по использованию информационно-коммуникационных технологий в целях совершенствования системы государственного и муниципального управления, предоставления услуг, создания и развития информационно-аналитических, учетных и функциональных систем Приморского края | C35: всего: | E35: =SUM(E36:E41) -> 80851 | F35: =SUM(F36:F41) -> 32600 | G35: =SUM(G36:G41) -> 0 | H35: =SUM(H36:H41) -> 0 | I35: =SUM(I36:I41) -> 0 | J35: =SUM(J36:J41) -> 0 | K35: =SUM(K36:K41) -> 0 | L35: =SUM(L36:L41) -> 0 | M35: =SUM(E35:L35) -> 113451
C36: федеральный бюджет | E36: =E43+E50+E57 -> 0 | F36: =F43+F50+F57 -> 13200 | G36: =G43+G50+G57 -> 0 | H36: =H43+H50+H57 -> 0 | I36: =I43+I50+I57 -> 0 | J36: =J43+J50+J57 -> 0 | K36: =K43+K50+K57 -> 0 | L36: =L43+L50+L57 -> 0 | M36: =SUM(E36:L36) -> 13200
C37: краевой бюджет | E37: ='Приложение 5'!H28 -> 80851 | F37: ='Приложение 5'!I28 -> 19400 | G37: ='Приложение 5'!J28 -> 0 | H37: ='Приложение 5'!K28 -> 0 | I37: ='Приложение 5'!L28 -> 0 | J37: ='Приложение 5'!M28 -> 0 | K37: ='Приложение 5'!N28 -> 0 | L37: ='Приложение 5'!O28 -> 0 | M37: =SUM(E37:L37) -> 100251
C38: бюджет муниципальных образований | E38: 0 | F38: 0 | G38: 0 | H38: 0 | I38: 0 | J38: 0 | K38: 0 | L38: 0 | M38: =SUM(E38:I38) -> 0
C39: государственные внебюджетные фонды Российской Федерации | E39: 0 | F39: 0 | G39: 0 | H39: 0 | I39: 0 | J39: 0 | K39: 0 | L39: 0 | M39: 0
C40: территориальные государственные внебюджетные фонды | E40: 0 | F40: 0 | G40: 0 | H40: 0 | I40: 0 | J40: 0 | K40: 0 | L40: 0 | M40: 0
C41: иные внебюджетные источники | E41: 0 | F41: 0 | G41: 0 | H41: 0 | I41: 0 | J41: 0 | K41: 0 | L41: 0 | M41: 0
A42: 1.1.1.1. | B42: Развитие регионального телекоммуникационного центра, включая централизованную систему организационно-технического администрирования телекоммуникационной инфраструктуры и информационных подсистем «электронного правительства» Приморского края; предоставление услуг по поддержке и администрированию региональных и муниципальных информационных систем | C42: всего: | D42: 755 | E42: =SUM(E43:E48) -> 29000 | F42: =SUM(F43:F48) -> 4600 | G42: =SUM(G43:G48) -> 0 | H42: =SUM(H43:H48) -> 0 | I42: =SUM(I43:I48) -> 0 | J42: =SUM(J43:J48) -> 0 | K42: =SUM(K43:K48) -> 0 | L42: =SUM(L43:L48) -> 0 | M42: =SUM(E42:L42) -> 33600
C43: федеральный бюджет | E43: 0 | F43: 0 | G43: 0 | H43: 0 | I43: 0 | J43: 0 | K43: 0 | L43: 0 | M43: =SUM(E43:I43) -> 0
C44: краевой бюджет | D44: 755 | E44: ='Приложение 5'!H29 -> 29000 | F44: ='Приложение 5'!I30 -> 4600 | G44: ='Приложение 5'!J30 -> 0 | H44: ='Приложение 5'!K30 -> 0 | I44: ='Приложение 5'!L30 -> 0 | J44: ='Приложение 5'!M30 -> 0 | K44: ='Приложение 5'!N30 -> 0 | L44: ='Приложение 5'!O30 -> 0 | M44: =SUM(E44:L44) -> 33600
C45: бюджет муниципальных образований | E45: 0 | F45: 0 | G45: 0 | H45: 0 | I45: 0 | J45: 0 | K45: 0 | L45: 0 | M45: =SUM(E45:I45) -> 0
C46: государственные внебюджетные фонды Российской Федерации | E46: 0 | F46: 0 | G46: 0 | H46: 0 | I46: 0 | J46: 0 | K46: 0 | L46: 0 | M46: 0
C47: территориальные государственные внебюджетные фонды | E47: 0 | F47: 0 | G47: 0 | H47: 0 | I47: 0 | J47: 0 | K47: 0 | L47: 0 | M47: 0
...
