Workbook

Sheet СВОД
T1: Приложение 2 (2014 год)
A2: Информация об исполнении межбюджетных трансфертов (МБТ), предоставляемых их федерального бюджета (ФБ)
A3: за 2014 год
U4: (тыс. рублей)
A5: Наименование МБТ | B5: Распределение МБТ из ФБ | D5: Постановление Правительства РФ об утверждении правил предоставления и распределения МБТ (дата, №, наименование) | E5: Основания для предоставления бюджетных ассигнований (соглашение (договор) о предоставлении МБТ из ФБ (при наличии) | I5: Фактически поступило в краевой бюджет | L5: Кассовое исполнение | N5: Фактически перечислено бюджетных ассигнований получателю | P5: Срок предоставления отчета органом исполнительной власти ПК федеральному органу | R5: Показатели результативности использования МБТ (целевые показатели и/или индикаторы государственных программ Приморского края) | U5: Достигнутый результат от использования бюджетных ассигнований
B6: нормативный правовой акт Правительства РФ (дата, №, наименование) | C6: объем | E6: дата, №, наименование | F6: условия перечисления МБТ в краевой бюджет | H6: объем | I6: № и дата п/поручения | J6: код доходов по БК | K6: объем | L6: объем | M6: код целевой статьи по БК | N6: объем | O6: дата, № 3 вид документа | P6: по соглашению (договору) | Q6: фактическая дата | R6: наименование показателя | S6: значения показателя за год
F7: периодичность (сроки, даты) | G7: условия софинансирования | S7: план | T7: факт
A8: 1 | B8: 2 | C8: 3 | D8: 4 | E8: 5 | F8: 6 | G8: 7 | H8: 8 | I8: 9 | J8: 10 | K8: 11 | L8: 12 | M8: 13 | N8: 14 | O8: 15 | P8: 16 | Q8: 17 | R8: 18 | S8: 19 | T8: 20 | U8: 21
A9: Всего | C9: =Субсидии!C14+Дотации!C9+Субвенции!C9+'Иные мбт'!C9 -> 12413409 | H9: =Субсидии!H14+Дотации!H9+Субвенции!H9+'Иные мбт'!H9 -> 10631052 | K9: =Субсидии!K14+Дотации!K9+Субвенции!K9+'Иные мбт'!K9 -> 25376472 | L9: =Субсидии!L14+Дотации!L9+Субвенции!L9+'Иные мбт'!L9 -> 22936701 | N9: =Субсидии!N14+Дотации!N9+Субвенции!N9+'Иные мбт'!N9 -> 22226651
A10: Дотации всего | C10: =Дотации!C9 -> 0 | H10: =Дотации!H9 -> 0 | K10: =Дотации!K9 -> 10088877 | L10: =Дотации!L9 -> 10088877 | N10: =Дотации!N9 -> 10088877
A11: Субсидии | C11: =Субсидии!C14 -> 5117880 | H11: =Субсидии!H14 -> 4125801 | K11: =Субсидии!K14 -> 7702615.7 | L11: =Субсидии!L14 -> 6059337.8 | N11: =Субсидии!N14 -> 5340398.5
A12: Субвенции | C12: =Субвенции!C9 -> 4236741.3 | H12: =Субвенции!H9 -> 3633194.2 | K12: =Субвенции!K9 -> 4568208.2 | L12: =Субвенции!L9 -> 4484172.4 | N12: =Субвенции!N9 -> 4484172.4
A13: Иные межбюджетные трансферты | C13: ='Иные мбт'!C9 -> 3058787.7 | H13: ='Иные мбт'!H9 -> 2872057.1 | K13: ='Иные мбт'!K9 -> 3016771.2 | L13: ='Иные мбт'!L9 -> 2304314.2 | N13: ='Иные мбт'!N9 -> 2313203.8

Sheet Дотации
S1: Приложение 2 (2014 год) (продолжение)
A2: Информация об исполнении межбюджетных трансфертов (МБТ), предоставляемых их федерального бюджета (ФБ)
A3: за 2014 год
U4: (тыс. рублей)
A5: Наименование МБТ | B5: Распределение МБТ из ФБ | D5: Постановление Правительства РФ об утверждении правил предоставления и распределения МБТ (дата, №, наименование) | E5: Основания для предоставления бюджетных ассигнований (соглашение (договор) о предоставлении МБТ из ФБ (при наличии) | I5: Фактически поступило в краевой бюджет | L5: Кассовое исполнение | N5: Фактически перечислено бюджетных ассигнований получателю | P5: Срок предоставления отчета органом исполнительной власти ПК федеральному органу | R5: Показатели результативности использования МБТ (целевые показатели и/или индикаторы государственных программ Приморского края) | U5: Достигнутый результат от использования бюджетных ассигнований
B6: нормативный правовой акт Правительства РФ (дата, №, наименование) | C6: объем | E6: дата, №, наименование | F6: условия перечисления МБТ в краевой бюджет | H6: объем | I6: № и дата п/поручения | J6: код доходов по БК | K6: объем | L6: объем | M6: код целевой статьи по БК | N6: объем | O6: дата, № 3 вид документа | P6: по соглашению (договору) | Q6: фактическая дата | R6: наименование показателя | S6: значения показателя за год
F7: периодичность (сроки, даты) | G7: условия софинансирования | S7: план | T7: факт
A8: 1 | B8: 2 | C8: 3 | D8: 4 | E8: 5 | F8: 6 | G8: 7 | H8: 8 | I8: 9 | J8: 10 | K8: 11 | L8: 12 | M8: 13 | N8: 14 | O8: 15 | P8: 16 | Q8: 17 | R8: 18 | S8: 19 | T8: 20 | U8: 21
A9: Дотации всего | C9: =C11+C12+C13+C14+C15 -> 0 | H9: =H11+H12+H13+H14+H15 -> 0 | I9: =I11+I12+I13+I14+I15 -> 0 | K9: =K11+K12+K13+K14+K15 -> 10088877 | L9: =L11+L12+L13+L14+L15 -> 10088877 | N9: =N11+N12+N13+N14+N15 -> 10088877
A10: в том числе по направлениям расходов
A11: Дотации бюджетам субъектов Российской Федерации на выравнивание бюджетной обеспеченности | B11: Министерство финансов Российской Федерации | K11: 6167405.1 | L11: 6167405.1 | N11: 6167405.1
A12: Дотации бюджетам субъектов Российской Федерации на поддержку мер по обеспечению сбалансированности бюджетов | B12: Министерство финансов Российской Федерации | K12: 712136.4 | L12: 712136.4 | N12: 712136.4
A13: Дотации на частичную компенсацию дополнительных расходов на повышение оплаты труда работников бюджетной сферы | B13: Министерство финансов Российской Федерации | K13: 2449107.3 | L13: 2449107.3 | N13: 2449107.3
A14: Дотации в целях обеспечения сбалансированности бюджетов субъектов Российской Федерации, пострадавших в результате крупномасштабного наводнения на Дальнем Востоке в 2013 году | B14: Министерство финансов Российской Федерации | K14: 77110 | L14: 77110 | N14: 77110
A15: Дотации бюджетам субъектов Российской Федерации , связанные с особым режимом безопасного функционирования закрытых административно-территориальных образований | B15: Министерство финансов Российской Федерации | K15: 683118 | L15: 683118 | N15: 683118

Sheet Субсидии
T1: Приложение 2 (2014 год) (продолжение)
A2: Информация об исполнении межбюджетных трансфертов (МБТ), предоставляемых их федерального бюджета (ФБ)
U3: (тыс. рублей)
A4: Наименование МБТ | B4: Распределение МБТ из ФБ | D4: Постановление Правительства РФ об утверждении правил предоставления и распределения МБТ (дата, №, наименование) | E4: Основания для предоставления бюджетных ассигнований (соглашение (договор) о предоставлении МБТ из ФБ (при наличии) | I4: Фактически поступило в краевой бюджет | L4: Кассовое исполнение | N4: Фактически перечислено бюджетных ассигнований получателю | P4: Срок предоставления отчета органом исполнительной власти ПК федеральному органу | R4: Показатели результативности использования МБТ (целевые показатели и/или индикаторы государственных программ Приморского края) | U4: Достигнутый результат от использования бюджетных ассигнований**
B5: нормативный правовой акт Правительства РФ (дата, №, наименование) | C5: объем | E5: дата, №, наименование | F5: условия перечисления МБТ в краевой бюджет | H5: объем | I5: № и дата п/поручения | J5: код доходов по БК | K5: объем | L5: объем | M5: код целевой статьи по БК | N5: объем | O5: дата, № 3 вид документа | P5: по соглашению (договору) | Q5: фактическая дата * | R5: наименование показателя | S5: значения показателя за год
F6: периодичность (сроки, даты) | G6: условия софинансирования | S6: план | T6: факт
A7: 1 | B7: 2 | C7: 3 | D7: 4 | E7: 5 | F7: 6 | G7: 7 | H7: 8 | I7: 9 | J7: 10 | K7: 11 | L7: 12 | M7: 13 | N7: 14 | O7: 15 | P7: 16 | Q7: 17 | R7: 18 | S7: 19 | T7: 20 | U7: 21
A8: в том числе
A9: Дотации всего
A10: в том числе по направлениям расходов
A11: 1
A12: 2
A14: Субсидии всего | C14: =C16+C18+C21+C24+C46+C62+C70+C79+C81+C83+C85+C87+C91 -> 5117880 | H14: =H16+H18+H21+H24+H46+H62+H70+H79+H81+H83+H85+H87+H91 -> 4125801 | K14: =K16+K18+K21+K24+K46+K62+K70+K79+K81+K83+K85+K87+K91 -> 7702615.7 | L14: =L16+L18+L21+L24+L46+L62+L70+L79+L81+L83+L85+L87+L91 -> 6059337.8 | N14: =N16+N18+N21+N24+N46+N62+N70+N79+N81+N83+N85+N87+N91 -> 5340398.5
A15: в том числе по направлениям расходов
A16: Администрация Приморского края | C16: =C17 -> 1024.1 | K16: =K17 -> 953.6 | L16: =L17 -> 953.6 | N16: =N17 -> 953.6
A17: Субсидии на подготовку управленческих кадров для организаций народного хозяйства Российской Федерации в рамках подпрограммы "Кадры для инновационной экономики" государственной программы Российской Федерации "Экономическое развитие и инновационная экономика" | B17: Распоряжение Правительства Российской Федерации от 24 апреля 2014 г. № 677-р «Распределение субсидий, предоставляемых в 2014 году из федерального бюджета бюджетам субъектов Российской Федерации на софинансирование расходов, связанных с оплатой оказанных специалистам российскими образовательными учреждениями услуг по обучению в соответствии с Государственным планом подготовки управленческих кадров для организаций народного хозяйства Российской Федерации в 2007/08 - 2014/15 учебных годах» | C17: 1024.1 | D17: Постановление Правительства Российской Федерации от 27 декабря 2010 г. № 1126 "О Порядке предоставления субсидий из федерального бюджета бюджетам субъектов Российской Федерации на софинансирование расходов, связанных с оплатой оказанных специалистам российскими образовательными учреждениями услуг по обучению в соответствии с Государственным планом подготовки управленческих кадров для организаций народного хозяйства Российской Федерации в 2007/08 - 2014/15 учебных годах | E17: Соглашение между Министерством экономического развития Российской Федерации и АПК от 11.11.2014 № NC-647-АВ/Д04 | J17: 75120202103020000151 | K17: 953.6 | L17: 953.6 | M17: 9992001 | N17: 953.6
A18: Департамент дорожного хозйства | C18: =C19+C20 -> 1105275.9 | K18: =K19+K20 -> 1457280 | L18: =L19+L20 -> 1406509.4 | N18: =N19+N20 -> 1406509.4
A19: Субсидии на реализацию мероприятий подпрограммы "Автомобильные дороги" федеральной целевой программы "Развитие транспортной системы России (2010 - 2020 годы)" в рамках государственной программы Российской Федерации "Развитие транспортной системы" | B19: Постановление Российской Федерации от 15.04.1996 №480; | C19: 0 | E19: Соглашение №УД48/81-с-1 от 09.08.2012 | I19: Платежное поручение от 28.03.2014 №748 | J19: 75420202077020000151 | K19: 1040.1971 | L19: 1040.2 | M19: 1225115 | N19: 1040.2 | U19: Произведена частичная оплата по исполнительному листу от 10.02.2011 № 2 – 316/11
A20: Финансовое обеспечение мероприятий по экономическому и социальному развитию Дальнего Востока и Забайкалья на период до 2013 года в рамках федеральной целевой программы "Экономическое и социальное развитие Дальнего Востока и Байкальского региона на период до 2018 года" государственной программы Российской Федерации "Социально-экономическое развитие Дальнего Востока и Байкальского региона" | B20: Постановление Правительства Российской Федерации от 15.04.1996 №480; | C20: 1105275.9 | E20: Соглашение №ФДА 48/81-с от 09.10.2014 ; Дополнительное соглашение №1 от 23.12.2014 к соглашению №ФДА 48/81-с от 09.10.2014 | F20: ежеквартально | G20: ФБ 1105275,90 (46.34%) КБ 1279719,42 (53,66%) | H20: 1105275.9 | I20: п/п от 17.10.2014 №622, от 11.11.2014 №779, от 25.12.2014 №528, от 30.12.2014 №141, от 28.03.2014 №760 | J20: 75420202077020000151 | K20: =1105275.9+350963.9 -> 1456239.8 | L20: =1105275.9+298250.3+1943 -> 1405469.2 | M20: 1225214 | N20: =L20 -> 1405469.2 | U20: Ведутся строительно монтажные работы на объекте "Реконструкция автомобильной дороги Раздольное - Хасан на участке Нарвинский перевал км 74 - км 79 в Приморском крае"
A21: Департамент информатизации и телекоммуникаций | C21: =C22+C23 -> 55501.9 | H21: =H22+H23 -> 55501.9 | K21: =K22+K23 -> 88866.2 | L21: =L22+L23 -> 7804.3 | N21: =N22+N23 -> 7804.3
A22: Субсидии на поддержку региональных проектов в сфере информационных технологий в рамках подпрограммы "Информационное государство" государственной программы Российской Федерации "Информационное общество (2011 - 2020 годы)" | B22: Федеральный Закон № 349-ФЗ от 02.12.2013 " О федеральном бюджете на 2014 год и плановый период 2015 и 2016 годов" | C22: 21004.3 | D22: Постановление Правительства Российской Федерации от 15.04.2014 № 313 "Об утверждении государственной программы Росийской Федерации "Информационное общество (2011-2020 годы)", Приложение № 1 | E22: Соглашение № ОП-П8-6063 от 08.04.2014 | F22: - | G22: наличие в Приморском крае: утвержденной в установленном порядке региональной программы, направленной на становление информационного общества; нормативных актов, предусматривающих выделение соответствующего финансирования из средств краевого бюджета на исполнение расходных обязательств, связанных с реализацией проектов; определяющих уполномоченный орган исполнительной власти Приморского края по развитию информационного общества;соответствие проектов, на софинансирование которых предоставляется Субсидия, перечню приоритетных направлений реализации проектов, определенных в порядке отбора. | H22: 21004.3 | I22: п/п № 684 от 18.04.2014 | J22: 75520202217020000151 | K22: 21004.3 | L22: 7804.3 | M22: 1115028 | N22: 7804.3 | O22: п/п № 220 от 20.11.2014 № 950 от 03.12.2014 | P22: ежеквартально, не позднее 15-го числа месяца, следующего за отчетным кварталом, отчетов, а также не позднее 15 июня 2015 года итогового отчета | Q22: 1. 11/5012 от 16.07.2014; 2. 11/5051 от 18.07.2014; 3. 11/5534 от 11.08.2014; 4. 11/111 от 16.01.2015 | R22: 1. Повышение качества предоставления государственных и муниципальных услуг по принципу «одного окна» в МФЦ посредством внедрения АИС: 1.1. доля функционирующих МФЦ, оснащенных АИС МФЦ, соответствующими требованиям, определенным в постановлении Правительства Российской Федерации № 1376, от планового количества МФЦ на 1 июня 2015 год в соответствии с согласованной схемой размещения МФЦ на территории субъекта Российской Федерации, в %; 1.2. количество пакетов документов на получение услуг, переданных всеми МФЦ субъекта Российской Федерации в органы, предоставляющие услуги, с использованием АИС МФЦ в электронной форме в среднем за месяц в течение шести месяцев, предшествующих последнему отчетному периоду, в расчете на 10 тыс. населения субъекта Российской Федерации; 2. Обеспечение возможности получения государственных и муниципальных услуг в электронной форме: 2.1. доля услуг, предоставляемых в электронной форме, от общего количества услуг; 2.2. доля документов, являющихся результатом предоставления услуг, в электронной форме, доступных через личный кабинет на Едином портале государственных и муниципальных услуг (функций) и /или региональном портале государственных и муниципальных услуг (функций), подключенном к Единой системе идентификации и аутентификации, в среднем за месяц в течение шести месяцев, предшествующих оценке, от общего количества документов, выданных гражданам и организациям, зарегистрированным в субъекте Российской Федерации, в % | S22: 1.1. 100%; 1.2. 1181,14 2.1. 6,67%; 2.2. 93,51% | T22: 1.1. 100%; 1.2. 412 2.1. 6,67%; 2.2. 94,54% | U22: 1. В 2014 году внедрена АИС МФЦ на базе КГАУ "МФЦ Приморского края", соответствующая требованиям постановлении Правительства Российской Федерации № 1376, включая все муниципальные образования Приморского края; 2. В результате реализации проектов в рамках освоения субсидии переведены в электронную форму с использованием Единого портала услуг услуги в сфере опеки и попечительства департаментов образования и науки и здравоохранения Приморского края, внедрены информационные системы «Электронная очередь» и «АРМ Регистрации». Системы позволяют обеспечить возможность подать заявление в электронном виде, записаться на прием в отделы опеки электронном виде. Для граждан, которые еще не завели личный кабинет на Едином портале услуг реализована возможность произвести регистрацию на месте прямо в отделах опеки.
A23: Субсидии на информационно-навигационное обеспечение автомобильных маршрутов по транспортным коридорам "Север - Юг" и "Восток - Запад" в рамках подпрограммы "Развитие гражданского использования системы ГЛОНАСС на транспорте" государственной программы Российской Федерации "Развитие транспортной системы" | B23: распоряжение Правительства Российской Федерации № 1042-р от 21.06.2013 "О распределении субсидий, предосиавляемых в 2013-2014 годах из федерального бюджета бюджетам субъектов Российской Федерации на информационно-навигационное обеспечение автомобильных маршрутов по транспортным коридорам "Север-Юг" и "Восток-Запад" | C23: 34497.6 | D23: Постановление Правительства Российской Федерации от 21.12.2012 № 1367 "Об утверждении правил предоставления и распределения в 2013-2014 годах субсидий из федерального бюджета бюджетам субъектов Российской Федерации на информационно-навигационное обеспечение автомобильных маршрутов по транспортным коридорам "Север-юг" и "Восток-запад" | E23: Соглашение № 10-38-58 от 16.12.2013. | F23: - | G23: 1. наличие нормативного правового акта Приморского края, устанавливающего расходное обязательство, утверждающего региональную программу; 2. наличие в бюджете Приморского края бюджетных ассигнований на исполнение расходного обязательства; 3. обязательство Субъекта по обеспечению соответствия значений показателей, устанавливаемых региональной программой, значениям показателей результативности предоставления субсидий. | H23: 34497.6 | I23: п/п № 720 от 14.03.2014 - 33364,3; № 112 от 30.12.2014 - 34497,6 | J23: 75520202202020000151 | K23: =33364.3+34497.6 -> 67861.9 | L23: 0 | M23: 1235062 | N23: 0 | P23: 1. до 24 января 2014 г. отчет об осуществлении в 2013 году расходов бюджета Приморского края, источником финансового обеспечения которых является субсидия; 2. до 1 апреля 2015 г. итоговый отчет о реализации в 2013-2014 годах региональной программы. | Q23: 1. № 40/300 11.02.2014; 2. 11/1007 от 14.02.2015 | R23: 1. Степень готовности региональной информационно-навигазионной системы; 2. Доля автотранспортных средств, зарегестрированных на территории Приморского края, оснащенных навигационно-связным оборудование, в общем количестве автотранспортных средств | S23: 1. 100%; 2. 100% | T23: 1. 100%; 2. 100% | U23: Транспортные средства оснащены аппаратурой ГЛОНАСС, но не подключены к РНИС ПК. Требуется заключить акционерное соглашение с мажоритарным акционером ОАО РНИЦ ПК.Проект НПА по предоставлению бюджетных инвестиций находится в стадии согласования.
A24: Департамент сельского хозяйства и продовольствия | C24: =C25+C26+C27+C28+C29+C30++C31+C32+C33+C34+C35+C36+C37+C38+C39+C40+C41+C42+C43+C44+C45 -> 824165.8 | H24: =H25+H26+H27+H28+H29+H30++H31+H32+H33+H34+H35+H36+H37+H38+H39+H40+H41+H42+H43+H44+H45 -> 544340.3 | K24: =K25+K26+K27+K28+K29+K30++K31+K32+K33+K34+K35+K36+K37+K38+K39+K40+K41+K42+K43+K44+K45 -> 913611.2 | L24: =L25+L26+L27+L28+L29+L30++L31+L32+L33+L34+L35+L36+L37+L38+L39+L40+L41+L42+L43+L44+L45 -> 763623.2
A25: Субсидии бюджетам субъектов Российской Федерации и муниципальных образований на возмещение части затрат на уплату процентов организациям, независимо от их организационно-правовых форм, по инвестиционным кредитам, полученным в российских кредитных организациях на приобретение племенного материала рыб, техники и оборудования на срок до пяти лет, на строительство, реконструкцию и модернизацию комплексов (ферм) на срок до восьми лет в 2007 - 2011 годах для осуществления промышленного рыбоводства, в 2012 году для разведения одомашненных видов и пород рыб | S25: 75 | T25: 75 | U25: Использование в с/х производстве элитных семян с/к культур
A26: Субсидии бюджетам субъектов Российской Федерации и муниципальных образований в рамках федеральной целевой программы "Сохранение и восстановление плодородия почв земель сельскохозяйственного назначения и агроландшафтов как национального достояния России на 2006 - 2010 годы и на период до 2013 года"
A27: Субсидии бюджетам субъектов Российской Федерации и муниципальных образований в рамках федеральной целевой программы "Социальное развитие села до 2013 года" | I27: возвращено остатко - 1683,4 тыс. рублей | K27: 1683.4
A29: Субсидии на возмещение части затрат на приобретение элитных семян в рамках подпрограммы "Развитие подотрасли растениеводства, переработки и реализации продукции растениеводства" государственной программы Российской Федерации "Государственная программа развития сельского хозяйства и регулирования рынков сельскохозяйственной продукции, сырья и продовольствия на 2013 - 2020 годы" | B29: Распоряжение Правительства Российской Федерации от 27.11.2014 № 2378-р | C29: 7410.9 | D29: Постановление Правительства Российской Федерации от 12.12.2012 № 1295 "Об утверждении Правил предоставления и распределения субсидий из федерального бюджета бюджетам субъектов Российской Федерации на поддержку отдельных подотраслей растениеводства" | E29: Соглашение о предоставлении субсидий из федерального бюджета бюджету субъекта Российской Федерации от 11.02.2014 № 216/17, заключаемое между Министерством сельского хозяйства Российской Федерации и высшим исполнительным органом государственной власти субъекта Российской Федерации (Администрацией Приморского края). | F29: в соответствии с представленными реестрами выплаты субсидий сельскохозяйственным товаропроизводителям по данному направлению государственной поддержки за счет средств ФБ | G29: ФБ - 88,6 %; КБ - 11,4 % | H29: 10000 | I29: факт поступило из запланиров - 6500,3 тыс. рублей; возвращено остатков- 11029,1 тыс. рублей | J29: 75820202174020000151 | K29: =6500.3+11029.1 -> 17529.4 | L29: 10439.8 | M29: 1455031 | N29: 10439.8 | O29: Перечислено сельскохозяйственным товаропроизводителям в сроки и в порядке, утвержденном постановлением Администрации ПК от 24.04.2014 № 162-па | P29: Соглашение о предоставлении субсидий из федерального бюджета бюджету субъекта Российской Федерации от 11.02.2014 № 216/17, заключаемое между Министерством сельского хозяйства Российской Федерации и высшим исполнительным органом государственной власти субъекта Российской Федерации (Администрацией Приморского края). | Q29: отчеты предоставляются в соответствии с п. 2.2.7. Соглашения | R29: Площадь, засеваемая элитными семенами, в общей площади посевов на территории субъекта Российской Федерации, тыс.га | S29: 75 | T29: 75 | U29: Использование в с/х производстве элитных семян с/к культур
A30: Субсидии на поддержку экономически значимых региональных программ в области растениеводства в рамках подпрограммы "Развитие подотрасли растениеводства, переработки и реализации продукции растениеводства" государственной программы Российской Федерации "Государственная программа развития сельского хозяйства и регулирования рынков сельскохозяйственной продукции, сырья и продовольствия на 2013 - 2020 годы" | B30: Распоряжение Правительства Российской Федерации от 29.10.2014 № 2153-р "О распределении субсидий, предоставляемых в 2014 году из федерального бюджета бюджетам субъектов Российской Федерации на софинансирование расходных обязательств субъектов Российской Федерации, связанных с поддержкой экономически значимых региональных программ развития сельского хозяйства субъектов Российской Федерации в области растениеводства> | C30: 76046 | D30: Постановление Правительства российской Федерации от 17.12.2010 № 1042 ( в редакции Постановлений Правительства РФ от 28.07.2011 N 628, от 22.02.2012 N 138, от 27.12.2012 N 1433, от 25.12.2013 N 1249, от 31.05.2014 N 499) Правила распределения и предоставления субсидий из федерального бюджета бюджетам субъектов Российской Федерации на поддержку экономически значимых региональных программ развития сельского хозяйства субъектов Российской Федерации. | E30: Соглашение о предоставлении субсидий из федерального бюджета бюджету субъекта Российской Федерации от 11.02.2014 № 216/17 | F30: в соответствии с представленными реестрами выплаты субсидий сельскохозяйственным товаропроизводителям по данному направлению государственной поддержки за счет средств ФБ | G30: ФБ - 68,1 %; КБ - 31,9 % | H30: 331 | I30: факт поступило из запланиров - 60400,8 тыс. рублей; возвращено остатков - 48925,8 тыс. рублей | J30: 75820202178020000151 | K30: =60400.8+48925.8 -> 109326.6 | L30: 109326.6 | M30: 1415035 | N30: 109326.6 | O30: Перечислено сельскохозяйственным товаропроизводителям в сроки и в порядке, утвержденном постановлением Администрации ПК от 09.04.2013 № 130-па | P30: Соглашение о предоставлении субсидий из федерального бюджета бюджету субъекта Российской Федерации от 11.02.2014 № 216/17 | Q30: отчеты предоставляются в соответствии с п. 2.2.7. Соглашения | R30: Индексы производства продукции растениеводства, в % к предыдущему году Индексы производства продукции животноводства, в % к предыдущему году | S30: 104,5 109,1 | T30: 119,7 101,7 | U30: Реализация мероприятий экономически значимых региональных программ в области растениеводства и животноводства
A31: Субсидии на возмещение части процентной ставки по краткосрочным кредитам (займам) на развитие растениеводства, переработки и реализации продукции растениеводства в рамках подпрограммы "Развитие подотрасли растениеводства, переработки и реализации продукции растениеводства" государственной программы Российской Федерации "Государственная программа развития сельского хозяйства и регулирования рынков сельскохозяйственной продукции, сырья и продовольствия на 2013 - 2020 годы" | B31: Распоряжение Правительства Российской Федерацииот 27.11.2014 № 2380-р "О распределении субсидий предоставляемых в 2014 году из федерального бюджета на бюджету субъекта Российской Федерации на софинансирование бюджетных обязательств субъектов РФ, связанных с возмещением процентной ставки по краткосрочным кредитам на развитие животноводства, переработки и реализации продукции животноводства | C31: 25246.3 | D31: Постановление Правительства Российской Федерации от 28 декабря 2012 г. № 1460 «Об утверждении Правил предоставления и распределения субсидий из федерального бюджета бюджетам субъектов Российской Федерации на возмещение части затрат на уплату процентов по кредитам, полученным в российских кредитных организациях, и займам, полученным в сельскохозяйственных кредитных потребительских кооперативах» | E31: Соглашение о предоставлении субсидий из федерального бюджета бюджету субъекта Российской Федерации от 11.02.2014 № 216/17 | F31: в соответствии с представленными реестрами выплаты субсидий сельскохозяйственным товаропроизводителям по данному направлению государственной поддержки за счет средств ФБ | G31: ФБ - 95,0 %; КБ - 5,0 % | H31: 20000 | I31: факт поступило из запланиров - 24724,5 тыс. рублей; возвращено остатков - 7702,0 тыс. рублей | J31: 75820202181020000151 | K31: =24724.5+7702 -> 32426.5 | L31: 32426.5 | M31: 1425038 | N31: 32426.5 | O31: Перечислено сельскохозяйственным товаропроизводителям в сроки и в порядке, утвержденном постановлением Администрации ПК от 09.04.2013 № 127-па | P31: Соглашение о предоставлении субсидий из федерального бюджета бюджету субъекта Российской Федерации от 11.02.2014 № 216/17 | Q31: отчеты предоставляются в соответствии с п. 2.2.7. Соглашения | R31: Объем субсидируемых кредитов (займов), предусмотренных по кредитным договорам (договорам займа), заключенным на срок до 1 года на цели развития растениеводства, тыс.руб. | S31: 205700 | T31: 1887210.6 | U31: Возмещение части затрат по уплате процентов по кредитам
A32: Субсидии на возмещение части процентной ставки по инвестиционным кредитам (займам) на развитие растениеводства, переработки и развития инфраструктуры и логистического обеспечения рынков продукции растениеводства в рамках подпрограммы "Развитие подотрасли растениеводства, переработки и реализации продукции растениеводства" государственной программы Российской Федерации "Государственная программа развития сельского хозяйства и регулирования рынков сельскохозяйственной продукции, сырья и продовольствия на 2013 - 2020 годы" | B32: Распоряжение Правительства Российской Федерации от 27.11.2014 № 2357-р | C32: 53897.7 | D32: Постановление Правительства Российской Федерации от 28 декабря 2012 г. № 1460 | E32: Соглашение о предоставлении субсидий из федерального бюджета бюджету субъекта Российской Федерации от 11.02.2014 № 216/17 | F32: в соответствии с представленными реестрами выплаты субсидий сельскохозяйственным товаропроизводителям по данному направлению государственной поддержки за счет средств ФБ | G32: ФБ - 95,0 %; КБ - 5,0 % | H32: 28300 | I32: факт поступило из запланиров - 53878,4 тыс. рублей; возвращено остатков - 2604,4 тыс. рублей | J32: 75820202182020000151 | K32: 56482.8 | L32: 56482.8 | M32: 1425039 | N32: 56482.8 | O32: Перечислено сельскохозяйственным товаропроизводителям в сроки и в порядке, утвержденном постановлением Администрации ПК от 09.04.2013 № 127-па | P32: Соглашение о предоставлении субсидий из федерального бюджета бюджету субъекта Российской Федерации от 11.02.2014 № 216/17 | Q32: отчеты предоставляются в соответствии с п. 2.2.7. Соглашения | R32: Объем субсидируемых инвестиционных кредитов (займов), предоставленных по инвестиционным кредитам (займам), полученным на цели развития растениеводства, тыс.руб. | S32: 503205.6 | T32: 909824.5 | U32: Возмещение части затрат по уплате процентов по кредитам
A33: Субсидии на возмещение части затрат сельскохозяйственных товаропроизводителей на уплату страховой премии, начисленной по договору сельскохозяйственного страхования в области растениеводства, в рамках подпрограммы "Развитие подотрасли растениеводства, переработки и реализации продукции растениеводства" государственной программы Российской Федерации "Государственная программа развития сельского хозяйства и регулирования рынков сельскохозяйственной продукции, сырья и продовольствия на 2013 - 2020 годы" | B33: Распоряжение Правительства Российской Федерации от 28 01 2014 № 80_р о распределении субсидий выделяемых из федерального бюджета на возмещение части затрат сельскохозяйственнных товаропроизводителей на уплату страховой премии начисленной по договорам сельскохозяйственного страхования в области растениеводства | C33: 1145.5 | D33: Постановление Правительства Российской Федерации от 22 декабря 2012 г. № 1371 «Об утверждении Правил предоставления и распределения субсидий из федерального бюджета бюджетам субъектов Российской Федерации на возмещение части затрат сельскохозяйственных товаропроизводителей на уплату страховых премий по договорам сельскохозяйственного страхования» | E33: Соглашение о предоставлении субсидий из федерального бюджета бюджету субъекта Российской Федерации от 11.02.2014 № 216/17 | F33: в соответствии с представленными реестрами выплаты субсидий сельскохозяйственным товаропроизводителям по данному направлению государственной поддержки за счет средств ФБ | G33: ФБ - 88,6 %; КБ - 11,4 % | H33: 6860.4 | I33: факт поступило из запланиров - 1145,4 тыс. рублей; возвращено остатков - 8429,0 тыс. рублей | J33: 75820202183020000151 | K33: =1145.4+8429 -> 9574.4 | L33: 9574.4 | M33: 1425040 | N33: 9574.4 | O33: Перечислено сельскохозяйственным товаропроизводителям в сроки и в порядке, утвержденном постановлением Администрации ПК от 09.04.2013 № 127-па | P33: Соглашение о предоставлении субсидий из федерального бюджета бюджету субъекта Российской Федерации от 11.02.2014 № 216/17 | Q33: отчеты предоставляются в соответствии с п. 2.2.7. Соглашения | R33: Застрахованные площади посевов (посадок) сельскохозяйственных культур, тыс.га. | S33: 97 | T33: 124.56 | U33: Средства субсидий на возмещение части затрат по уплате страховой премии по договорам сельскохозяйственного страхования включаются в оборот при с/х производстве
A34: Субсидии на оказание несвязанной поддержки сельскохозяйственным товаропроизводителям в области растениеводства в рамках подпрограммы "Развитие подотрасли растениеводства, переработки и реализации продукции растениеводства" государственной программы Российской Федерации "Государственная программа развития сельского хозяйства и регулирования рынков сельскохозяйственной продукции, сырья и продовольствия на 2013 - 2020 годы" | B34: Распоряжение Правительства РФ от 29.11.2014. № 2406-р "О распределении субсидий, предоставляемых в 2014 г. из федерального бюджета бюджетам субъектов РФ на софинансирование расходных обязательств субъектов РФ на оказание несвязанной поддержки сельскохозяйственным товаропроизводителям в области растениеводства" | C34: 129577.5 | D34: Постановление Правительства Российской Федерации от 27 декабря 2012 г. № 1431 «Об утверждении Правил предоставления и распределения субсидий из федерального бюджета бюджетам субъектов Российской Федерации на оказание несвязанной поддержки сельскохозяйственным товаропроизводителям в области растениеводства» | E34: Соглашение о предоставлении субсидий из федерального бюджета бюджету субъекта Российской Федерации от 11.02.2014 № 216/17 | F34: в соответствии с представленными реестрами выплаты субсидий сельскохозяйственным товаропроизводителям по данному направлению государственной поддержки за счет средств ФБ | G34: ФБ - 68,1 %; КБ - 31,9 % | H34: 248627 | I34: факт поступило из запланиров - 129577,5 тыс. рублей; возвращено остатков - 12651,2 тыс. рублей | J34: 75820202184020000151 | K34: =129577.5+12651.2 -> 142228.7 | L34: 142228.7 | M34: 1455041 | N34: 142228.7 | O34: Перечислено сельскохозяйственным товаропроизводителям в сроки и в порядке, утвержденном постановлением Администрации ПК от 27.03.2013 № 105-па | P34: Соглашение о предоставлении субсидий из федерального бюджета бюджету субъекта Российской Федерации от 11.02.2014 № 216/17 | Q34: отчеты предоставляются в соответствии с п. 2.2.7. Соглашения | R34: Уровень интенсивности использования посевных площадей в субъекте Российской Федерации, тонн/га | S34: 1.344 | T34: 1.34 | U34: Оказывается существенная финансовая помощь при проведении сезонных полевых работ
A35: Субсидии на поддержку племенного животноводства в рамках подпрограммы "Развитие подотрасли животноводства, переработки и реализации продукции животноводства" государственной программы Российской Федерации "Государственная программа развития сельского хозяйства и регулирования рынков сельскохозяйственной продукции, сырья и продовольствия на 2013 - 2020 годы" | B35: Распоряжение Правительства Российской Федерации от 28.01. 2014 № 81-р "О распределении средств выделяемых из федерального бюджета на софинансирование бюджетных обзятельств субъекта Российской Федерации связанных с поддержкой племенного животноводства | C35: 8403 | D35: Постановление Правительства Российской Федерации от 04.12.2012 № 1257 «О предоставлении и распределении субсидий из федерального бюджета бюджетам субъектов Российской Федерации на поддержку племенного животноводства Правила предоставления и распределения субсидий из федерального бюджета бюджетам субъектов Российской Федерации на поддержку племенного животноводства» | E35: Соглашение о предоставлении субсидий из федерального бюджета бюджету субъекта Российской Федерации от 11.02.2014 № 216/17 | F35: в соответствии с представленными реестрами выплаты субсидий сельскохозяйственным товаропроизводителям по данному направлению государственной поддержки за счет средств ФБ | G35: ФБ - 88,6 %; КБ - 11,4 % | H35: 3936.2 | J35: 75820202185020000151 | K35: 8403 | L35: 8403 | M35: 1465042 | N35: 8403 | O35: перечислено сельскохозяйственным товаропроизводителям в сроки и в порядке, утвержденном постановлением Администрации ПК от 09.04.2013 № 130-па | P35: Соглашение о предоставлении субсидий из федерального бюджета бюджету субъекта Российской Федерации от 11.02.2014 № 216/17 | Q35: отчеты предоставляются в соответствии с п. 2.2.7. Соглашения | R35: Численность племенного поголовья сельскохозяйственных животных, всего, тыс. усл. гол. | S35: 3.708 | T35: 3.521 | U35: Сохранение и увеличение поголовья племенных животных
A36: Субсидии на 1 килограмм реализованного и (или) отгруженного на собственную переработку молока в рамках подпрограммы "Развитие подотрасли животноводства, переработки и реализации продукции животноводства" государственной программы Российской Федерации "Государственная программа развития сельского хозяйства и регулирования рынков сельскохозяйственной продукции, сырья и продовольствия на 2013 - 2020 годы" | B36: Рапоряжение Правительства Российской Федерации от 14.05.2014 № 809-р об утверждении распределения из федерального бюджета субсидий на 1 килограмм реализованного и (или отгруженного на собственную переработку молока». | C36: 17637.5 | D36: Постановление Правительства Российской Федерации от 22.12.2012 № 1370 «Об утверждении Правил предоставления и распределения субсидий из федерального бюджета бюджетам субъектов Российской Федерации на возмещение части затрат сельскохозяйственных товаропроизводителей на 1 литр (килограмм) реализованного товарного молока» | E36: Соглашение о предоставлении субсидий из федерального бюджета бюджету субъекта Российской Федерации от 11.02.2014 № 216/17 | F36: в соответствии с представленными реестрами выплаты субсидий сельскохозяйственным товаропроизводителям по данному направлению государственной поддержки за счет средств ФБ | G36: ФБ - 88,6 %; КБ - 11,4 % | H36: 2270 | J36: 75820202186020000151 | K36: 17637.5 | L36: 17637.5 | M36: 1465043 | N36: 17637.5 | O36: перечислено сельскохозяйственным товаропроизводителям в сроки и в порядке, утвержденном постановлением Администрации ПК от 09.04.2013 № 130-па | Q36: отчеты предоставляются в соответствии с п. 2.2.7. Соглашения | R36: Объем производства молока, тыс. тонн; Молочная продуктивность коров, кг/гол в год; Выход телят, гол. на 100 гол. Коров | S36: 113,2 4106,0 73,0 | T36: 118,4 4997,0 74,0 | U36: Снижение затрат на производство молока,
A37: Субсидии на возмещение части процентной ставки по краткосрочным кредитам (займам) на развитие животноводства, переработки и реализации продукции животноводства в рамках подпрограммы "Развитие подотрасли животноводства, переработки и реализации продукции животноводства" государственной программы Российской Федерации "Государственная программа развития сельского хозяйства и регулирования рынков сельскохозяйственной продукции, сырья и продовольствия на 2013 - 2020 годы" | B37: Распоряжение Правительства Российской Федерации от 27.11.2014 № 2379-р "О распределении субсидий, предоставляемых в 2014 году из федерального бюджета бюджетам субъектов Российской Федерации на софинансирование расходных обязательств субъектов Российской Федерации, связанных с возмещением части процентной ставки по краткосрочным кредитам (займам) на развитие животноводства, переработки и реализации продукции животноводства | C37: 12506 | D37: Постановление Правительства Российской Федерации от 28.12.2012 № 1460 «Об утверждении Правил предоставления и распределения субсидий из федерального бюджета бюджетам субъектов Российской Федерации на возмещение части затрат на уплату процентов по кредитам, полученным в российских кредитных организациях, и займам, полученным в сельскохозяйственных кредитных потребительских кооперативах» | E37: Соглашение о предоставлении субсидий из федерального бюджета бюджету субъекта Российской Федерации от 11.02.2014 № 216/17 | F37: в соответствии с представленными реестрами выплаты субсидий сельскохозяйственным товаропроизводителям по данному направлению государственной поддержки за счет средств ФБ | G37: ФБ - 95,0 %; КБ - 5,0 % | H37: 14000 | I37: факт поступило из запланиров - 12309,7 тыс. рублей; возвращено остатков - 15770,9 тыс. рублей | J37: 75820202190020000151 | K37: =12309.7+15770.9 -> 28080.6 | L37: 28080.6 | M37: 1425047 | N37: 28080.6 | O37: Перечислено сельскохозяйственным товаропроизводителям в сроки и в порядке, утвержденном постановлением Администрации ПК от 09.04.2013 № 127-па | Q37: отчеты предоставляются в соответствии с п. 2.2.7. Соглашения | R37: Объем субсидируемых кредитов (займов), предусмотренных по кредитным договорам (договорам займа), заключенным на срок до 1 года на цели развития животноводства, тыс.руб. | S37: 159500 | T37: 892100.1 | U37: Возмещение части затрат по уплате процентов по кредитам
A38: Субсидии на возмещение части процентной ставки по инвестиционным кредитам (займам) на развитие животноводства, переработки и развития инфраструктуры и логистического обеспечения рынков продукции животноводства в рамках подпрограммы "Развитие подотрасли животноводства, переработки и реализации продукции животноводства" государственной программы Российской Федерации "Государственная программа развития сельского хозяйства и регулирования рынков сельскохозяйственной продукции, сырья и продовольствия на 2013 - 2020 годы" | B38: Распоряжение Правительства Российской Федерации от 27.11.2014 № 2357-р "О распределении субсидий предоставляемых в 2014 году из федерального бюджета на бюджету субъекта Российской Федерации на софинансирование бюджетных обязательств субъектов РФ, связанных с возмещением процентной ставки по ивестиционным кредитам на развитие животноводства, переработки и реализации продукции животноводства | C38: 338002.4 | D38: Постановление Правительства Российской Федерации от 28.12.2012 № 1460 «Об утверждении Правил предоставления и распределения субсидий из федерального бюджета бюджетам субъектов Российской Федерации на возмещение части затрат на уплату процентов по кредитам, полученным в российских кредитных организациях, и займам, полученным в сельскохозяйственных кредитных потребительских кооперативах» | E38: Соглашение о предоставлении субсидий из федерального бюджета бюджету субъекта Российской Федерации от 11.02.2014 № 216/17 | F38: в соответствии с представленными реестрами выплаты субсидий сельскохозяйственным товаропроизводителям по данному направлению государственной поддержки за счет средств ФБ | G38: ФБ - 95,0 %; КБ - 5,0 % | H38: 74688.5 | I38: факт поступило из запланиров - 327890,2 тыс. рублей; возвращено остатков - 7522,9 тыс. рублей | J38: 75820202191020000151 | K38: =327890.2+7522.9 -> 335413.1 | L38: 196150.6 | M38: 1425048 | N38: 196150.6 | O38: Перечислено сельскохозяйственным товаропроизводителям в сроки и в порядке, утвержденном постановлением Администрации ПК от 09.04.2013 № 127-па | Q38: отчеты предоставляются в соответствии с п. 2.2.7. Соглашения | R38: Объем субсидируемых инвестиционных кредитов (займов), предоставленных по инвестиционным кредитам (займам), полученным на цели развития животноводства, тыс.руб. | S38: 1597383.1 | T38: 3353032.6 | U38: Возмещение части затрат по уплате процентов по кредитам
A39: Субсидии на возмещение части затрат сельскохозяйственных товаропроизводителей на уплату страховой премии, начисленной по договору сельскохозяйственного страхования в области животноводства, в рамках подпрограммы "Развитие подотрасли животноводства, переработки и реализации продукции животноводства" государственной программы Российской Федерации "Государственная программа развития сельского хозяйства и регулирования рынков сельскохозяйственной продукции, сырья и продовольствия на 2013 - 2020 годы" | B39: Распоряжение Правительства Российской Федерации от 28 01 2014 № 80-р о распределении субсидий выделяемых из федерального бюджета на возмещение части затрат сельскохозяйственнных товаропроизводителей на уплату страховой премии начисленной по договорам сельскохозяйственного страхования в области животноводства | C39: 1054.6 | D39: Постановление Правительства Российской Федерации от 22 декабря 2012 г. № 1371 «Об утверждении Правил предоставления и распределения субсидий из федерального бюджета бюджетам субъектов Российской Федерации на возмещение части затрат сельскохозяйственных товаропроизводителей на уплату страховых премий по договорам сельскохозяйственного страхования» | E39: Соглашение о предоставлении субсидий из федерального бюджета бюджету субъекта Российской Федерации от 11.02.2014 № 216/17 | F39: в соответствии с представленными реестрами выплаты субсидий сельскохозяйственным товаропроизводителям по данному направлению государственной поддержки за счет средств ФБ | G39: ФБ - 88,6 %; КБ - 11,4 % | H39: 2307.1 | J39: 75820202192020000151 | K39: 1054.6 | L39: 1054.6 | M39: 1425049 | N39: 1054.6 | O39: Перечислено сельскохозяйственным товаропроизводителям в сроки и в порядке, утвержденном постановлением Администрации ПК от 09.04.2013 № 126-па | P39: Соглашение о предоставлении субсидий из федерального бюджета бюджету субъекта Российской Федерации от 11.02.2014 № 216/17 | Q39: отчеты предоставляются в соответствии с п. 2.2.7. Соглашения | R39: Застрахованное поголовье сельскохозяйственных животных, тыс.усл.гол | S39: 48 | T39: 0 | U39: Средства субсидий на возмещение части затрат по уплате страховой премии по договорам сельскохозяйственного страхования включаются в оборот при с/х производстве
A40: Субсидии на поддержку племенного крупного рогатого скота мясного направления в рамках подпрограммы "Развитие мясного скотоводства" государственной программы Российской Федерации "Государственная программа развития сельского хозяйства и регулирования рынков сельскохозяйственной продукции, сырья и продовольствия на 2013 - 2020 годы" | B40: Распоряжение Правительства Российской Федерации от 28 01 2014 № 81-р о паспределении средств выделяемых из федерального бюджета на софинансирование бюджетных обзятельств субъекта Российской Федерации связанных с поддержкой племенного животноводства крупного рогатого скота мясного направления | C40: 42.9 | D40: Постановление Правительства Российской Федерации от 04.12.2012 № 1257 «Правила предоставления и распределения субсидий из федерального бюджета бюджетам субъектов Российской Федерации на поддержку племенного животноводства» | E40: Соглашение о предоставлении субсидий из федерального бюджета бюджету субъекта Российской Федерации от 11.02.2014 № 216/17 | F40: в соответствии с представленными реестрами выплаты субсидий сельскохозяйственным товаропроизводителям по данному направлению государственной поддержки за счет средств ФБ | G40: ФБ - 88,6 %; КБ - 11,4 % | H40: 20.1 | I40: возвращ. остатки - 72,5 тыс. рублей | J40: 75820202193020000151 | K40: 72.5 | L40: 0 | M40: 1465050 | N40: 0 | Q40: отчеты предоставляются в соответствии с п. 2.2.7. Соглашения | R40: Реализация племенного молодняка крупного рогатого скота молочного и мясного направлений (тыс. голов). | S40: 0.178 | T40: 0.184 | U40: -
A41: Субсидии на поддержку начинающих фермеров в рамках подпрограммы "Поддержка малых форм хозяйствования" государственной программы развития сельского хозяйства и регулирования рынков сельскохозяйственной продукции, сырья и продовольствия на 2013 - 2020 годы" | B41: Рапоряжение Правительства Российской Федерации от 06.10.2014 № 1963-р об утверждении распределения субсидий, предоставляемых из федерального бюджета бюджетам субъектов РФ на софинансирование расходных обязательств связянных с реализацией мероприятий по предоставлению грантов на создание крестьянского (фермерского) хозяйства и единовременной помощи на бытовое обустройство начинающим фермерам. | C41: 36124 | D41: Постановление Правительства Российской Федерации от 28 февраля 2012 г. № 166 «Об утверждении Правил предоставления и распределения субсидий из федерального бюджета бюджетам субъектов Российской Федерации на поддержку начинающих фермеров» | E41: Соглашение о предоставлении субсидий из федерального бюджета бюджету субъекта Российской Федерации от 11.02.2014 № 216/17 | F41: в соответствии с представленными реестрами выплаты субсидий сельскохозяйственным товаропроизводителям по данному направлению государственной поддержки за счет средств ФБ | G41: ФБ - 68,0 %; КБ - 32,0 % | H41: 17000 | J41: 75820202196020000151 | K41: 34748.3 | L41: 34748.3 | M41: 1415053 | N41: 34748.3 | O41: Перечислено сельскохозяйственным товаропроизводителям в сроки и в порядке, утвержденном постановлением Администрации ПК от 20.05.2013 № 193-па | P41: Соглашение о предоставлении субсидий из федерального бюджета бюджету субъекта Российской Федерации от 11.02.2014 № 216/17 | Q41: отчеты предоставляются в соответствии с п. 2.2.7. Соглашения | R41: Прирост численности крестьянских (фермерских) хозяйств начинающих фермеров | S41: 36 | T41: 36 | U41: Финансовая устоичивость крестьянских фермерских хозяйств
A42: Субсидии на развитие семейных животноводческих ферм в рамках подпрограммы "Поддержка малых форм хозяйствования" государственной программы Российской Федерации "Государственная программа развития сельского хозяйства и регулирования рынков сельскохозяйственной продукции, сырья и продовольствия на 2013 - 2020 годы" | B42: Рапоряжение Правительства Российской Федерации от 06.10.2014 № 1961-р об утверждении распределения субсидий в2014 году,предоставляемых из федерального бюджета бюджетам субъектов РФ на софинансирование расходных обязательств связянных с реализацией мероприятий по предоставлению грантов на поддержку семейных животноводческих ферм. | C42: 41086 | D42: Постановление Правительства Российской Федерации от 28.02.2012 г. № 165 «Об утверждении Правил предоставления и распределения субсидий из федерального бюджета бюджетам субъектов Российской Федерации на развитие семейных животноводческих ферм» | E42: Соглашение о предоставлении субсидий из федерального бюджета бюджету субъекта Российской Федерации от 11.02.2014 № 216/17 | F42: в соответствии с представленными реестрами выплаты субсидий сельскохозяйственным товаропроизводителям по данному направлению государственной поддержки за счет средств ФБ | G42: ФБ - 54,0 %; КБ - 46,0 % | H42: 35000 | J42: 75820202197020000151 | K42: 41086 | L42: 41086 | M42: 1415054 | N42: 41086 | O42: Перечислено сельскохозяйственным товаропроизводителям в сроки и в порядке, утвержденном постановлением Администрации ПК от 20.05.2013 № 193-па | P42: Соглашение о предоставлении субсидий из федерального бюджета бюджету субъекта Российской Федерации от 11.02.2014 № 216/17 | Q42: отчеты предоставляются в соответствии с п. 2.2.7. Соглашения | R42: Прирост численности семейных животноводческих ферм | S42: 8 | T42: 8 | U42: Финансовая устоичивость семейных животноводческих ферм
...

Sheet Субвенции
T1: Приложение 2 (2014 год) (продолжение)
A2: Информация об исполнении межбюджетных трансфертов (МБТ), предоставляемых их федерального бюджета (ФБ)
A3: за 2014 год
U4: (тыс. рублей )
A5: Наименование МБТ | B5: Распределение МБТ из ФБ | D5: Постановление Правительства РФ об утверждении правил предоставления и распределения МБТ (дата, №, наименование) | E5: Основания для предоставления бюджетных ассигнований (соглашение (договор) о предоставлении МБТ из ФБ (при наличии) | I5: Фактически поступило в краевой бюджет | L5: Кассовое исполнение* | N5: Фактически перечислено бюджетных ассигнований получателю | P5: Срок предоставления отчета органом исполнительной власти ПК федеральному органу | R5: Показатели результативности использования МБТ (целевые показатели и/или индикаторы государственных программ Приморского края) | U5: Достигнутый результат от использования бюджетных ассигнований**
B6: нормативный правовой акт Правительства РФ (дата, №, наименование) | C6: объем | E6: дата, №, наименование | F6: условия перечисления МБТ в краевой бюджет | H6: объем | I6: № и дата п/поручения | J6: код доходов по БК | K6: объем | L6: объем | M6: код целевой статьи по БК | N6: объем | O6: дата, №,3 вид документа | P6: по соглашению (договору) | Q6: фактическая дата * | R6: наименование показателя | S6: значения показателя за год
F7: периодичность (сроки, даты) | G7: условия софинансирования | S7: план | T7: факт
A8: 1 | B8: 2 | C8: 3 | D8: 4 | E8: 5 | F8: 6 | G8: 7 | H8: 8 | I8: 9 | J8: 10 | K8: 11 | L8: 12 | M8: 13 | N8: 14 | O8: 15 | P8: 16 | Q8: 17 | R8: 18 | S8: 19 | T8: 20 | U8: 21
A9: Субвенции всего | C9: =C11+C28+C41+C45+C70+C74 -> 4236741.3 | H9: =H11+H28+H41+H45+H70+H74 -> 3633194.2 | K9: =K11+K24+K28+K41+K45+K70+K74 -> 4568208.2 | L9: =L11+L24+L28+L41+L45+L70+L74 -> 4484172.4 | N9: =N11+N24+N28+N41+N45+N70+N74 -> 4484172.4
A10: Департамент финансов Приморского края
A11: Субвенции | C11: =C12 -> 177674.2 | H11: =H12 -> 0 | K11: =K12 -> 177674.2 | L11: =L12 -> 173965.92 | N11: 173965.92
A12: Единая субвенция бюджетам субъектов Российской Федерации всего | B12: Федеральный закон от 02.12.2013 № 349-ФЗ «О федеральном бюджете на 2014 год и на плановый период 2015 и 2016 годов | C12: =C14+C15+C16+C17+C18+C19+C20+C21+C22 -> 177674.2 | D12: Постановление Правительства РФ от 27.03.2013 № 275 "Об утверждении правил формирования и предоставления из федерального бюджета единой субвенции бюджетам субъектов Российской Федерации" | I12: № 651 от 07.02.2014 | J12: 75220203998020000151 | K12: 177674.2 | L12: =L14+L15+L16+L17+L18+L19+L20+L21+L22 -> 173965.92 | N12: 173965.92
A13: в том числе по направлениям расходов
A14: Осуществление переданных органам государственной власти субъектов Российской Федерации в соответствии с частью 1 статьи 7 Федерального закона "Об образовании в Российской Федерации" полномочий Российской Федерации в сфере образования | C14: 12510.4 | L14: 12083.815 | M14: 02959Г1
A15: Осуществление переданных органам государственной власти субъектов Российской Федерации в соответствии с пунктом 3 статьи 25 Федерального закона "Об основах системы профилактики безнадзорности и правонарушений несовершеннолетних" полномочий Российской Федерации по осуществлению деятельности, связанной с перевозкой между субъектами Российской Федерации, а также в пределах территорий государств - участников Содружества Независимых Государств несовершеннолетних, самовольно ушедших из семей, детских домов, школ-интернатов, специальных учебно-воспитательных и иных детских учреждений | C15: 764.5 | L15: 140.9235 | M15: 0335941
A16: Осуществление переданных органам государственной власти субъектов Российской Федерации в соответствии с частью 1 статьи 15 Федерального закона "Об основах охраны здоровья граждан в Российской Федерации" полномочий Российской Федерации в сфере охраны здоровья | C16: 4460.6 | L16: 4289.4912 | M16: 01159Б1
A17: Осуществление переданных органам государственной власти субъектов Российской Федерации в соответствии с пунктом 1 статьи 9.1 Федерального закона "Об объектах культурного наследия (памятниках истории и культуры) народов Российской Федерации" полномочий Российской Федерации в отношении объектов культурного наследия | C17: 3476.6 | L17: 3309.9127 | M17: 0595951
A18: Осуществление переданных органам государственной власти субъектов Российской Федерации в соответствии с пунктом 1 статьи 4 Федерального закона "Об актах гражданского состояния" полномочий Российской Федерации по государственной регистрации актов гражданского состояния | C18: 133076.7 | L18: 131867.79 | M18: 9995931
A19: Осуществление переданных органам государственной власти субъектов Российской Федерации в соответствии с частью первой статьи 6 Федерального закона "О животном мире" полномочий Российской Федерации в области охраны и использования объектов животного мира (за исключением охотничьих ресурсов и водных биологических ресурсов) | C19: 238.6 | L19: 0 | M19: 0835921
A20: Осуществление переданных органам государственной власти субъектов Российской Федерации в соответствии с частью 1 статьи 33 Федерального закона "Об охоте и о сохранении охотничьих ресурсов и о внесении изменений в отдельные законодательные акты Российской Федерации" полномочий Российской Федерации в области охраны и использования охотничьих ресурсов (за исключением полномочий Российской Федерации по федеральному государственному охотничьему надзору, выдаче разрешений на добычу охотничьих ресурсов и заключению охотхозяйственных соглашений) | C20: 256.4 | L20: 93.4185 | M20: 0835991
A21: Осуществление переданных органам государственной власти субъектов Российской Федерации в соответствии с частью 1 статьи 33 Федерального закона "Об охоте и о сохранении охотничьих ресурсов и о внесении изменений в отдельные законодательные акты Российской Федерации" полномочий Российской Федерации в области охраны и использования охотничьих ресурсов по федеральному государственному охотничьему надзору, выдаче разрешений на добычу охотничьих ресурсов и заключению охотхозяйственных соглашений | C21: 22412.3 | L21: 21712.151 | M21: 0845981
A22: Осуществление переданных органам государственной власти субъектов Российской Федерации в соответствии с частью первой статьи 6 Федерального закона "О животном мире" полномочий Российской Федерации в области организации, регулирования и охраны водных биологических ресурсов | C22: 478.1 | L22: 468.419 | M22: 1535911
A23: Департамент образования и науки Приморского края
A24: Субвенции всего | C24: =C26 -> 23216.9 | H24: =H26 -> 23216.9 | K24: =K26 -> 19106.563 | L24: =L26 -> 19106.563 | N24: =N26 -> 19106.563
A25: в том числе по направлениям расходов
A26: Субвенции на выплату единовременного пособия при всех формах устройства детей, лишенных родительского попечения, в семью в рамках подпрограммы "Совершенствование социальной поддержки семьи и детей" государственной программы Российской Федерации "Социальная поддержка граждан" | B26: Федеральный закон от 02.12.2013 № 349-ФЗ "О федеральном бюджете на 2014 г. и плановый период 2015 и 2016 годов" | C26: =23216900/1000 -> 23216.9 | D26: постановления Правительства Российской Федерации от 27.12.2010 года № 1119 «О предоставлении субвенций из федерального бюджета бюджетам субъектов Российской Федерации на выплату единовременных пособий при всех формах устройства детей, лишенных родительского попечения, в семью» | E26: Приказ министерства образования и науки Российской Федерации от 03.02.2014 № 79 " О передаче полномочий средств федерального бюджета по перечислению сйбъектам Российской Федерации межбюджетных трансфертов" | H26: =23216900/1000 -> 23216.9 | I26: 31.03.2014 №11, 09.04.2014 №775, 10.04.2014 №260, 21.04.2014 №149, 22.04.2014 №626, 29.04.2014 №27, 05.05.2014 №575, 07.05.2014 №232, 08.05.2014 №407, 20.05.2014 №738, 26.05.2014 № 595, 03.06.2014 №379, 06.06.2014 №380, 11.06.2014 №856, 20.06.2014 №621, 25.06.2014 №331, 18.07.2014 №19, 23.07.2014 №583, 29.07.2014 №949, 02.08.2014 №365945, 07.08.2014 №408697, 13.08.2014 № 451634, 18.08.2014 №485930, 22.08.2014 №530646, 28.08.2014 №571062, 02.09.2014 №609638, 05.09.2014№644429, 11.09.2014 №688443, 23.09.2014 №779249, 30.09.2014 №843896, 07.10.2014 №893413, 09.10.2014 №25885, 27.10.2014 №174953, 29.10.2014 №199622, 05.11.2014 №254076, 05.11.2014 №254073, 06.11.2014 №262341, 11.11.2014 №301893, 20.11.2014 №242, 01.12.2014 №496859, 05.12.2014 №817, 10.12.2014 №592305, 18.12.2014 №32, 25.12.2014 №771479, 26.12.2014 №832590, 30.12.2014 №858245. | J26: 75920203020020000151 | K26: =19106563.04/1000 -> 19106.563 | L26: =19106563.04/1000 -> 19106.563 | M26: 75910040395260313262 | N26: =19106563.04/1000 -> 19106.563 | O26: Приложение (206) | P26: ежеквартально, не позднее 15-го числа месяца, следующего за отчетным кварталом, отчет о расходах бюджета | Q26: 15.04.2014 № 23/2846, 15.07.2014 № 23/5644, 14.10.2015 № 23/ 8409, 16.01.2015 № 23/198 | U26: выплачено в полном объеме по заявления граждан
A27: Департамент труда и социального развития Приморского края
A28: Субвенции всего | C28: =SUM(C30:C38) -> 3749056.6 | D28: =SUM(D30:D38) -> 0 | E28: =SUM(E30:E38) -> 0 | F28: =SUM(F30:F38) -> 0 | G28: =SUM(G30:G38) -> 0 | H28: =SUM(H30:H38) -> 3604829.1 | K28: =SUM(K30:K38) -> 3604829.1 | L28: =SUM(L30:L38) -> 3567798.7 | M28: =SUM(M30:M38) -> 0 | N28: =SUM(N30:N38) -> 3567798.7 | O28: =SUM(O30:O38) -> 0 | P28: =SUM(P30:P38) -> 0 | R28: =SUM(R30:R38) -> 0 | S28: =SUM(S30:S38) -> 0 | T28: =SUM(T30:T38) -> 0 | U28: =SUM(U30:U38) -> 0
A29: в том числе по направлениям расходов
