Workbook

Sheet СВОД
N1: Приложение 1 (9 мес. 2015)
A2: Информация об исполнении межбюджетных трансфертов (МБТ), предоставляемых их федерального бюджета (ФБ)
A3: за 9 месяцев 2015 года
M5: (тыс. рублей)
A6: Наименование МБТ | B6: Федеральный орган, предоставивший МБТ | C6: Код доходов по БК | D6: Код целевой статьи по БК | E6: Остаток МБТ на начало отчетного периода | H6: Объем МБТ, утвержденный законом о бюджете на финансовый год | I6: Поступило из ФБ в отчетный период | M6: Кассовое исполнение | N6: Остаток МБТ на конец отчетного периода
E7: всего | F7: в том числе возвращено в ФБ | I7: без учета возврата остатков средств ФБ | K7: восстановлено (возвращено в объеме потребности) остатков МБТ
F8: сумма | G8: дата, № и вид документа | I8: сумма | J8: дата, № и вид документа | K8: сумма | L8: дата, № и вид документа
A9: 1 | B9: 2 | C9: 3 | D9: 4 | E9: 5 | F9: 6 | G9: 7 | H9: 8 | I9: 9 | J9: 10 | K9: 11 | L9: 12 | M9: 13 | N9: 14
A10: ВСЕГО | E10: =Дотации!E9+Субсидии!E9+'иные межбюджетные'!E9+субвенции!E10 -> 2506026.7 | F10: =Дотации!F9+Субсидии!F9+'иные межбюджетные'!F9+субвенции!F10 -> 2523956.7 | H10: =Дотации!H9+Субсидии!H9+'иные межбюджетные'!H9+субвенции!H10 -> 18683304 | I10: =Дотации!I9+Субсидии!I9+'иные межбюджетные'!I9+субвенции!I10 -> 14933465 | K10: =Дотации!K9+Субсидии!K9+'иные межбюджетные'!K9+субвенции!K10 -> 2018169.6 | M10: =Дотации!M9+Субсидии!M9+'иные межбюджетные'!M9+субвенции!M10 -> 13255316 | N10: =Дотации!N9+Субсидии!N9+'иные межбюджетные'!N9+субвенции!N10 -> 3678388.2
A11: в том числе
A12: Дотации всего | E12: =Дотации!E9 -> 0 | F12: =Дотации!F9 -> 0 | H12: =Дотации!H9 -> 8095710.2 | I12: =Дотации!I9 -> 6201708.4 | K12: =Дотации!K9 -> 0 | M12: =Дотации!M9 -> 6201708.4 | N12: =Дотации!N9 -> 0
A13: Субсидии всего | E13: =Субсидии!E9 -> 1749794.3 | F13: =Субсидии!F9 -> 1764754.8 | H13: =Субсидии!H9 -> 3864309.4 | I13: =Субсидии!I9 -> 2820177 | K13: =Субсидии!K9 -> 1391525.4 | M13: =Субсидии!M9 -> 2393448.6 | N13: =Субсидии!N9 -> 1803293.3
A14: Субвенции всего | E14: =субвенции!E10 -> 84590.154 | F14: =субвенции!F10 -> 86199.806 | H14: =субвенции!H10 -> 4210437.7 | I14: =субвенции!I10 -> 3460831.9 | K14: =субвенции!K10 -> 1828.321 | M14: =субвенции!M10 -> 3301363.6 | N14: =субвенции!N10 -> 159687.01
A15: Иные межбюджетные трансферты, всего | E15: ='иные межбюджетные'!E9 -> 671642.24 | F15: ='иные межбюджетные'!F9 -> 673002.08 | H15: ='иные межбюджетные'!H9 -> 2512846.7 | I15: ='иные межбюджетные'!I9 -> 2450747.8 | K15: ='иные межбюджетные'!K9 -> 624815.85 | M15: ='иные межбюджетные'!M9 -> 1358795.9 | N15: ='иные межбюджетные'!N9 -> 1715407.9

Sheet Дотации
M1: Приложение 1 (9 мес. 2015) (продолжение)
A2: Информация об исполнении межбюджетных трансфертов (МБТ), предоставляемых их федерального бюджета (ФБ)
A3: за 9 месяцев 2015 года
M4: (тыс. рублей)
A5: Наименование МБТ | B5: Федеральный орган, предоставивший МБТ | C5: Код доходов по БК | D5: Код целевой статьи по БК | E5: Остаток МБТ на начало отчетного периода | H5: Объем МБТ, утвержденный законом о бюджете на финансовый год | I5: Поступило из ФБ в отчетный период | M5: Кассовое исполнение | N5: Остаток МБТ на конец отчетного периода
E6: всего | F6: в том числе возвращено в ФБ | I6: без учета возврата остатков средств ФБ | K6: восстановлено остатков МБТ
F7: сумма | G7: дата, № и вид документа | I7: сумма | J7: дата, № и вид документа | K7: сумма | L7: дата, № и вид документа
A8: 1 | B8: 2 | C8: 3 | D8: 4 | E8: 5 | F8: 6 | G8: 7 | H8: 8 | I8: 9 | J8: 10 | K8: 11 | L8: 12 | M8: 13 | N8: 14
A9: Дотации всего | E9: =SUM(E11:E14) -> 0 | F9: =SUM(F11:F14) -> 0 | H9: =SUM(H11:H14) -> 8095710.2 | I9: =SUM(I11:I14) -> 6201708.4 | K9: =SUM(K11:K14) -> 0 | M9: =SUM(M11:M14) -> 6201708.4 | N9: =SUM(N11:N14) -> 0
A10: в том числе по направлениям расходов
A11: Дотации бюджетам субъектов Российской Федерации на выравнивание бюджетной обеспеченности | B11: Министерство финансов Российской Федерации | C11: 75220201001020000151 | D11: 3625001 | E11: 0 | F11: 0 | H11: 6305010.4 | I11: 4872053 | J11: платежные поручения:16.01.2015 №673, 27.01.2015 №939, 12.02.2015 №37, 11.03.2015 №475, 13.04.2015 №775, 12.05.2015 № 65, 02.06.2015 №4, 02.07.2015 №391, 11.08.2015 №77, 11.09.2015 №974 | K11: 0 | M11: 4872053 | N11: 0
A12: Дотации на частичную компенсацию дополнительных расходов на повышение оплаты труда работников бюджетной сферы | B12: Министерство финансов Российской Федерации | C12: 75220201003020000151 | D12: 3625009 | H12: 1194297.7 | I12: 879299 | J12: платежные поручения:20.01.2015 №520, 25.02.2015 №521, 23.03.2015 №883, 21.04.2015 №483, 21.05.2015 №338, 22.06.2015 №575, 21.07.2015 №409, 21.08.2015 №454, 21.09.2015 №461 | M12: 879299
A13: Дотации бюджету Приморского края в целях обеспечения сбалансированности бюджета городского округа Большой Камень | B13: Министерство финансов Российской Федерации | C13: 75220201003020000151 | D13: 3625125 | E13: 0 | F13: 0 | H13: 304883.1 | I13: 228801.4 | J13: платежные поручения:09.02.2015 №48, 21.04.2015 №301, 21.07.2015 №404 | K13: 0 | M13: 228801.4 | N13: 0
A14: Дотации бюджетам субъектов Российской Федерации , связанные с особым режимом безопасного функционирования закрытых административно-территориальных образований | B14: Министерство финансов Российской Федерации | C14: 75220201007020000151 | D14: 3625010 | E14: 0 | F14: 0 | H14: 291519 | I14: 221555 | J14: платежные поручения:20.01.2015 №451, 05.02.2015 №348, 12.03.2015 №952, 08.04.2015 №271, 28.04.2015 №816, 02.06.2015 №976, 07.07.2015 №704, 04.08.2015 №851, 03.09.2015 №432 | K14: 0 | M14: 221555 | N14: 0

Sheet Субсидии
M1: Приложение 1 (9 мес. 2015) (продолжение)
A2: Информация об исполнении межбюджетных трансфертов (МБТ), предоставляемых их федерального бюджета (ФБ)
A3: за 9 месяцев 2015 года
N4: (тыс. рублей)
A5: Наименование МБТ | B5: Федеральный орган, предоставивший МБТ | C5: Код доходов по БК | D5: Код целевой статьи по БК | E5: Остаток МБТ на начало отчетного периода | H5: Объем МБТ, утвержденный законом о бюджете на финансовый год | I5: Поступило из ФБ в отчетный период | M5: Кассовое исполнение | N5: Остаток МБТ на конец отчетного периода
E6: всего | F6: в том числе возвращено в ФБ | I6: без учета возврата остатков средств ФБ | K6: восстановлено (возвращено в объеме потребности) остатков МБТ
F7: сумма | G7: дата, № и вид документа | I7: сумма | J7: дата, № и вид документа | K7: сумма | L7: дата, № и вид документа
A8: 1 | B8: 2 | C8: 3 | D8: 4 | E8: 5 | F8: 6 | G8: 7 | H8: 8 | I8: 9 | J8: 10 | K8: 11 | L8: 12 | M8: 13 | N8: 14
A9: Субсидии всего | E9: =E11+E13+E16+E36+E45+E60+E62+E66+E68+E70+E74+E76+E51 -> 1749794.3 | F9: =F11+F13+F16+F36+F45+F60+F62+F66+F68+F70+F74+F76+F51 -> 1764754.8 | H9: =H11+H13+H16+H36+H45+H60+H62+H66+H68+H70+H74+H76+H51 -> 3864309.4 | I9: =I11+I13+I16+I36+I45+I60+I62+I66+I68+I70+I74+I76+I51 -> 2820177 | K9: =K11+K13+K16+K36+K45+K60+K62+K66+K68+K70+K74+K76+K51 -> 1391525.4 | M9: =M11+M13+M16+M36+M45+M60+M62+M66+M68+M70+M74+M76+M51 -> 2393448.6 | N9: =E9-F9+I9+K9-M9 -> 1803293.3
A10: в том числе по направлениям расходов
A11: Департамент дорожного хозйства | E11: =E12 -> 50770.6 | F11: =F12 -> 50770.6 | H11: =H12 -> 1400000 | I11: =I12 -> 1200000 | K11: =K12 -> 50770.607 | M11: =M12 -> 1200000 | N11: =N12 -> 50770.607
A12: Финансовое обеспечение мероприятий по экономическому и социальному развитию Дальнего Востока и Забайкалья на период до 2013 года в рамках федеральной целевой программы "Экономическое и социальное развитие Дальнего Востока и Байкальского региона на период до 2018 года" государственной программы Российской Федерации "Социально-экономическое развитие Дальнего Востока и Байкальского региона" | B12: Федеральное дорожное агентство | C12: 75420202077020000151 | D12: 34Ж5214 (1225214) | E12: 50770.6 | F12: 50770.6 | G12: Платежное поручение от 22.01.2015 №47369 | H12: 1400000 | I12: 1200000 | J12: Уведомление по расчетам между бюджетами от 10.10.2014 № 25/3; Платежное поручение от 17.06.2015 №552, от 19.06.2014 №894, от 24.09.2015 №288, | K12: 50770.607 | L12: Уведомление по расчетам между бюджетами от 05.02.2015 № 25/1; Платежное поручение от 31.03.2015 №773 | M12: 1200000 | N12: =E12-F12+I12+K12-M12 -> 50770.607
A13: Департамент информатизации и телекоммуникаций | E13: =E14+E15 -> 81061.9 | F13: =F14+F15 -> 81061.9 | H13: =H14+H15 -> 22000 | I13: =I14+I15 -> 0 | K13: =K14+K15 -> 81061.9 | M13: =M14+M15 -> 13200 | N13: =N14+N15 -> 67861.9
A14: Субсидии на поддержку региональных проектов в сфере информационных технологий в рамках подпрограммы "Информационное государство" государственной программы Российской Федерации "Информационное общество (2011 - 2020 годы)" | B14: Министерство связи и массовых коммуникаций Российской Федерации | C14: 75520202217020000151 | D14: 2345028 (1145028) | E14: 13200 | F14: 13200 | H14: 22000 | I14: 0 | K14: 13200 | M14: 13200 | N14: =E14-F14+I14+K14-M14 -> 0
A15: Субсидии на информационно-навигационное обеспечение автомобильных маршрутов по транспортным коридорам "Север - Юг" и "Восток - Запад" в рамках подпрограммы "Развитие гражданского использования системы ГЛОНАСС на транспорте" государственной программы Российской Федерации "Развитие транспортной системы" | B15: Министерство транспорта Российской Федерации | C15: 75520202202020000151 | D15: 24Д5062 (1235062) | E15: 67861.9 | F15: 67861.9 | G15: платежное поручение № 58863 от 23.01.2015 | H15: 0 | I15: 0 | K15: 67861.9 | L15: платежное поручние № 70 от 26.02.2015 | M15: 0 | N15: =E15-F15+I15+K15-M15 -> 67861.9
A16: Департамент сельского хозяйства и продовольствия | E16: =E17+E18+E20+E21+E22+E23+E24+E25+E26+E27+E28+E29+E30+E31+E32+E33+E34+E35+E19 -> 148904.5 | F16: =F17+F18+F20+F21+F22+F23+F24+F25+F26+F27+F28+F29+F30+F31+F32+F33+F34+F35+F19 -> 161559.8 | H16: =H17+H18+H20+H21+H22+H23+H24+H25+H26+H27+H28+H29+H30+H31+H32+H33+H34+H35+H19 -> 978547.2 | I16: =I17+I18+I20+I21+I22+I23+I24+I25+I26+I27+I28+I29+I30+I31+I32+I33+I34+I35+I19 -> 319470.1 | K16: =K17+K18+K20+K21+K22+K23+K24+K25+K26+K27+K28+K29+K30+K31+K32+K33+K34+K35+K19 -> 159191.4 | M16: =M17+M18+M20+M21+M22+M23+M24+M25+M26+M27+M28+M29+M30+M31+M32+M33+M34+M35+M19 -> 439607.9 | N16: =N17+N18+N20+N21+N22+N23+N24+N25+N26+N27+N28+N29+N30+N31+N32+N33+N34+N35+N19 -> 26398.3
A17: Субсидии бюджетам субъектов Российской Федерации и муниципальных образований в рамках федеральной целевой программы "Социальное развитие села до 2013 года" | B17: Министерство сельского хозяйства Российской Федерации | C17: 75821902000020000151 | D17: 0005898 | E17: 599.9 | F17: 599.9 | H17: 0 | I17: 0 | K17: 287.4 | M17: 0 | N17: =E17-F17+I17+K17-M17 -> 287.4
A18: Субсидии на возмещение части затрат на приобретение элитных семян в рамках подпрограммы "Развитие подотрасли растениеводства, переработки и реализации продукции растениеводства" государственной программы Российской Федерации "Государственная программа развития сельского хозяйства и регулирования рынков сельскохозяйственной продукции, сырья и продовольствия на 2013 - 2020 годы" | B18: Министерство сельского хозяйства Российской Федерации | C18: 75820202174020000151 | D18: 2515031 (1455031) | E18: 7089.6 | F18: 7089.6 | H18: 34985.6 | K18: 6636.7 | M18: 1512.7 | N18: =E18-F18+I18+K18-M18 -> 5124
A19: Субсидии на возмещение части затрат на приобретение семян с учетом доставки в районы Крайнего Севера и приравненные к ним местности | B19: Министерство сельского хозяйства Российской Федерации | C19: 75820202179020000151 | E19: 0 | F19: 0 | H19: 2977.3 | I19: 0 | K19: 0 | M19: 0 | N19: =E19-F19+I19+K19-M19 -> 0
A20: Субсидии на возмещение части процентной ставки по краткосрочным кредитам (займам) на развитие растениеводства, переработки и реализации продукции растениеводства в рамках подпрограммы "Развитие подотрасли растениеводства, переработки и реализации продукции растениеводства" государственной программы Российской Федерации "Государственная программа развития сельского хозяйства и регулирования рынков сельскохозяйственной продукции, сырья и продовольствия на 2013 - 2020 годы" | B20: Министерство сельского хозяйства Российской Федерации | C20: 75820202181020000151 | D20: 2515038 (1425038) | E20: 0 | F20: 0 | H20: 95117.2 | I20: 60425.7 | K20: 13.1 | M20: 60438.8 | N20: =E20-F20+I20+K20-M20 -> 0
A21: Субсидии на возмещение части процентной ставки по инвестиционным кредитам (займам) на развитие растениеводства, переработки и развития инфраструктуры и логистического обеспечения рынков продукции растениеводства в рамках подпрограммы "Развитие подотрасли растениеводства, переработки и реализации продукции растениеводства" государственной программы Российской Федерации "Государственная программа развития сельского хозяйства и регулирования рынков сельскохозяйственной продукции, сырья и продовольствия на 2013 - 2020 годы" | B21: Министерство сельского хозяйства Российской Федерации | C21: 75820202182020000151 | D21: 2515039 (1425039) | E21: 0 | F21: 0 | H21: 48946 | I21: 34922.9 | K21: 0 | M21: 34922.9 | N21: =E21-F21+I21+K21-M21 -> 0
A22: Субсидии на возмещение части затрат сельскохозяйственных товаропроизводителей на уплату страховой премии, начисленной по договору сельскохозяйственного страхования в области растениеводства, в рамках подпрограммы "Развитие подотрасли растениеводства, переработки и реализации продукции растениеводства" государственной программы Российской Федерации "Государственная программа развития сельского хозяйства и регулирования рынков сельскохозяйственной продукции, сырья и продовольствия на 2013 - 2020 годы" | B22: Министерство сельского хозяйства Российской Федерации | C22: 75820202183020000151 | D22: 2515040 (1425040) | E22: 0 | F22: 0 | H22: 8980.7 | I22: 8852.3 | K22: 13.7 | M22: 8866 | N22: =E22-F22+I22+K22-M22 -> 0
A23: Субсидии на оказание несвязанной поддержки сельскохозяйственным товаропроизводителям в области растениеводства в рамках подпрограммы "Развитие подотрасли растениеводства, переработки и реализации продукции растениеводства" государственной программы Российской Федерации "Государственная программа развития сельского хозяйства и регулирования рынков сельскохозяйственной продукции, сырья и продовольствия на 2013 - 2020 годы" | B23: Министерство сельского хозяйства Российской Федерации | C23: 75820202184020000151 | D23: 2515041 (1455041) | E23: 0 | F23: 7947.2 | H23: 103930.2 | I23: 100743.2 | K23: 8197.4 | M23: 100743.2 | N23: =E23-F23+I23+K23-M23 -> 250.2
A24: Субсидии на поддержку племенного животноводства в рамках подпрограммы "Развитие подотрасли животноводства, переработки и реализации продукции животноводства" государственной программы Российской Федерации "Государственная программа развития сельского хозяйства и регулирования рынков сельскохозяйственной продукции, сырья и продовольствия на 2013 - 2020 годы" | B24: Министерство сельского хозяйства Российской Федерации | C24: 75820202185020000151 | D24: 2525042 (1465042) | E24: 0 | F24: 0 | H24: 9861.1 | I24: 9861.1 | K24: 0 | M24: 9861.1 | N24: =E24-F24+I24+K24-M24 -> 0
A25: Субсидии на 1 килограмм реализованного и (или) отгруженного на собственную переработку молока в рамках подпрограммы "Развитие подотрасли животноводства, переработки и реализации продукции животноводства" государственной программы Российской Федерации "Государственная программа развития сельского хозяйства и регулирования рынков сельскохозяйственной продукции, сырья и продовольствия на 2013 - 2020 годы" | B25: Министерство сельского хозяйства Российской Федерации | C25: 75820202186020000151 | D25: 2525043 (1465043) | E25: 0 | F25: 0 | H25: 20178.9 | I25: 5989.8 | K25: 0 | M25: 5989.8 | N25: =E25-F25+I25+K25-M25 -> 0
A26: Субсидии на 1 килограмм реализованного и (или) отгруженного на собственную переработку молока в рамках подпрограммы "Развитие молочного скотоводства" государственной программы Российской Федерации "Государственная программа развития сельского хозяйства и регулирования рынков сельскохозяйственной продукции, сырья и продовольствия на 2013 - 2020 годы" | B26: Министерство сельского хозяйства Российской Федерации | C26: 75820202186020000151 | D26: 2525043 (1465043) | E26: 0 | F26: 0 | I26: 10784.3 | M26: 10784.3 | N26: =E26-F26+I26+K26-M26 -> 0
A27: Субсидии на возмещение части процентной ставки по краткосрочным кредитам (займам) на развитие животноводства, переработки и реализации продукции животноводства в рамках подпрограммы "Развитие подотрасли животноводства, переработки и реализации продукции животноводства" государственной программы Российской Федерации "Государственная программа развития сельского хозяйства и регулирования рынков сельскохозяйственной продукции, сырья и продовольствия на 2013 - 2020 годы" | B27: Министерство сельского хозяйства Российской Федерации | C27: 75820202190020000151 | D27: 2525047 (1425047) | E27: 0 | F27: 4708.1 | H27: 17905.6 | I27: 13314.7 | K27: 4708.1 | M27: 13314.7 | N27: =E27-F27+I27+K27-M27 -> 0
A28: Субсидии на возмещение части процентной ставки по инвестиционным кредитам (займам) на развитие животноводства, переработки и развития инфраструктуры и логистического обеспечения рынков продукции животноводства в рамках подпрограммы "Развитие подотрасли животноводства, переработки и реализации продукции животноводства" государственной программы Российской Федерации "Государственная программа развития сельского хозяйства и регулирования рынков сельскохозяйственной продукции, сырья и продовольствия на 2013 - 2020 годы" | B28: Министерство сельского хозяйства Российской Федерации | C28: 75820202191020000151 | D28: 2525048 (1425048) | E28: 139262.5 | F28: 139262.5 | H28: 541627.9 | I28: 0 | K28: 139262.5 | M28: 118598.3 | N28: =E28-F28+I28+K28-M28 -> 20664.2
A29: Субсидии на возмещение части затрат сельскохозяйственных товаропроизводителей на уплату страховой премии, начисленной по договору сельскохозяйственного страхования в области животноводства, в рамках подпрограммы "Развитие подотрасли животноводства, переработки и реализации продукции животноводства" государственной программы Российской Федерации "Государственная программа развития сельского хозяйства и регулирования рынков сельскохозяйственной продукции, сырья и продовольствия на 2013 - 2020 годы" | B29: Министерство сельского хозяйства Российской Федерации | C29: 75820202192020000151 | D29: 2525049 (1425049) | E29: 0 | F29: 0 | H29: 2762.9 | I29: 0 | K29: 0 | M29: 0 | N29: =E29-F29+I29+K29-M29 -> 0
A30: Субсидии на поддержку племенного крупного рогатого скота мясного направления в рамках подпрограммы "Развитие мясного скотоводства" государственной программы Российской Федерации "Государственная программа развития сельского хозяйства и регулирования рынков сельскохозяйственной продукции, сырья и продовольствия на 2013 - 2020 годы" | B30: Министерство сельского хозяйства Российской Федерации | C30: 75820202193020000151 | D30: 2535050 (1465050) | E30: 72.5 | F30: 72.5 | H30: 42.3 | I30: 0 | K30: 72.5 | M30: 0 | N30: =E30-F30+I30+K30-M30 -> 72.5
A31: Субсидии на поддержку экономически значимых региональных программ по развитию мясного скотоводства | B31: Министерство сельского хозяйства Российской Федерации | C31: 75820202194020000151 | E31: 0 | F31: 0 | H31: 10206 | I31: 0 | K31: 0 | M31: 0 | N31: =E31-F31+I31+K31-M31 -> 0
A32: Субсидии на развитие семейных животноводческих ферм в рамках подпрограммы "Поддержка малых форм хозяйствования" государственной программы Российской Федерации "Государственная программа развития сельского хозяйства и регулирования рынков сельскохозяйственной продукции, сырья и продовольствия на 2013 - 2020 годы" | B32: Министерство сельского хозяйства Российской Федерации | C32: 75820202197020000151 | D32: 2545054 (1415054) | E32: 0 | F32: 0 | H32: 21837 | I32: 21837 | K32: 0 | M32: 21837 | N32: =E32-F32+I32+K32-M32 -> 0
A33: Субсидии на возмещение части процентной ставки по долгосрочным, среднесрочным и краткосрочным кредитам, взятым малыми формами хозяйствования, в рамках подпрограммы "Поддержка малых форм хозяйствования" государственной программы Российской Федерации "Государственная программа развития сельского хозяйства и регулирования рынков сельскохозяйственной продукции, сырья и продовольствия на 2013 - 2020 годы" | B33: Министерство сельского хозяйства Российской Федерации | C33: 75820202198020000151 | D33: 2545055 (1425055) | E33: 0 | F33: 0 | H33: 15467.2 | I33: 10429.5 | K33: 0 | M33: 10429.5 | N33: =E33-F33+I33+K33-M33 -> 0
A34: Субсидии на возмещение части затрат крестьянских (фермерских) хозяйств, включая индивидуальных предпринимателей, при оформлении в собственность используемых ими земельных участков из земель сельскохозяйственного назначения в рамках подпрограммы "Поддержка малых форм хозяйствования" государственной программы Российской Федерации "Государственная программа развития сельского хозяйства и регулирования рынков сельскохозяйственной продукции, сырья и продовольствия на 2013 - 2020 годы" | B34: Министерство сельского хозяйства Российской Федерации | C34: 75820202199020000151 | D34: 2545056 | E34: 1880 | F34: 1880 | H34: 1268.3 | I34: 0 | K34: 0 | M34: 0 | N34: =E34-F34+I34+K34-M34 -> 0
A35: Субсидии на реализацию мероприятий федеральной целевой программы "Устойчивое развитие сельских территорий на 2014 - 2017 годы и на период до 2020 года" государственной программы Российской Федерации "Государственная программа развития сельского хозяйства и регулирования рынков сельскохозяйственной продукции, сырья и продовольствия на 2013 - 2020 годы" | B35: Министерство сельского хозяйства Российской Федерации | C35: 75820202051020000151 (поступили средства) 75820202085020000151 (утверждено в бюджете) | D35: 2575018 (14Б5018) | E35: 0 | F35: 0 | H35: 42453 | I35: 42309.6 | K35: 0 | M35: 42309.6 | N35: =E35-F35+I35+K35-M35 -> 0
A36: Департамент образования и науки | E36: =E37+E38+E39+E40+E41+E42+E43+E44 -> 315980.6 | F36: =F37+F38+F39+F40+F41+F42+F43+F44 -> 315980.6 | H36: =H37+H38+H39+H40+H41+H42+H43+H44 -> 786153.3 | I36: =I37+I38+I39+I40+I41+I42+I43+I44 -> 728778.7 | K36: =K37+K38+K39+K40+K41+K42+K43+K44 -> 314843.4 | M36: =M37+M38+M39+M40+M41+M42+M43+M44 -> 254525.27 | N36: =N37+N38+N39+N40+N41+N42+N43+N44 -> 789096.83
A37: Субсидии на модернизацию региональных систем дошкольного образования в рамках подпрограммы "Развитие дошкольного, общего и дополнительного образования детей" государственной программы Российской Федерации "Развитие образования" на 2013 - 2020 годы | B37: Министерство образования и науки Российской Федерации | C37: 75920202204020000151 | D37: 0225059 (0215059) | E37: 164749.5 | F37: =164749.5 -> 164749.5 | G37: п/п от 21.01.2015 № 35676 | H37: 442110.6 | I37: 442110.6 | J37: п/п от 27.05.2015 № 272, от 16.07.2015 № 601 | K37: =164749.5 -> 164749.5 | L37: № 508 от 08.04.2015 | M37: 95918.8 | N37: =E37-F37+I37+K37-M37 -> 510941.3
A38: Субсидии на поощрение лучших учителей в рамках подпрограммы "Развитие дошкольного, общего и дополнительного образования детей" государственной программы Российской Федерации "Развитие образования" на 2013 - 2020 годы | B38: Министерство образования и науки Российской Федерации | C38: 75920202067020000151 | D38: 0225088 (0225088) | E38: 0 | F38: 0 | H38: 2600 | I38: 0 | K38: 0 | M38: 0 | N38: =E38-F38+I38+K38-M38 -> 0
A39: Субсидии на создание в общеобразовательных организациях, расположенных в сельской местности, условий для занятий физической культурой и спортом в рамках подпрограммы "Развитие дошкольного, общего и дополнительного образования детей" государственной программы Российской Федерации "Развитие образования" на 2013 - 2020 годы | B39: Министерство образования и науки Российской Федерации | C39: 75920202215020000151 | D39: 0225097 | E39: 10922.1 | F39: 10922.1 | G39: 27.01.2015 п/п № 77658 | H39: 0 | I39: 0 | K39: 10922.1 | M39: 670 | N39: =E39-F39+I39+K39-M39 -> 10252.1
A40: Субсидия на финансовое обеспечение мероприятий федеральной целевой программы развития образования на 2011 - 2015 годы в рамках государственной программы Российской Федерации "Развитие образования" на 2013 - 2020 годы | B40: Министерство образования и науки Российской Федерации | C40: 75920202051020000151 | D40: 0265026 (0245026) | E40: 0 | F40: 0 | H40: 17142.2 | I40: 17142.2 | J40: п/п от 17.08.2015 № 379 | K40: 0 | M40: 16000 | N40: =E40-F40+I40+K40-M40 -> 1142.2
...

Sheet субвенции
M1: Приложение 1 (9 мес. 2015) (продолжение)
A2: Информация об исполнении межбюджетных трансфертов (МБТ), предоставляемых их федерального бюджета (ФБ)
A3: за 9 месяцев 2015 года
M4: (тыс. рублей)
A5: Наименование МБТ | B5: Федеральный орган, предоставивший МБТ | C5: Код доходов по БК | D5: Код целевой статьи по БК | E5: Остаток МБТ на начало отчетного периода | H5: Объем МБТ, утвержденный законом о бюджете на финансовый год | I5: Поступило из ФБ в отчетный период | M5: Кассовое исполнение | N5: Остаток МБТ на конец отчетного периода
E6: всего | F6: в том числе возвращено в ФБ | I6: без учета возврата остатков средств ФБ | K6: восстановлено (возвращено в объеме потребности) остатков МБТ | O6: в том числе
F7: сумма | G7: дата, № и вид документа | I7: сумма | J7: дата, № и вид документа | K7: сумма | L7: дата, № и вид документа | O7: потребность в котором подтверждена | P7: возвращено в ФБ
A8: 1 | B8: 2 | C8: 3 | D8: 4 | E8: 5 | F8: 6 | G8: 7 | H8: 8 | I8: 9 | J8: 10 | K8: 11 | L8: 12 | M8: 13 | N8: 14 | O8: 14 | P8: 15
A10: Субвенции всего | E10: =E11+E13+E15+E27+E30+E34+E37+E40 -> 84590.154 | F10: =F11+F13+F15+F27+F30+F34+F37+F40 -> 86199.806 | H10: =H11+H13+H15+H27+H30+H34+H37+H40 -> 4210437.7 | I10: =I11+I13+I15+I27+I30+I34+I37+I40 -> 3460831.9 | K10: =K11+K13+K15+K27+K30+K34+K37+K40 -> 1828.321 | M10: =M11+M13+M15+M27+M30+M34+M37+M40 -> 3301363.6 | N10: =N11+N13+N15+N27+N30+N34+N37+N40 -> 159687.01
A11: Департамент здравоохранения Приморского края | E11: =E12 -> 0 | F11: =F12 -> 0 | H11: =H12 -> 284477 | I11: =I12 -> 284477 | M11: =M12 -> 221871.7 | N11: =N12 -> 62605.3
A12: на оказание отдельным категориям граждан государственной социальной помощи по обеспечению лекарственными препаратами, медицинскими изделиями, а также специализированными продуктами лечебного питания для детей-инвалидов | B12: Министерство здравоохранения Российской Федерации | C12: 76120203068020000151 | D12: 0123093 | E12: 0 | F12: 0 | H12: 284477 | I12: 284477 | J12: пп 144 от 04.03.2015, 286 от 09.07.2015 | M12: 221871.7 | N12: =E12-F12+I12+K12-M12 -> 62605.3 | O12: 0 | P12: 0
A15: Департамент труда и социального развития Приморского края | E15: =E17+E18+E19+E20+E21+E22+E23+E24+E25+E26 -> 37583.274 | F15: =F17+F18+F19+F20+F21+F22+F23+F24+F25+F26 -> 38881.976 | H15: =H17+H18+H19+H20+H21+H22+H23+H24+H25+H26 -> 3276916.3 | I15: =I17+I18+I19+I20+I21+I22+I23+I24+I25+I26 -> 2747850.6 | K15: =K17+K18+K19+K20+K21+K22+K23+K24+K25+K26 -> 1517.37 | M15: =M17+M18+M19+M20+M21+M22+M23+M24+M25+M26 -> 2660219.9 | N15: =N17+N18+N19+N20+N21+N22+N23+N24+N25+N26 -> 87849.307
A16: в том числе по направлениям расходов
A17: 1.Субвенции на выплату государственного единовременного пособия и ежемесячной денежной компенсации гражданам при возникновении поствакцинальных осложнений в соответствии с Федеральным законом от 17 сентября 1998 года № 157-ФЗ "Об иммунопрофилактике инфекционных болезней" в рамках подпрограммы "Развитие мер социальной поддержки отдельных категорий граждан" государственной программы Российской Федерации "Социальная поддержка граждан" | B17: Министерство здравоохранения Российской Федерации | C17: 76020203011020000151 | D17: 0315240 | E17: 0 | F17: 0 | G17: - | H17: 73.3 | I17: 49.24 | J17: п/п 845 от 14.04.15, 928 от 18.05.15, 930 от 22.06.15, 487 от 17.07.15, 691 от 12.08.15, 118 от 10.09.15 | M17: 49.24 | N17: =E17-F17+I17+K17-M17 -> 0
A18: 2.Субвенции на осуществление полномочий по обеспечению жильем отдельных категорий граждан, установленных Федеральным законом от 12 января 1995 года № 5-ФЗ "О ветеранах", в соответствии с Указом Президента Российской Федерации от 7 мая 2008 года № 714 "Об обеспечении жильем ветеранов Великой Отечественной войны 1941 - 1945 годов" в рамках подпрограммы "Создание условий для обеспечения доступным и комфортным жильем граждан России" государственной программы Российской Федерации "Обеспечение доступным и комфортным жильем и коммунальными услугами граждан Российской Федерации" | B18: Министерство строительства и жилищно-коммунального хозяйства Российской Федерации | C18: 76020203069020000151 | D18: 0515134 | E18: 953.24 | F18: 953.24 | G18: п/п 115860 от 30.01.15 | H18: 163342.7 | I18: 163342.7 | J18: п/п 549 от 16.03.15 | M18: 163342.7 | N18: =E18-F18+I18+K18-M18 -> 0
A19: 3.Субвенции на осуществление полномочий по обеспечению жильем отдельных категорий граждан, установленных федеральными законами от 12 января 1995 года № 5-ФЗ "О ветеранах" и от 24 ноября 1995 года № 181-ФЗ "О социальной защите инвалидов в Российской Федерации", в рамках подпрограммы "Создание условий для обеспечения доступным и комфортным жильем граждан России" государственной программы Российской Федерации "Обеспечение доступным и комфортным жильем и коммунальными услугами граждан Российской Федерации" | B19: Министерство строительства и жилищно-коммунального хозяйства Российской Федерации | C19: 76020203070020000151 | D19: 0515135 | E19: 11575.874 | F19: 11575.874 | G19: п/п 115864 от 30.01.15 | H19: 25858.7 | I19: 25858.7 | J19: п/п 364 от 10.06.15 | M19: 8299.08 | N19: =E19-F19+I19+K19-M19 -> 17559.62
A20: 4. Субвенции на оплату жилищно-коммунальных услуг отдельным категориям граждан в рамках подпрограммы "Развитие мер социальной поддержки отдельных категорий граждан" государственной программы Российской Федерации "Социальная поддержка граждан" | B20: Министерство финансов Российской Федерации | C20: 76020203001020000151 | D20: 0315250 | E20: 7.31816 | F20: 455.45 | G20: п/п 99374 от 29.01.15 | H20: 1287289.6 | I20: 1134041.5 | J20: п/п 595 от 29.01.15, 398 от 16.02.15, 330 от 25.02.15, 519 от 16.03.15, 917 от 17.03.15, 871 от 24.03.15, 934 от 25.03.15, 983 от 06.04.15, 845 от 13.04.15, 518 от 27.04.15, 743 от 29.04.15, 38 от 30.04.15, 183 от 12.05.15, 635 от 15.05.15, 933 от 18.05.15, 250 от 26.05.15, 257 от 08.06.15, 685 от 09.06.15, 530 и 535 от 25.06.15, 649 от 26.06.15, 49 от 30.06.15, 853 от 14.07.15, 600 от 27.07.15, 714 от 28.07.15, 625 от 13.08.15, 632 от 26.08.15, 314 от 11.09.15 | K20: 462.43 | M20: 1134041.5 | N20: =E20-F20+I20+K20-M20 -> 14.29816
A21: 5. Субвенции на выплату единовременного пособия беременной жене военнослужащего, проходящего военную службу по призыву, а также ежемесячного пособия на ребенка военнослужащего, проходящего военную службу по призыву, в соответствии с Федеральным законом от 19 мая 1995 года № 81-ФЗ "О государственных пособиях гражданам, имеющим детей" в рамках подпрограммы "Совершенствование социальной поддержки семьи и детей" государственной программы Российской Федерации "Социальная поддержка граждан" | B21: Министерство труда и социальной защиты Российской Федерации | C21: 76020203053020000151 | D21: 0335270 | E21: 0 | F21: 3 | G21: - | H21: 21859.7 | I21: 13815.96 | J21: п/п 747 от 28.01.15, 516 от 30.01.15, 894 от 18.02.15, 334 от 25.02.15, 650 от 03.03.15, 56 от 05.03.15, 23 от 12.03.15, 521 от 16.03.15, 872 от 24.03.15, 95 от 30.03.15, 44 от 08.04.15, 152 от 21.04.15, 520 от 27.04.15, 745 от 29.04.15, 637 от 15.05.15, 11 от 29.05.15, 689 от 09.06.15, 154 от 19.06.15, 543 от 25.06.15, 855 от 14.07.15, 360 от 22.07.15, 602 от 27.07.15, 909 от 29.07.15, 503 от 10.08.15, 358 от 19.08.15, 683 от 20.08.15, 176 от 01.09.15, 148 от 15.09.15 | K21: 3 | M21: 13810.629 | N21: =E21-F21+I21+K21-M21 -> 5.331
A22: 6. Субвенции на выплату государственных пособий лицам, не подлежащим обязательному социальному страхованию на случай временной нетрудоспособности и в связи с материнством, и лицам, уволенным в связи с ликвидацией организаций (прекращением деятельности, полномочий физическими лицами), в соответствии с Федеральным законом от 19 мая 1995 года № 81-ФЗ "О государственных пособиях гражданам, имеющим детей" в рамках подпрограммы "Совершенствование социальной поддержки семьи и детей" государственной программы Российской Федерации "Социальная поддержка граждан" | B22: Министерство труда и социальной защиты Российской Федерации | C22: 76020203122020000151 | D22: 0335380 | E22: 450.98333 | F22: 741.11 | G22: п/п 115863 от 30.01.15 | H22: 990179.3 | I22: 752434.15 | J22: п/п 748 от 28.01.15, 659 от 02.02.15, 942 от 11.02.15, 332 от 25.02.15, 651 от 03.03.15, 22 от 12.03.15, 313 от 13.03.15, 874 от 24.03.15, 45 от 08.04.15, 448 от 10.04.15, 848 от 13.04.15, 919 от 15.04.15, 154 от 22.04.15, 184 от 12.05.15, 942 от 22.05.15, 688 от 09.06.15, 215 от 23.06.15, 119 от 24.06.15, 537 от 25.06.15, 874 от 09.07.15, 364 от 13.07.15, 493 от 17.07.15, 358 от 22.07.15, 143 от 23.07.15, 90 от 11.08.15, 574 от 21.08.15, 317 от 11.09.15, 673 от 16.09.15 | K22: 300.2 | M22: 752082.63 | N22: =E22-F22+I22+K22-M22 -> 361.59333
A23: 7. Субвенции на осуществление переданных полномочий Российской Федерации по предоставлению отдельных мер социальной поддержки граждан, подвергшихся воздействию радиации, в рамках подпрограммы "Развитие мер социальной поддержки отдельных категорий граждан" государственной программы Российской Федерации "Социальная поддержка граждан" | B23: Федеральная служба по труду и занятости | C23: 76020203123020000151 | D23: 0315137 | E23: 0 | F23: 0 | G23: - | H23: 5106.2 | I23: 4804.46 | J23: п/п 616 от 14.01.15, 910 от 27.01.15, 810 от 27.02.15, 130 от 25.03.15, 60 от 22.04.15, 155 от 20.05.15, 280 от 23.06.15, 5 от 21.07.15, 145 от 20.08.15, 983 от 22.09.15 | M23: 4241.822 | N23: =E23-F23+I23+K23-M23 -> 562.638
A24: 8. Субвенции на социальные выплаты безработным гражданам в соответствии с Законом Российской Федерации от 19 апреля 1991 года № 1032-I "О занятости населения в Российской Федерации" в рамках подпрограммы "Активная политика занятости населения и социальная поддержка безработных граждан" государственной программы Российской Федерации "Содействие занятости населения" | B24: Федеральная служба по труду и занятости | C24: 76020203025020000151 | D24: 0715290 | E24: 21482.387 | F24: 22039.83 | G24: п/п 115858 от 30.01.15 | H24: 715199.1 | I24: 586097.99 | J24: п/п 182 от 15.01.15, 604 от 23.01.15, 831 от 24.02.15, 508 от 19.03.15, 108 от 21.04.15, 118 от 20.05.15, 236 от 22.06.15, 799 от 22.07.15, 515 от 20.08.15, 763 от 22.09.15 | K24: 751.74 | M24: 516946.46 | N24: =E24-F24+I24+K24-M24 -> 69345.827
A25: 9. Субвенции на осуществление переданного полномочия Российской Федерации по осуществлению ежегодной денежной выплаты лицам, награжденным нагрудным знаком "Почетный донор России", в рамках подпрограммы "Развитие мер социальной поддержки отдельных категорий граждан" государственной программы Российской Федерации "Социальная поддержка граждан" | B25: Федеральное медико-биологическое агентство | C25: 76020203004020000151 | D25: 0315220 | E25: 3113.4721 | F25: 3113.4721 | G25: п/п 115859 от 30.01.15 | H25: 67567.42 | I25: 67367.77 | J25: п/п 335 от 25.02.15, 604 от 27.02.15, 144 от 23.03.15, 49 от 08.04.15, 848 от 14.04.15, 935 от 18.05.15, 872 от 19.05.15, 14 и 17 от 29.05.15, 438 от 01.06.15, 545 от 25.06.15, 144 от 23.07.15, 873 от 14.08.15, 367 от 19.08.15, 139 от 10.09.15 | M25: 67367.77 | N25: =E25-F25+I25+K25-M25 -> 0
A26: 10. Субвенции на выплату инвалидам компенсаций страховых премий по договорам обязательного страхования гражданской ответственности владельцев транспортных средств в соответствии с Федеральным законом от 25 апреля 2002 года № 40-ФЗ "Об обязательном страховании гражданской ответственности владельцев транспортных средств" в рамках подпрограммы "Совершенствование механизма предоставления услуг в сфере реабилитации и государственной системы медико-социальной экспертизы" государственной программы Российской Федерации "Доступная среда" на 2011 - 2015 годы | B26: Министерство труда и социальной защиты Российской Федерации | C26: 76020203012020000151 | D26: 0425280 | E26: 0 | F26: 0 | G26: - | H26: 440.3 | I26: 38.041 | J26: п/п 596 от 19.02.15, 153 от 21.04.15, 888 от 28.04.15, 951 от 20.05.15, 579 и 580 от 17.06.15, 122 от 24.06.15, 494 от 17.07.15, 363 от 19.08.15, 573 от 17.09.15 | M26: 38.041 | N26: =E26-F26+I26+K26-M26 -> 0
A27: Департамент финансов Приморского края | E27: =SUM(E29:E29) -> 3709.86 | F27: =SUM(F29:F29) -> 4003.59 | H27: =SUM(H29:H29) -> 159234.8 | I27: =SUM(I29:I29) -> 117121.23 | K27: =SUM(K29:K29) -> 293.73 | M27: 114402.18 | N27: =SUM(N29:N29) -> 2719.05 | O27: =SUM(O29:O29) -> 0 | P27: =SUM(P29:P29) -> 0
A28: в том числе по направлениям расходов
A29: Единые субвенции бюджетам в рамках подпрограммы "Совершенствование федеративных отношений и механизмов управления региональным развитием" государственной программы Российской Федерации "Региональная политика и федеративные отношения" | B29: Министерство финансов Российской Федерации | C29: 75220203998020000151 | D29: 3315900 | E29: 3709.86 | F29: 4003.59 | G29: платежное поручение от 28.01.15 №87710 | H29: 159234.8 | I29: 117121.23 | J29: данные в разрезе платежных поручений отражены в Приложении 4 к письму | K29: 293.73 | L29: платежные поручения:29.01.2015 №817, 09.02.2015 №288, 25.02.2015 №835, 30.03.2015 №757; заявка на возврат от 04.02.2015 №8 | M29: 114402.18 | N29: =E29-F29+I29+K29-M29 -> 2719.05
A30: Департамент по координации правоохранительной деятельности, исполнения административного законодательства и обеспечения деятельности мировых судей Приморского края | E30: =E32+E33 -> 191.93 | F30: =F32+F33 -> 191.93 | H30: =H32+H33 -> 23514.4 | I30: =I32+I33 -> 23406 | M30: =M32+M33 -> 16910.17 | N30: =N32+N33 -> 6495.83 | O30: =O32+O33 -> 0 | P30: =P32+P33 -> 0
A31: в том числе по направлениям расходов
A32: 1.Субвенция на осуществление федеральных полномочий по первичному воинскому учету, на территориях где отсутствуют военные комиссариаты | B32: Министерство обороны РФ | C32: 785 2 02 03015 02 0000 151 | D32: 9995118 1895118 (со 02.03.2015 г.) | E32: 23.8 | F32: 23.8 | G32: Справки органа Федерального казначейства от 16.01.2015 г. на 8,9 тыс. руб. и от 26.01.2015 г. на 14,9 тыс. руб. | H32: 22362.8 | I32: 22254.4 | J32: Платежное поручение № 782 от 04.02.2015 г. сумма - 11127,2 тыс. руб. Платежное поручение № 91 от 01.07.2015 г. сумма - 11127,2 тыс. руб. | K32: 0 | M32: 16531.5 | N32: =E32-F32+I32+K32-M32 -> 5722.9 | O32: 0
A33: 2. Субвенции на осуществление государственных полномочий по составлению (изменению) списков кандидатов в присяжные заседатели федеральных судов общей юрисдикции РФ | B33: Судебный департамент при Верховном Суде Российской Федерации | C33: 785 2 02 03007 02 0000 151 | D33: 1895120 | E33: 168.13 | F33: 168.13 | G33: Заявка на возврат № 5. от 26.01.2015 г. сумма -5,3 тыс. руб. Зяавка на возврат № 4 от 23.01.2015 г. сумма -145,1 тыс. руб. Заявка на возврат № 2. от 19.01.2015 г. сумма -17,7 тыс. руб. | H33: 1151.6 | I33: 1151.6 | J33: Приморский краевой суд: платежное поручение № 121 от 20.04.2015 г. сумма -998,6 тыс. руб. Тихоокеанский флотский военный суд: платежное поручение № 711 от 15.04.2015 г. сумма-86,6 тыс. руб., 3 окружной военный суд платежное № 697 от 28.04.2015 г. сумма - 66,4 тыс. руб. | K33: 0 | M33: 378.67 | N33: =E33-F33+I33+K33-M33 -> 772.93 | O33: 0
A34: Департамент природных ресурсов и охраны окружающей среды Приморского края | B34: Федеральное агентство водных ресурсов | E34: 14967.46 | F34: =E34 -> 14967.46 | H34: 28567.8 | I34: =I36 -> 1481.52 | M34: 1481.52 | N34: =N36 -> 0 | O34: 21846.93 | P34: =N34 -> 0
A35: в том числе по направлениям расходов
A36: Субвенции на осуществление органами государственной власти субъекта Российской Федерации переданных полномочий в области водных отношений | B36: Федеральное агентство водных ресурсов | C36: 790 2 02 03019 02 0000 151 | D36: 0845128 | E36: 14967.46 | F36: =E36 -> 14967.46 | G36: пп № 99367 от 29.01.2015 | H36: 28567.8 | I36: 1481.52 | J36: пп 677 от 20.08.2015 | M36: 1481.52 | N36: =E36-F36+I36+K36-M36 -> 0
A37: Департамент образования и науки Приморского края | E37: =E39 -> 0 | F37: =F39 -> 0 | H37: =H39 -> 19108.5 | I37: =I39 -> 13780.54 | K37: =K39 -> 0 | L37: =L39 -> 0 | M37: =M39 -> 13763.15 | N37: =N39 -> 17.39 | O37: =O39 -> 0 | P37: =P39 -> 0
A38: в том числе по направлениям расходов
A39: 1. Субвенции на выплату единовременного пособия при всех формах устройства детей, лишенных родительского попечения, в семью в рамках подпрограммы "Совершенствование социальной поддержки семьи и детей" государственной программы Российской Федерации "Социальная поддержка граждан" | B39: Министерство образования и науки РФ | C39: 75920203020020000151 | D39: 0335260 | E39: 0 | F39: 0 | H39: 19108.5 | I39: 13780.54 | J39: от 29.01.2015 № 145, 05.02.2015 № 231, 11.02.2015 № 282, 25.02.2015 № 447, 26.02.2015 № 451, 04.03.2015 № 531, 04.03.2015 №535, 18.03.2015 №788, 27.03.2015 № 880, 03.04.2015 № 967, 03.04.2015 № 1107, 21.04.2015 № 1216, 24.04205 № 1247, 29.04.2015 №1356, 15.05.2015 № 1599, 21.05.2015 № 1692, 25.05.2015 №1704, 28.05.2015 №1817, 03.06.2015 № 1935, 08.06.2015 №1976, 16.06.2015 № 2075, 22.06.2015 № 2160, 26.06.2015 № 2245, 03.07.2015 № 2435, 16.07.2015 № 2604, 28.07.2015 № 2765, 05.08.2015 № 2956, 12.08.2015 №3039, 19.08.2015 №3134, 27.08.2015 №3279, 01.09.2015 № 3362, 16.09.2015 № 3526.300941 от 04.06.2015 355522 от 10.06.2015 416754 от 18.06.2015 467115 от 24.06.2015 544087 от 01.07.2015 593203 от 07.07.2015 704988 от 20.07.2015 809196 от 30.07.2015 887177 от 07.08.2015 50863 от 14.08.2015 94679 от 20.08.2015 167143 от 28.08.2015 218738 от 03.09.2015 | K39: 0 | M39: 13763.15 | N39: =E39-F39+I39+K39-M39 -> 17.39 | O39: 0 | P39: 0
A40: Департамент лесного хозяйства Приморского края | E40: =E42+E43+E44 -> 28137.63 | F40: =F42+F43+F44 -> 28154.85 | H40: =SUM(H42:H44) -> 418618.9 | I40: =SUM(I42:I44) -> 272715.1 | K40: =SUM(K42:K44) -> 17.221 | M40: =SUM(M42:M44) -> 272714.97 | N40: =SUM(N42:N44) -> 0.131
A41: в том числе по направлениям расходов
A42: 1.Субвенции на осуществление отдельных полномочий в области лесных отношений подпрограммы "Охрана и защита лесов" государственной программы Российской Федерации "Развитие лесного хозяйства" на 2013 - 2020 годы | B42: Федеральное агентство лесного хозяйства | C42: 76320203018020000151 | D42: 2915129 | E42: 22000 | F42: 22017.22 | G42: пл.пор.от 04.02.2015 №145634 | H42: 418618.9 | I42: 272715.1 | J42: в течении всего периода | K42: 17.221 | L42: пл.пор. от 23.03.2015 №530910; 07.07.2015 №601197; 13.07.2015 №651828; 29.07.2015 №801990 | M42: 272714.97 | N42: =E42-F42+I42+K42-M42 -> 0.131
A44: 3.Субвенции на осуществление отдельных полномочий в области лесных отношений в рамках подпрограммы "Обеспечение реализации государственной программы Российской Федерации "Развитие лесного хозяйства" на 2013 - 2020 годы" | B44: Федеральное агентство лесного хозяйства | C44: 76320203018020000151 | D44: 2945129 | E44: 6137.63 | F44: 6137.63 | G44: пл.пор.от 04.02.2015 №145633 | M44: 0 | N44: =E44-F44+I44+K44-M44 -> 0

Sheet иные межбюджетные
M1: Приложение 1 (9 мес. 2015) (продолжение)
A2: Информация об исполнении межбюджетных трансфертов (МБТ), предоставляемых их федерального бюджета (ФБ)
A3: за 9 месяцев 2015 года
M4: (тыс. рублей)
A5: Наименование МБТ | B5: Федеральный орган, предоставивший МБТ | C5: Код доходов по БК | D5: Код целевой статьи по БК | E5: Остаток МБТ на начало отчетного периода | H5: Объем МБТ, утвержденный законом о бюджете на финансовый год | I5: Поступило из ФБ в отчетный период | M5: Кассовое исполнение | N5: Остаток МБТ на конец отчетного периода
E6: всего | F6: в том числе возвращено в ФБ | I6: без учета возврата остатков средств ФБ | K6: восстановлено (возвращено в объеме потребности) остатков МБТ | O6: в том числе
F7: сумма | G7: дата, № и вид документа | I7: сумма | J7: дата, № и вид документа | K7: сумма | L7: дата, № и вид документа | O7: потребность в котором подтверждена | P7: возвращено в ФБ
A8: 1 | B8: 2 | C8: 3 | D8: 4 | E8: 5 | F8: 6 | H8: 7 | I8: 8 | J8: 9 | K8: 10 | L8: 11 | M8: 12 | N8: 13 | O8: 14 | P8: 15
A9: Иные МБТ всего | E9: =E10+E22+E25+E28+E36+E40+E45+E49+E55+E57+E59+E61+E63+E65 -> 671642.24 | F9: =F10+F22+F25+F28+F36+F40+F45+F49+F55+F57+F59+F61+F63+F65 -> 673002.08 | H9: =H10+H22+H25+H28+H36+H40+H45+H49+H55+H57+H59+H61+H63+H65 -> 2512846.7 | I9: =I10+I22+I25+I28+I36+I40+I45+I49+I55+I57+I59+I61+I63+I65 -> 2450747.8 | K9: =K10+K22+K25+K28+K36+K40+K45+K49+K55+K57+K59+K61+K63+K65 -> 624815.85 | M9: =M10+M22+M25+M28+M36+M40+M45+M49+M55+M57+M59+M61+M63+M65 -> 1358795.9 | N9: =N10+N22+N25+N28+N36+N40+N45+N49+N55+N57+N59+N61+N63+N65 -> 1715407.9
A10: Департамент здравоохранения Приморского края | E10: =E12+E13+E14+E15+E16+E17+E18+E19+E20+E21 -> 25065.29 | F10: =F12+F13+F14+F15+F16+F17+F18+F19+F20+F21 -> 25065.29 | H10: =H12+H13+H14+H15+H16+H17+H18+H19+H20+H21 -> 563463 | I10: =I12+I13+I14+I15+I16+I17+I18+I19+I20+I21 -> 300369.04 | K10: =K12+K13+K14+K15+K16+K17+K18+K19+K20+K21 -> 13510.25 | M10: =M12+M13+M14+M15+M16+M17+M18+M19+M20+M21 -> 269663.79 | N10: =N12+N13+N14+N15+N16+N17+N18+N19+N20+N21 -> 44215.5
A11: в том числе по направлениям расходов
A12: на осуществление организационных мероприятий по обеспечению лиц лекарственными препаратами, предназначенными для лечения больных злокачественными новообразованиями лимфоидной, кроветворной и родственных им тканей, гемофилией, муковисцидозом, гипофизарным нанизмом, болезнью Гоше, рассеянным склерозом, а также после трансплантации органов и (или) тканей | B12: Министерство здравоохранения Российской Федерации | C12: 20204062020000151 | D12: 0125133 | E12: 0 | F12: 0 | H12: 11024.6 | I12: 6973.39 | J12: 476 от 21.07.2015, 18 от 17.08.2015, 310 от 11.09.2015 | M12: 6973.39 | N12: =E12-F12+I12+K12-M12 -> 0 | O12: 0 | P12: 0
A13: на реализацию отдельных полномочий в области лекарственного обеспечения | B13: Министерство здравоохранения Российской Федерации | C13: 20204017020000151 | D13: 0125161 | E13: 269.06 | F13: 269.06 | G13: 115682 от 30.01.2015 | H13: 163410.2 | I13: 117556.62 | J13: 35 от 08.04.2015, 455 от 09.04.2015, 255 от 23.04.2015, 691 от 24.04.2015, 512 от 27.04.2015, 740 от 29.04.2015, 380 от 06.05.2015, 847 от 08.05.2015, 926 от 18.05.2015, 860 от 19.05.2015, 942 от 20.05.2015, 285 от 21.05.2015, 248 от 26.05.2015, 19 от 27.05.2015, 174 от 28.05.2015, 991 от 29.05.2015, 847 от 02.06.2015, 928 от 22.06.2015, 334 от 02.07.2015, 485 от 17.07.2015, 479 от 21.07.2015, 197 от 04.08.2015, 862 от 14.08.2015, 16 от 17.08.2015, 735 от 03.09.2015, 312 от 11.09.2015, 807 от 14.09.2015, 101 от 18.09.2015, 877 от 25.09.2015 | M13: 117556.62 | N13: =E13-F13+I13+K13-M13 -> 0 | P13: 269.06
A14: на реализацию мероприятий по профилактике ВИЧ-инфекции и гепатитов B и C | B14: Министерство здравоохранения Российской Федерации | C14: 20204066020000151 | D14: 0125179 | E14: 171.21 | F14: 171.21 | G14: 115677 от 30.01.2015 | H14: 5143.6 | I14: 1031 | J14: 870 от 09.07.2015, 879 от 25.09.2015 | M14: 1031 | N14: =E14-F14+I14+K14-M14 -> 0 | O14: 99.5 | P14: 171.21
A15: на финансовое обеспечение закупок антивирусных препаратов для профилактики и лечения лиц, инфицированных вирусами иммунодефицита человека и гепатитов B и C | B15: Министерство здравоохранения Российской Федерации | C15: 20204055020000151 | D15: 0125072 | E15: 973.51 | F15: 973.51 | G15: 115681 от 30.01.2015 | H15: 225198.8 | I15: 111831.13 | J15: 279 от 08.07.2015, 201 от 04.08.2015, 421 от 06.08.2015, 858 от 14.08.2015, 20 от 17.08.2015, 303 от 11.09.2015, 104 от 18.09.2015, 878 от 25.09.2015 | K15: 973.51 | M15: 112804.64 | N15: =E15-F15+I15+K15-M15 -> 0 | O15: 0 | P15: 973.51
A16: на финансовое обеспечение закупок антибактериальных и противотуберкулезных лекарственных препаратов (второго ряда), применяемых при лечении больных туберкулезом с множественной лекарственной устойчивостью возбудителя, и диагностических средств для выявления, определения чувствительности микобактерии туберкулеза и мониторинга лечения больных туберкулезом с множественной лекарственной устойчивостью возбудителя | B16: Министерство здравоохранения Российской Федерации | C16: 20204064020000151 | D16: 0125174 | E16: 253.77 | F16: 253.77 | G16: 115683 от 30.01.2015 | H16: 102203.7 | I16: 13681.26 | J16: 737 от 03.09.2015, 307 от 11.09.2015, 106 от 18.09.2015 | M16: 13681.26 | N16: =E16-F16+I16+K16-M16 -> 0 | O16: 0 | P16: 253.77
A17: на компенсацию расходов, связанных с оказанием в 2014 году медицинскими организациями, подведомственными органам исполнительной власти субъектов Российской Федерации и органам местного самоуправления, гражданам Украины и лицам без гражданства медицинской помощи и проведением профилактических прививок, включенных в календарь профилактических прививок по эпидемическим показаниям, по иным непрограммным мероприятиям | B17: Министерство здравоохранения Российской Федерации | C17: 20204087020000151 | D17: 9995422 | E17: 10861 | F17: 10861 | G17: 115673 от 30.01.2015 | H17: 0 | I17: 0 | M17: 0 | N17: =E17-F17+I17+K17-M17 -> 0 | O17: 10861 | P17: 10861
A18: иные межбюджетные трансферты в целях улучшения лекарственного обеспечения граждан | B18: Министерство здравоохранения Российской Федерации | C18: 20204101020000151 | D18: 0115482 | E18: 0 | F18: 0 | H18: 0 | I18: 43767.4 | J18: 996 от 13.07.2015 | M18: 0 | N18: =E18-F18+I18+K18-M18 -> 43767.4
A19: на финансовое обеспечение закупок компьютерного и сетевого оборудования с лицензионным программным обеспечением для реализации мероприятий по развитию службы крови | B19: ФМБА | C19: 20204065020000151 | D19: 0125175 | E19: 12099.77 | F19: 12099.77 | G19: 115671 от 30.01.2015 | H19: 0 | J19: 532 от 04.03.2015 | K19: 12099.77 | M19: 11651.67 | N19: =E19-F19+I19+K19-M19 -> 448.1 | O19: 12099.77 | P19: 12099.77
A20: на реализацию отдельных полномочий в области лекарственного обеспечения населения закрытых административно-территориальных образований, обслуживаемых федеральными государственными бюджетными учреждениями здравоохранения, находящимися в ведении Федерального медико-биологического агентства | B20: ФМБА | C20: 20204047020000151 | D20: 0125197 | E20: 436.97 | F20: 436.97 | G20: 115678 от 30.01.2015 | H20: 6482.1 | I20: 5528.24 | J20: 670 от 22.04.2015, 135 от 10.09.2015 | K20: 436.97 | M20: 5965.21 | N20: =E20-F20+I20+K20-M20 -> 0 | O20: 436.97 | P20: 436.97
A21: на единовременные компенсационные выплаты медицинским работникам | C21: 20204043020000151 | H21: 50000 | I21: 0 | K21: 0 | M21: 0 | N21: =E21-F21+I21+K21-M21 -> 0
A22: Администрация Приморского края | H22: =H23+H24 -> 4663.14 | I22: =I23+I24 -> 7057.34 | M22: =M23+M24 -> 7026.85 | N22: =N23+N24 -> 30.49
A23: Межбюджетные трансферты, передаваемые бюджетам субъектоам РФ на содержание депутатов Государственной Думы и их помощников | B23: Государственная Дума Федерального Собрания РФ | C23: 20204001020000151 | D23: 9995141 | E23: 0 | F23: 0 | G23: - | H23: 3924.26 | I23: 6025.51 | J23: платежные поручения: 202 от 29.01.2015,398 от 11.02.2015,653 от 18.02.2015,617 от 27.02.2015,458 от 13.03.2015, 245 от 23.03.2015, 904 от 21.04.2015, 105 от 05.05.2015,638,669 от 14.05.2015, 120 от 20.05.2015,927 от 28.05.2015, 643 от 04.06.2015, 785 от 23.06.2015, 287 от 13.07.2015,215 от 29.07.2015, 496 от 31.07.2015, 394 от 05.08.2015, 117 от 12.08.2015,937 от 21.08.2015, 556 от 08.09.2015, 888 от 11.09.2015, 694 от 25.09.2015, 370135 от 28.09.2015. | K23: 0 | L23: - | M23: 5995.02 | N23: =E23-F23+I23+K23-M23 -> 30.49 | O23: 30.49 | P23: -
A24: Межбюджетные трансферты, передаваемые бюджетам субъектоам РФ на содержание членов Совета Федерации и их помощников | B24: Совет Федерации Федерального Собрания РФ | C24: 20204002020000151 | D24: 9995142 | E24: 0 | F24: 0 | G24: - | H24: 738.88 | I24: 1031.83 | J24: платежные поручения: 363 от 05.02.2015, 492 от 10.02.2015, 533 от 12.02.2015, 75 от 17.02.2015,597 от 19.02.2015,417 от 17.03.2015, 616 от 15.04.2015,572 от 27.04.2015,500 от 18.05.2015,344 от 19.06.2015, 422 от 20.07.2015, 974 от 21.08.2015, 462 от 10.09.2015. | K24: 0 | L24: - | M24: 1031.83 | N24: =E24-F24+I24+K24-M24 -> 0 | O24: - | P24: -
A25: Департамент градостроительства Приморского края | E25: =E27 -> 523193.61 | F25: =F27 -> 523193.61 | H25: =H27 -> 0 | I25: =I27 -> 0 | K25: =K27 -> 523193.61 | M25: =M27 -> 3230 | N25: =E25-F25+I25+K25-M25 -> 519963.61
A26: в том числе по направлениям расходов
A27: Иные межбюджетные трансферты на реализацию мероприятий по созданию инновационных культурных центров в рамках подпрограммы "Искусство" государственной программы Российской Федерации "Развитие культуры и туризма" | B27: Министерство культуры Российской Федерации | C27: 2.0204054e+16 | D27: 1125149 | E27: 523193.61 | F27: 523193.61 | G27: Заявка на возврат от 26.01.2015 № 8 | J27: - | K27: 523193.61 | L27: - | M27: 3230 | N27: =E27-F27+I27+K27-M27 -> 519963.61 | O27: 523193.61 | P27: -
A28: Департамент культуры Приморского края | E28: =E30+E31+E32+E33+E34+E35 -> 17535.989 | F28: =F30+F31+F32+F33+F34+F35 -> 17535.989 | H28: =H30+H31+H32+H33+H34+H35 -> 2648.1798 | I28: =I30+I31+I32+I33+I34+I35 -> 532.3 | K28: =K30+K31+K32+K33+K34+K35 -> 17535.989 | M28: =M30+M31+M32+M33+M34+M35 -> 532.3 | N28: =N30+N31+N32+N33+N34+N35 -> 17535.989
A29: в том числе по направлениям расходов
A30: 1. Иные межбюджетные трансферты на государственную поддержку муниципальных учреждений культуры в рамках подпрограммы "Искусство" государственной программы Российской Федерации "Развитие культуры и туризма"на 2013-2020 годы | B30: Министерство культуры Российской Федерации | C30: 20204052020000151 | D30: 0595147 | E30: 0 | F30: 0 | G30: - | H30: 700 | I30: 0 | J30: - | K30: 0 | L30: - | M30: 0 | N30: =E30-F30+I30+K30-M30 -> 0 | O30: - | P30: -
A31: 2. Иные межбюджетные трансферты на государственную поддержку лучших работников муниципальных учреждений культуры, находящихся на территориях сельских поселений, в рамках подпрограммы "Искусство" государственной программы Российской Федерации "Развитие культуры и туризма"на 2013-2020 годы | B31: Министерство культуры Российской Федерации | C31: 20204053020000151 | D31: 0595148 | E31: 0 | F31: 0 | G31: - | H31: 400 | I31: 0 | J31: - | K31: 0 | L31: - | M31: 0 | N31: =E31-F31+I31+K31-M31 -> 0 | O31: - | P31: -
A32: 3. 1 Иные межбюджетные трансферты на подключение общедоступных библиотек Российской Федерации к информационно-телекоммуникационной сети Интернет и развитие системы библиотечного дела с учетом задачи расширения информационных технологий и оцифровки в рамках подпрограммы "Наследие" государственной программы Российской Федерации "Развитие культуры и туризма" | B32: Министерство культуры Российской Федерации | C32: 20204041020000151 | D32: 0595146 | E32: 1135.989 | F32: 1135.989 | G32: Платежное поручение № 87818 от 28.01.2015 | I32: 0 | J32: - | K32: 1135.989 | L32: Платежное поручение № 428 от 16.03.2015 | M32: 0 | N32: =E32-F32+I32+K32-M32 -> 1135.989 | O32: - | P32: -
A33: 3.2 Иные межбюджетные трансферты на подключение общедоступных библиотек Российской Федерации к информационно-телекоммуникационной сети Интернет и развитие системы библиотечного дела с учетом задачи расширения информационных технологий и оцифровки в рамках подпрограммы "Наследие" государственной программы Российской Федерации "Развитие культуры и туризма" | B33: Министерство культуры Российской Федерации | C33: 20204041020000151 | D33: 0595146 | E33: 0 | F33: 0 | H33: 950.5798 | I33: 0 | J33: - | K33: 0 | L33: - | M33: 0 | N33: =E33-F33+I33+K33-M33 -> 0 | O33: - | P33: -
A34: 4. Иные межбюджетные трансферты на государственную поддержку (грант) комплексного развития региональных и муниципальных учреждений культуры в рамках подпрограммы "Искусство" государственной программы Российской Федерации "Развитие культуры и туризма"на 2013-2020 годы | B34: Министерство культуры Российской Федерации | C34: 20204070020000151 | D34: 0595190 | E34: 16400 | F34: 16400 | G34: Платежное поручение № 87819 от 28.01.2015 | I34: 0 | J34: - | K34: 16400 | L34: Платежное поручение № 7 от 27.03.2015 | M34: 0 | N34: =E34-F34+I34+K34-M34 -> 16400 | O34: - | P34: -
A35: 5. Иные межбюджетные трансферты на комплектование книжных фондов библиотек муниципальных образований и государственных библиотек городов Москвы и Санкт-Петербурга в рамках подпрограммы Российской Федерации "Развитие культуры и туризма" на 2013-2020 годы | B35: Министерство культуры Российской Федерации | C35: 20204025020000151 | D35: 0595144 | E35: 0 | F35: 0 | G35: - | H35: 597.6 | I35: 532.3 | J35: №429665 от 28.09.2015 на сумму 461, 100 ; №443267 от 29.10.2015 на сумму 71,200 | K35: 0 | M35: 532.3 | N35: =E35-F35+I35+K35-M35 -> 0 | O35: - | P35: -
A36: Департамент труда и социального развития Приморского края | E36: =E38+E39 -> 8401.8553 | F36: =F38+F39 -> 9649.69 | H36: =H38+H39 -> 709496.81 | I36: =I38+I39 -> 932626.19 | K36: =K38+K39 -> 1332.58 | L36: =L38+L39 -> 0 | M36: =M38+M39 -> 932590.66 | N36: =N38+N39 -> 120.2723 | O36: =O38+O39 -> 0 | P36: =P38+P39 -> 0
A37: в том числе по направлениям расходов
A38: 1. Иные межбюджетные трансферты на выплату региональной доплаты к пенсии в рамках непрограммного направления деятельности "Развитие пенсионной системы" | B38: Министерство труда и социальной защиты Российской Федерации | C38: 76020204026020000151 | D38: 0395153 | E38: 8399.0353 | F38: 9646.87 | G38: п/п 99373 от 29.01.15, п/п 115862 от 30.01.15 | H38: 709496.81 | I38: 932626.19 | J38: п/п 64 от 26.02.15, 603 от 27.02.15, 996 от 02.03.15, 24 от 12.03.15, 314 от 13.03.15, 255 от 26.03.15, 451 от 10.04.15, 42 от 30.04.15, 850 от 08.05.15, 185, 186 и 187 от 12.05.15, 77 от 13.05.15, 295 от 14.05.15, 252 от 26.05.15, 8 от 29.05.15, 686 от 09.06.15, 523 от 10.06.15, 541 от 25.06.15, 62 от 30.06.15, 284 от 08.07.15, 338 от 10.07.15, 91 от 11.08.15, 519 от 31.08.15, 179 от 01.09.15, 996 от 08.09.15, 132 от 10.09.15, 321 от 11.09.15, 114 от 18.09.15 | K38: 1332.58 | M38: 932590.66 | N38: =E38-F38+I38+K38-M38 -> 120.2723
A39: 2. Иные межбюджетные трансферты для оказания адресной финансовой помощи гражданам Украины, имеющим статус беженца или получившим временное убежище на территории Российской Федерации и проживающим в жилых помещениях граждан Российской Федерации | B39: Федеральная миграционная служба | C39: 76020204080020000151 | D39: 0725225 | E39: 2.82 | F39: 2.82 | G39: п/п 115865 от 30.01.15 | H39: 0 | I39: 0 | J39: - | M39: 0 | N39: =E39-F39+I39+K39-M39 -> 0
A40: Департамент финансов Приморского края | E40: =E42+E43+E44 -> 6881.4883 | F40: =F42+F43+F44 -> 6881.4883 | H40: =H42+H43+H44 -> 203874.8 | I40: =I42+I43+I44 -> 203874.8 | K40: =K42+K43+K44 -> 3408.89 | M40: =M42+M43+M44 -> 52145.89 | N40: =N42+N43+N44 -> 155137.8
...
