Workbook

Sheet т. сети с изопроф
A1: Заявка на трубную продукцию и материалы для производства работ по | S1: Приложение 1
A2: ремонту тепловых сетей по результатам гидравлических испытаний, | S2: к распоряжению №212-р
A3: не учтённых в ремонтной программе 2015 года. | S3: от "15" 06.2015 г.
A5: Филиал | B5: Тепловой район | C5: МО | D5: Наименование ИТЭ | E5: Вид собственности (аренда/хозвед) | F5: Наименование участка | G5: Тепловые сети (магистральные, квартальные: системы отопления или ГВС) | H5: Тип прокладки (надземный, подземный) | I5: Данные по трубной продукции ГОСТ 10704-76 | S5: Данные по изоляционным материалвам | W5: Плани-руемый месяц (числом) произ-водства работ по изоляции
I6: труба | O6: отводы | R6: всего, тыс. руб.
I7: Диаметр трубы, мм | J7: Количество трубы, м | K7: Вес трубы, кг/1 мп | L7: Всего трубы, т | M7: Цена 1 т трубы, тыс. руб | N7: Итого труба, тыс. руб | O7: Кол-во отводов шт | P7: Цена 1 шт отвода, тыс. руб | Q7: Итого отводы, тыс. руб. | S7: Тип изоляции (ПСБ-С (стандарт)/ ПСБ-С (нестандарт)/ минвата) | T7: Толщина изо-ляции δ, мм | U7: Ед. изм | V7: Кол-во
A8: 1 | B8: 2 | D8: 3 | F8: 4 | G8: 5 | H8: 6 | I8: 7 | J8: 8 | O8: 9 | S8: 10 | T8: 11 | U8: 12 | V8: 13 | W8: 14
A9: Арсеньевский | B9: Чугуевский | C9: Чугуевский МР | D9: Котельная №1 | F9: ТК29 –ул.50лет Октября, 220 | G9: кварт. сети | H9: подземн | I9: 40х3 | J9: 40 | K9: 2.74 | L9: =ROUND(J9*K9/1000,2) -> 0.11 | M9: 55 | N9: =ROUND(L9*M9,2) -> 6.05 | O9: 0 | P9: 0.04158 | Q9: =ROUND(O9*P9,2) -> 0 | R9: =N9+Q9 -> 6.05 | S9: минвата | T9: 70 | U9: м3 | V9: 0.98 | W9: 8
A10: Арсеньевский | B10: Чугуевский | C10: Чугуевский МР | D10: Котельная №1 | F10: ТК42-ТК43, ул.50лет Октября | G10: кварт. сети | H10: подземн | I10: 40х3 | J10: 50 | K10: 2.74 | L10: =ROUND(J10*K10/1000,2) -> 0.14 | M10: 55 | N10: =ROUND(L10*M10,2) -> 7.7 | O10: 0 | P10: 0.04158 | Q10: =ROUND(O10*P10,2) -> 0 | R10: =N10+Q10 -> 7.7 | S10: минвата | T10: 70 | U10: м3 | V10: 1.26 | W10: 8
A11: Арсеньевский | B11: Чугуевский | C11: Чугуевский МР | D11: Котельная №1 | F11: ТК19-ул.Лазо,5 | G11: кварт. сети | H11: подземн | I11: 57х3 | J11: 32 | K11: 4 | L11: =ROUND(J11*K11/1000,2) -> 0.13 | M11: 55 | N11: =ROUND(L11*M11,2) -> 7.15 | O11: 0 | P11: 0.07277 | Q11: =ROUND(O11*P11,2) -> 0 | R11: =N11+Q11 -> 7.15 | S11: ПСБ-С не ст Ф237х127 | T11: 55 | U11: м | V11: 16 | W11: 8 | Z11: =J11-V11 -> 16
A12: Арсеньевский | B12: Чугуевский | C12: Чугуевский МР | D12: Котельная №2 | F12: ТК20-ул.Магистральная, 16 | G12: кварт. сети | H12: подземн | I12: 57х3 | J12: 200 | K12: 4 | L12: =ROUND(J12*K12/1000,2) -> 0.8 | M12: 55 | N12: =ROUND(L12*M12,2) -> 44 | O12: 0 | P12: 0.07277 | Q12: =ROUND(O12*P12,2) -> 0 | R12: =N12+Q12 -> 44 | S12: минвата | T12: 70 | U12: м3 | V12: 6.16 | W12: 8
A13: Арсеньевский | B13: Чугуевский | C13: Чугуевский МР | D13: Котельная №2 | F13: ТК22-ул.Строительная, 10 | G13: кварт. сети | H13: подземн | I13: 76х3,5 | J13: 30 | K13: 6.26 | L13: =ROUND(J13*K13/1000,2) -> 0.19 | M13: 55 | N13: =ROUND(L13*M13,2) -> 10.45 | O13: 0 | P13: 0.12359 | Q13: =ROUND(O13*P13,2) -> 0 | R13: =N13+Q13 -> 10.45 | S13: минвата | T13: 70 | U13: м3 | V13: 1.12 | W13: 8
A14: Арсеньевский | B14: Чугуевский | C14: Чугуевский МР | D14: Котельная №3 | F14: ТК16-ул.Чкалова, 17 | G14: кварт. сети | H14: подземн | I14: 40х3 | J14: 50 | K14: 2.74 | L14: =ROUND(J14*K14/1000,2) -> 0.14 | M14: 55 | N14: =ROUND(L14*M14,2) -> 7.7 | O14: 0 | P14: 0.04158 | Q14: =ROUND(O14*P14,2) -> 0 | R14: =N14+Q14 -> 7.7 | S14: минвата | T14: 70 | U14: м3 | V14: 1.26 | W14: 8
A15: Арсеньевский | B15: Чугуевский | C15: Чугуевский МР | D15: Котельная №7 | F15: ТК7-ул.Строительная, 2 | G15: кварт. сети | H15: подземн | I15: 57х3 | J15: 40 | K15: 4 | L15: =ROUND(J15*K15/1000,2) -> 0.16 | M15: 55 | N15: =ROUND(L15*M15,2) -> 8.8 | O15: 8 | P15: 0.07277 | Q15: =ROUND(O15*P15,2) -> 0.58 | R15: =N15+Q15 -> 9.38 | S15: минвата | T15: 70 | U15: м3 | V15: 1.26 | W15: 8
A16: Арсеньевский | B16: Яковлевский | C16: Яковлевский МР | D16: Котельная №1 | F16: Красноармейская 7 | G16: магистр. | H16: подземн | I16: 76х3,5 | J16: 39 | K16: 6.26 | L16: =ROUND(J16*K16/1000,2) -> 0.24 | M16: 55 | N16: =ROUND(L16*M16,2) -> 13.2 | O16: 8 | P16: 0.12359 | Q16: =ROUND(O16*P16,2) -> 0.99 | R16: =N16+Q16 -> 14.19 | S16: минвата | T16: 70 | U16: м3 | V16: 3.5 | W16: 9
A17: Арсеньевский | B17: Яковлевский | C17: Яковлевский МР | D17: Котельная №1 | F17: Первомайская 5 | G17: кварт. сети | H17: подземн | I17: 40х3 | J17: 20 | K17: 2.74 | L17: =ROUND(J17*K17/1000,2) -> 0.05 | M17: 55 | N17: =ROUND(L17*M17,2) -> 2.75 | O17: 8 | P17: 0.04158 | Q17: =ROUND(O17*P17,2) -> 0.33 | R17: =N17+Q17 -> 3.08 | S17: минвата | T17: 70 | U17: м3 | V17: 1.82 | W17: 8
A18: Арсеньевский | B18: Яковлевский | C18: Яковлевский МР | D18: Котельная №2 | F18: Советская-МПКХ | G18: магистр. | H18: подземн | I18: 57х3 | J18: 72 | K18: 4 | L18: =ROUND(J18*K18/1000,2) -> 0.29 | M18: 55 | N18: =ROUND(L18*M18,2) -> 15.95 | O18: 8 | P18: 0.07277 | Q18: =ROUND(O18*P18,2) -> 0.58 | R18: =N18+Q18 -> 16.53 | S18: минвата | T18: 70 | U18: м3 | V18: 6.16 | W18: 9
A19: Арсеньевский | B19: Яковлевский | C19: Яковлевский МР | D19: Котельная №4 | F19: Центральная 18 | G19: магистр. | H19: подземн | I19: 108х4 | J19: 100 | K19: 10.3 | L19: =ROUND(J19*K19/1000,2) -> 1.03 | M19: 55 | N19: =ROUND(L19*M19,2) -> 56.65 | O19: 10 | P19: 0.28991 | Q19: =ROUND(O19*P19,2) -> 2.9 | R19: =N19+Q19 -> 59.55 | S19: минвата | T19: 70 | U19: м3 | V19: 8.4 | W19: 10
A20: Арсеньевский | B20: Яковлевский | C20: Яковлевский МР | D20: Котельная №5 | F20: Почтовая,школа,СДК | G20: магистр. | H20: подземн | I20: 89х3,5 | J20: 50 | K20: 7.38 | L20: =ROUND(J20*K20/1000,2) -> 0.37 | M20: 55 | N20: =ROUND(L20*M20,2) -> 20.35 | O20: 8 | P20: 0.18711 | Q20: =ROUND(O20*P20,2) -> 1.5 | R20: =N20+Q20 -> 21.85 | S20: минвата | T20: 70 | U20: м3 | V20: 4.2 | W20: 11
A21: Арсеньевский | B21: Яковлевский | C21: Яковлевский МР | D21: Котельная №8 | F21: школа-жил.дом | G21: магистр. | H21: подземн | I21: 57х3 | J21: 50 | K21: 4 | L21: =ROUND(J21*K21/1000,2) -> 0.2 | M21: 55 | N21: =ROUND(L21*M21,2) -> 11 | O21: 6 | P21: 0.07277 | Q21: =ROUND(O21*P21,2) -> 0.44 | R21: =N21+Q21 -> 11.44 | S21: минвата | T21: 70 | U21: м3 | V21: 4.2 | W21: 12
A22: Арсеньевский | B22: Анучинский | C22: Анучинский МР | D22: Котельная №1 | F22: тк13-тк14 по ул. 100 лет Анучино | G22: кварт. сети | H22: подземн | I22: 108х4 | J22: 39 | K22: 10.3 | L22: =ROUND(J22*K22/1000,2) -> 0.4 | M22: 55 | N22: =ROUND(L22*M22,2) -> 22 | O22: 2 | P22: 0.28991 | Q22: =ROUND(O22*P22,2) -> 0.58 | R22: =N22+Q22 -> 22.58 | S22: ПСБ-С ст | T22: 50 | U22: м | V22: 39.2 | W22: 8 | Z22: =J22-V22 -> -0.2
A23: Арсеньевский | B23: Анучинский | C23: Анучинский МР | D23: Котельная №1 | F23: тк14-тк15 по ул. 100 лет Анучино | G23: кварт. сети | H23: подземн | I23: 108х4 | J23: 93 | K23: 10.3 | L23: =ROUND(J23*K23/1000,2) -> 0.96 | M23: 55 | N23: =ROUND(L23*M23,2) -> 52.8 | O23: 2 | P23: 0.28991 | Q23: =ROUND(O23*P23,2) -> 0.58 | R23: =N23+Q23 -> 53.38 | S23: ПСБ-С ст | T23: 50 | U23: м | V23: 92.8 | W23: 8 | Z23: =J23-V23 -> 0.2
A24: Арсеньевский | B24: Анучинский | C24: Анучинский МР | D24: Котельная №1 | F24: тк15-жд №4а по ул. 100 лет Анучино | G24: кварт. сети | H24: подземн | I24: 76х3,5 | J24: 158 | K24: 6.26 | L24: =ROUND(J24*K24/1000,2) -> 0.99 | M24: 55 | N24: =ROUND(L24*M24,2) -> 54.45 | O24: 2 | P24: 0.12359 | Q24: =ROUND(O24*P24,2) -> 0.25 | R24: =N24+Q24 -> 54.7 | S24: ПСБ-С ст | T24: 50 | U24: м | V24: 158 | W24: 8 | Z24: =J24-V24 -> 0
A25: Арсеньевский | B25: Анучинский | C25: Анучинский МР | D25: Котельная №1 | F25: тк15-жд №4а по ул. 100 лет Анучино | G25: кварт. сети | H25: подземн | I25: 76х3,5 | J25: 10 | K25: 6.26 | L25: =ROUND(J25*K25/1000,2) -> 0.06 | M25: 55 | N25: =ROUND(L25*M25,2) -> 3.3 | O25: 6 | P25: 0.12359 | Q25: =ROUND(O25*P25,2) -> 0.74 | R25: =N25+Q25 -> 4.04 | S25: ПСБ-С ст | T25: 50 | U25: м | V25: 10 | W25: 8 | Z25: =J25-V25 -> 0
A26: Арсеньевский | B26: Анучинский | C26: Анучинский МР | D26: Котельная №1 | F26: тк4-тк11 к администр. зданию | G26: кварт. сети | H26: подземн | I26: 159х4,5 | J26: 260 | K26: 17.1 | L26: =ROUND(J26*K26/1000,2) -> 4.45 | M26: 55 | N26: =ROUND(L26*M26,2) -> 244.75 | O26: 4 | P26: 0.89282 | Q26: =ROUND(O26*P26,2) -> 3.57 | R26: =N26+Q26 -> 248.32 | S26: ПСБ-С ст | T26: 50 | U26: м | V26: 260 | W26: 8 | Z26: =J26-V26 -> 0
A27: Арсеньевский | B27: Анучинский | C27: Анучинский МР | D27: Котельная №1 | F27: тк13-тк20 по ул. Банивура | G27: кварт. сети | H27: подземн | I27: 133х4 | J27: 360 | K27: 12.7 | L27: =ROUND(J27*K27/1000,2) -> 4.57 | M27: 55 | N27: =ROUND(L27*M27,2) -> 251.35 | O27: 6 | P27: 0.54516 | Q27: =ROUND(O27*P27,2) -> 3.27 | R27: =N27+Q27 -> 254.62 | S27: ПСБ-С ст | T27: 50 | U27: м | V27: 360 | W27: 8 | Z27: =J27-V27 -> 0
A28: Арсеньевский | B28: Анучинский | C28: Анучинский МР | D28: Котельная №4 | F28: тк8-тк9 по ул. Центральной | G28: кварт. сети | H28: подземн | I28: 89х3,5 | J28: 40 | K28: 7.38 | L28: =ROUND(J28*K28/1000,2) -> 0.3 | M28: 55 | N28: =ROUND(L28*M28,2) -> 16.5 | O28: 2 | P28: 0.18711 | Q28: =ROUND(O28*P28,2) -> 0.37 | R28: =N28+Q28 -> 16.87 | S28: ПСБ-С ст | T28: 50 | U28: м | V28: 40 | W28: 9 | Z28: =J28-V28 -> 0
A29: Арсеньевский | B29: Анучинский | C29: Анучинский МР | D29: Котельная №5 | F29: гараж-магазин | G29: кварт. сети | H29: подземн | I29: 48х3 | J29: 90 | K29: 3.33 | L29: =ROUND(J29*K29/1000,2) -> 0.3 | M29: 55 | N29: =ROUND(L29*M29,2) -> 16.5 | O29: 4 | P29: 0.05429 | Q29: =ROUND(O29*P29,2) -> 0.22 | R29: =N29+Q29 -> 16.72 | S29: ПСБ-С ст | T29: 50 | U29: м | V29: 90 | W29: 9 | Z29: =J29-V29 -> 0
A30: Артёмовский | B30: Артемовский | C30: Артемовский ГО | D30: Котельная Амурская | F30: тк5-тк13, ул.Донбасская | G30: кварт. сети | H30: подземн | I30: 108х4 | J30: 126 | K30: 10.3 | L30: =ROUND(J30*K30/1000,2) -> 1.3 | M30: 55 | N30: =ROUND(L30*M30,2) -> 71.5 | O30: 6 | P30: 0.28991 | Q30: =ROUND(O30*P30,2) -> 1.74 | R30: =N30+Q30 -> 73.24 | S30: ПСБ-С ст | T30: 55 | U30: м | V30: 126 | W30: 8 | Z30: =J30-V30 -> 0
A31: Артёмовский | B31: Артемовский | C31: Артемовский ГО | D31: Котельная №4 | F31: тк5-жд №66, ул. Ангарская | G31: кварт. сети | H31: подземн | I31: 108х4 | J31: 60 | K31: 10.3 | L31: =ROUND(J31*K31/1000,2) -> 0.62 | M31: 55 | N31: =ROUND(L31*M31,2) -> 34.1 | O31: 6 | P31: 0.28991 | Q31: =ROUND(O31*P31,2) -> 1.74 | R31: =N31+Q31 -> 35.84 | S31: ПСБ-С ст | T31: 55 | U31: м | V31: 60 | W31: 8 | X31: 186 | Z31: =J31-V31 -> 0
A32: Артёмовский | B32: Хасанский | C32: Хасанский МР | D32: Славянка- Востоктепло | F32: ТК31,ул.Молодёжная3 | G32: магистр. | H32: подземн | I32: 273х7 | J32: 130 | K32: 45.9 | L32: =ROUND(J32*K32/1000,2) -> 5.97 | M32: 55 | N32: =ROUND(L32*M32,2) -> 328.35 | O32: 12 | P32: 4.149 | Q32: =ROUND(O32*P32,2) -> 49.79 | R32: =N32+Q32 -> 378.14 | S32: ПСБ-С ст | T32: 65 | U32: м | V32: 130 | W32: 8 | X32: В целом по поселению 70-80% сетей имеют высокий коррозионный износ (цифры озвучиваются регулярно на всех штабах и совещаниях при вице-губернаторе). Максимально исключили те участки где имеется возможность провести аварийный ремонт в отопительный период, всё что выдержит хотя бы один сезон . | Z32: =J32-V32 -> 0
A33: Артёмовский | B33: Хасанский | C33: Хасанский МР | D33: Славянка- Востоктепло | F33: ул.Блюхера №16 | G33: магистр. | H33: подземн | I33: 219х6 | J33: 120 | K33: 31.5 | L33: =ROUND(J33*K33/1000,2) -> 3.78 | M33: 55 | N33: =ROUND(L33*M33,2) -> 207.9 | O33: 12 | P33: 2.787 | Q33: =ROUND(O33*P33,2) -> 33.44 | R33: =N33+Q33 -> 241.34 | S33: ПСБ-С ст | T33: 65 | U33: м | V33: 120 | W33: 8 | Z33: =J33-V33 -> 0
A34: Артёмовский | B34: Хасанский | C34: Хасанский МР | D34: Славянка- Востоктепло | F34: ТК22а-ТК22б | G34: магистр. | H34: подземн | I34: 159х4,5 | J34: 80 | K34: 17.1 | L34: =ROUND(J34*K34/1000,2) -> 1.37 | M34: 55 | N34: =ROUND(L34*M34,2) -> 75.35 | O34: 8 | P34: 0.89282 | Q34: =ROUND(O34*P34,2) -> 7.14 | R34: =N34+Q34 -> 82.49 | S34: ПСБ-С ст | T34: 60 | U34: м | V34: 80 | W34: 8 | Z34: =J34-V34 -> 0
A35: Артёмовский | B35: Хасанский | C35: Хасанский МР | D35: Славянка- Востоктепло | F35: ул.Молодёжная №2 | G35: магистр. | H35: транзит | I35: 159х4,5 | J35: 60 | K35: 17.1 | L35: =ROUND(J35*K35/1000,2) -> 1.03 | M35: 55 | N35: =ROUND(L35*M35,2) -> 56.65 | O35: 16 | P35: 0.89282 | Q35: =ROUND(O35*P35,2) -> 14.29 | R35: =N35+Q35 -> 70.94 | S35: ПСБ-С ст | T35: 60 | U35: м | V35: 60 | W35: 8 | Z35: =J35-V35 -> 0
A36: Артёмовский | B36: Хасанский | C36: Хасанский МР | D36: Славянка- Востоктепло | F36: ул.50Лет Октября №14-№16 | G36: магистр. | H36: подземн | I36: 133х4 | J36: 180 | K36: 12.7 | L36: =ROUND(J36*K36/1000,2) -> 2.29 | M36: 55 | N36: =ROUND(L36*M36,2) -> 125.95 | O36: 16 | P36: 0.54516 | Q36: =ROUND(O36*P36,2) -> 8.72 | R36: =N36+Q36 -> 134.67 | S36: ПСБ-С ст | T36: 55 | U36: м | V36: 180 | W36: 8 | Z36: =J36-V36 -> 0
A37: Артёмовский | B37: Хасанский | C37: Хасанский МР | D37: Славянка- Востоктепло | F37: у.л. Хасана №23-№25 | G37: магистр. | H37: подземн | I37: 108х4 | J37: 40 | K37: 10.3 | L37: =ROUND(J37*K37/1000,2) -> 0.41 | M37: 55 | N37: =ROUND(L37*M37,2) -> 22.55 | O37: 6 | P37: 0.28991 | Q37: =ROUND(O37*P37,2) -> 1.74 | R37: =N37+Q37 -> 24.29 | S37: ПСБ-С ст | T37: 55 | U37: м | V37: 40 | W37: 8 | Z37: =J37-V37 -> 0
A38: Артёмовский | B38: Хасанский | C38: Хасанский МР | D38: Зарубино Котельная №2 | F38: ТК9-ТК10,ул.Нагорная | G38: магистр. | H38: подземн | I38: 159х4,5 | J38: 20 | K38: 17.1 | L38: =ROUND(J38*K38/1000,2) -> 0.34 | M38: 55 | N38: =ROUND(L38*M38,2) -> 18.7 | O38: 6 | P38: 0.89282 | Q38: =ROUND(O38*P38,2) -> 5.36 | R38: =N38+Q38 -> 24.06 | S38: ПСБ-С ст | T38: 60 | U38: м | V38: 20 | W38: 8 | Z38: =J38-V38 -> 0
A39: Артёмовский | B39: Хасанский | C39: Хасанский МР | D39: Зарубино Котельная №2 | F39: ул.Нагорная №3 | G39: магистр. | H39: подземн | I39: 108х4 | J39: 30 | K39: 10.3 | L39: =ROUND(J39*K39/1000,2) -> 0.31 | M39: 55 | N39: =ROUND(L39*M39,2) -> 17.05 | O39: 4 | P39: 0.28991 | Q39: =ROUND(O39*P39,2) -> 1.16 | R39: =N39+Q39 -> 18.21 | S39: ПСБ-С ст | T39: 55 | U39: м | V39: 30 | W39: 8 | Z39: =J39-V39 -> 0
A40: Артёмовский | B40: Хасанский | C40: Хасанский МР | D40: Посьет Котельная №2 | F40: ул.Тупик-Портовый | G40: кварт. сети | H40: подземн | I40: 89х3,5 | J40: 30 | K40: 7.38 | L40: =ROUND(J40*K40/1000,2) -> 0.22 | M40: 55 | N40: =ROUND(L40*M40,2) -> 12.1 | O40: 8 | P40: 0.18711 | Q40: =ROUND(O40*P40,2) -> 1.5 | R40: =N40+Q40 -> 13.6 | S40: ПСБ-С ст | T40: 50 | U40: м | V40: 30 | W40: 7 | Z40: =J40-V40 -> 0
A41: Артёмовский | B41: Хасанский | C41: Хасанский МР | D41: Краскино Ц.Котельная | F41: от Котельной | G41: магистр. | H41: подземн | I41: 159х4,5 | J41: 20 | K41: 17.1 | L41: =ROUND(J41*K41/1000,2) -> 0.34 | M41: 55 | N41: =ROUND(L41*M41,2) -> 18.7 | O41: 2 | P41: 0.89282 | Q41: =ROUND(O41*P41,2) -> 1.79 | R41: =N41+Q41 -> 20.49 | S41: ПСБ-С ст | T41: 60 | U41: м | V41: 20 | W41: 8 | X41: Хозяйство принято от военных. Состояние сетей неудовлетворительное. Максимально исключили всё, где можно провести аварийный ремонт и участки которые пройдут сезон. | Z41: =J41-V41 -> 0
A42: Артёмовский | B42: Хасанский | C42: Хасанский МР | D42: Краскино Ц.Котельная | F42: ТК10-ТК12,ул.Ленина №24 | G42: магистр. | H42: подземн | I42: 108х4 | J42: 120 | K42: 10.3 | L42: =ROUND(J42*K42/1000,2) -> 1.24 | M42: 55 | N42: =ROUND(L42*M42,2) -> 68.2 | O42: 8 | P42: 0.28991 | Q42: =ROUND(O42*P42,2) -> 2.32 | R42: =N42+Q42 -> 70.52 | S42: ПСБ-С ст | T42: 55 | U42: м | V42: 120 | W42: 8 | Z42: =J42-V42 -> 0
A43: Артёмовский | B43: Хасанский | C43: Хасанский МР | D43: Краскино Котельная №452 | F43: ул.Строительная №5 | G43: кварт. сети | H43: подземн | I43: 57х3 | J43: 140 | K43: 4 | L43: =ROUND(J43*K43/1000,2) -> 0.56 | M43: 55 | N43: =ROUND(L43*M43,2) -> 30.8 | O43: 4 | P43: 0.07277 | Q43: =ROUND(O43*P43,2) -> 0.29 | R43: =N43+Q43 -> 31.09 | S43: ПСБ-С ст | T43: 45 | U43: м | V43: 140 | W43: 8 | Z43: =J43-V43 -> 0
A44: Артёмовский | B44: Хасанский | C44: Хасанский МР | D44: Краскино Котельная №452 | F44: ТК2-ТК3.ул.Стадионная | G44: магистр. | H44: подземн | I44: 159х4,5 | J44: 100 | K44: 17.1 | L44: =ROUND(J44*K44/1000,2) -> 1.71 | M44: 55 | N44: =ROUND(L44*M44,2) -> 94.05 | O44: 6 | P44: 0.89282 | Q44: =ROUND(O44*P44,2) -> 5.36 | R44: =N44+Q44 -> 99.41 | S44: ПСБ-С ст | T44: 60 | U44: м | V44: 100 | W44: 8 | Z44: =J44-V44 -> 0
A45: Артёмовский | B45: Хасанский | C45: Хасанский МР | D45: Занадворовка Кот. №238 | F45: ул.Гарнизонная | G45: кварт. сети | H45: подземн | I45: 76х3,5 | J45: 60 | K45: 6.26 | L45: =ROUND(J45*K45/1000,2) -> 0.38 | M45: 55 | N45: =ROUND(L45*M45,2) -> 20.9 | O45: 4 | P45: 0.12359 | Q45: =ROUND(O45*P45,2) -> 0.49 | R45: =N45+Q45 -> 21.39 | S45: ПСБ-С ст | T45: 45 | U45: м | V45: 60 | W45: 8 | Z45: =J45-V45 -> 0
A46: Артёмовский | B46: Хасанский | C46: Хасанский МР | D46: Хасан Котельная №1 | F46: ул. Мошляка | G46: магистр. отопление | H46: подземн | I46: 219х6 | J46: 200 | K46: 31.5 | L46: =ROUND(J46*K46/1000,2) -> 6.3 | M46: 55 | N46: =ROUND(L46*M46,2) -> 346.5 | O46: 8 | P46: 2.787 | Q46: =ROUND(O46*P46,2) -> 22.3 | R46: =N46+Q46 -> 368.8 | S46: ПСБ-С ст | T46: 65 | U46: м | V46: 200 | W46: 8 | Z46: =J46-V46 -> 0
A47: Артёмовский | B47: Шкотовский | C47: Шкотовский МР | D47: Котельная №165 | F47: ТК №9 до д.31 ул.Авиаторов | G47: кварт. сети | H47: подземн | I47: 108х4 | J47: 100 | K47: 10.3 | L47: =ROUND(J47*K47/1000,2) -> 1.03 | M47: 55 | N47: =ROUND(L47*M47,2) -> 56.65 | O47: 4 | P47: 0.28991 | Q47: =ROUND(O47*P47,2) -> 1.16 | R47: =N47+Q47 -> 57.81 | S47: ПСБ-С ст | T47: 55 | U47: м | V47: 100 | W47: 8 | Z47: =J47-V47 -> 0
A48: Артёмовский | B48: Шкотовский | C48: Шкотовский МР | D48: Котельная №113 | F48: ТК8 до ТК11 | G48: магистр. | H48: подземн | I48: 219х6 | J48: 92 | K48: 31.5 | L48: =ROUND(J48*K48/1000,2) -> 2.9 | M48: 55 | N48: =ROUND(L48*M48,2) -> 159.5 | O48: 4 | P48: 2.787 | Q48: =ROUND(O48*P48,2) -> 11.15 | R48: =N48+Q48 -> 170.65 | S48: ПСБ-С ст | T48: 65 | U48: м | V48: 92 | W48: 7 | Z48: =J48-V48 -> 0
A49: Артёмовский | B49: Шкотовский | C49: Шкотовский МР | D49: Котельная №113 | F49: ТК11 до ТК12 | G49: магистр. | H49: подземн | I49: 159х4,5 | J49: 128 | K49: 17.1 | L49: =ROUND(J49*K49/1000,2) -> 2.19 | M49: 55 | N49: =ROUND(L49*M49,2) -> 120.45 | O49: 4 | P49: 0.89282 | Q49: =ROUND(O49*P49,2) -> 3.57 | R49: =N49+Q49 -> 124.02 | S49: ПСБ-С ст | T49: 60 | U49: м | V49: 128 | W49: 7 | Z49: =J49-V49 -> 0
A50: Артёмовский | B50: Шкотовский | C50: Шкотовский МР | D50: Котельная №113 | F50: ТК12 до ТК15 | G50: кварт. сети | H50: подземн | I50: 108х4 | J50: 154 | K50: 10.3 | L50: =ROUND(J50*K50/1000,2) -> 1.59 | M50: 55 | N50: =ROUND(L50*M50,2) -> 87.45 | O50: 4 | P50: 0.28991 | Q50: =ROUND(O50*P50,2) -> 1.16 | R50: =N50+Q50 -> 88.61 | S50: ПСБ-С ст | T50: 55 | U50: м | V50: 154 | W50: 7 | Z50: =J50-V50 -> 0
A51: Артёмовский | B51: Шкотовский | C51: Шкотовский МР | D51: Котельная №113 | F51: ТК11 до ТК17 | G51: кварт. сети | H51: подземн | I51: 159х4,5 | J51: 130 | K51: 17.1 | L51: =ROUND(J51*K51/1000,2) -> 2.22 | M51: 55 | N51: =ROUND(L51*M51,2) -> 122.1 | O51: 2 | P51: 0.89282 | Q51: =ROUND(O51*P51,2) -> 1.79 | R51: =N51+Q51 -> 123.89 | S51: ПСБ-С ст | T51: 60 | U51: м | V51: 130 | W51: 7 | Z51: =J51-V51 -> 0
A52: Артёмовский | B52: Шкотовский | C52: Шкотовский МР | D52: Котельная №113 | F52: ТК23 до ТУ1 | G52: кварт. сети | H52: подземн | I52: 76х3,5 | J52: 166 | K52: 6.26 | L52: =ROUND(J52*K52/1000,2) -> 1.04 | M52: 55 | N52: =ROUND(L52*M52,2) -> 57.2 | O52: 2 | P52: 0.12359 | Q52: =ROUND(O52*P52,2) -> 0.25 | R52: =N52+Q52 -> 57.45 | S52: ПСБ-С ст | T52: 45 | U52: м | V52: 166 | W52: 7 | Z52: =J52-V52 -> 0
A53: Артёмовский | B53: Шкотовский | C53: Шкотовский МР | D53: Котельная гарнизона | F53: ул.Гарнизонная 354 | G53: кварт. сети | H53: подземн | I53: 108х4 | J53: 130 | K53: 10.3 | L53: =ROUND(J53*K53/1000,2) -> 1.34 | M53: 55 | N53: =ROUND(L53*M53,2) -> 73.7 | O53: 10 | P53: 0.28991 | Q53: =ROUND(O53*P53,2) -> 2.9 | R53: =N53+Q53 -> 76.6 | S53: ПСБ-С ст | T53: 55 | U53: м | V53: 130 | W53: 8 | Z53: =J53-V53 -> 0
... A55: Артёмовский | B55: Шкотовский | C55: Шкотовский МР | D55: Котельная №27 | F55: ТК2 до жд.№35 | G55: кварт. сети | H55: подземн | I55: 48х3 | J55: 36 | K55: 3.33 | L55: =ROUND(J55*K55/1000,2) -> 0.12 | M55: 55 | N55: =ROUND(L55*M55,2) -> 6.6 | O55: 2 | P55: 0.05429 | Q55: =ROUND(O55*P55,2) -> 0.11 | R55: =N55+Q55 -> 6.71 | S55: ПСБ-С ст | T55: 40 | U55: м | V55: 36 | W55: 8 | Z55: =J55-V55 -> 0
A56: Артёмовский | B56: Шкотовский | C56: Шкотовский МР | D56: Смоляниново-1 | F56: ТК4 до ТК9 | G56: магистр. | H56: подземн | I56: 159х4,5 | J56: 540 | K56: 17.1 | L56: =ROUND(J56*K56/1000,2) -> 9.23 | M56: 55 | N56: =ROUND(L56*M56,2) -> 507.65 | O56: 8 | P56: 0.89282 | Q56: =ROUND(O56*P56,2) -> 7.14 | R56: =N56+Q56 -> 514.79 | S56: ПСБ-С ст | T56: 60 | U56: м | V56: 540 | W56: 7 | X56: Ранее объекты теплоснабжения и сети пос "Смоляниново" эксплуатировались УК "Партнеры". Приняты в крайне неудовлетворительном состоянии. Практически все сети РЕАЛЬНО на критике, по факту эксплуатации периодические порывы, утечки. Из таблицы исключили все что выдержит хотя бы один сезон. | Z56: =J56-V56 -> 0
A57: Артёмовский | B57: Шкотовский | C57: Шкотовский МР | D57: Т/сеть от кот депо | F57: ТК18 до ТК19 | G57: кварт. сети ГВС | H57: подземн | I57: 108х4 | J57: 100 | K57: 10.3 | L57: =ROUND(J57*K57/1000,2) -> 1.03 | M57: 55 | N57: =ROUND(L57*M57,2) -> 56.65 | O57: 4 | P57: 0.28991 | Q57: =ROUND(O57*P57,2) -> 1.16 | R57: =N57+Q57 -> 57.81 | S57: минвата | T57: 70 | U57: м3 | V57: 3.5 | W57: 7
A58: Артёмовский | B58: Шкотовский | C58: Шкотовский МР | D58: Т/сеть от кот депо | F58: ТК18 до ТК19 | G58: кварт. сети | H58: подземн | I58: 159х4,5 | J58: 100 | K58: 17.1 | L58: =ROUND(J58*K58/1000,2) -> 1.71 | M58: 55 | N58: =ROUND(L58*M58,2) -> 94.05 | O58: 4 | P58: 0.89282 | Q58: =ROUND(O58*P58,2) -> 3.57 | R58: =N58+Q58 -> 97.62 | S58: минвата | T58: 70 | U58: м3 | V58: 4.62 | W58: 7
A59: Артёмовский | B59: Шкотовский | C59: Шкотовский МР | D59: Т/сеть от кот депо | F59: ТК19 до ТК 20 | G59: кварт. сети ГВС | H59: подземн | I59: 108х4 | J59: 156 | K59: 10.3 | L59: =ROUND(J59*K59/1000,2) -> 1.61 | M59: 55 | N59: =ROUND(L59*M59,2) -> 88.55 | O59: 8 | P59: 0.28991 | Q59: =ROUND(O59*P59,2) -> 2.32 | R59: =N59+Q59 -> 90.87 | S59: минвата | T59: 70 | U59: м3 | V59: 5.46 | W59: 8
A60: Артёмовский | B60: Шкотовский | C60: Шкотовский МР | D60: Т/сеть от кот депо | F60: ТК19 до ТК 20 | G60: кварт. сети | H60: подземн | I60: 159х4,5 | J60: 156 | K60: 17.1 | L60: =ROUND(J60*K60/1000,2) -> 2.67 | M60: 55 | N60: =ROUND(L60*M60,2) -> 146.85 | O60: 8 | P60: 0.89282 | Q60: =ROUND(O60*P60,2) -> 7.14 | R60: =N60+Q60 -> 153.99 | S60: минвата | T60: 70 | U60: м3 | V60: 7.14 | W60: 8
A61: Артёмовский | B61: Шкотовский | C61: Шкотовский МР | D61: Т/сеть от кот депо | F61: ТК 20 до ТК 21 | G61: кварт. сети ГВС | H61: подземн | I61: 108х4 | J61: 50 | K61: 10.3 | L61: =ROUND(J61*K61/1000,2) -> 0.52 | M61: 55 | N61: =ROUND(L61*M61,2) -> 28.6 | O61: 8 | P61: 0.28991 | Q61: =ROUND(O61*P61,2) -> 2.32 | R61: =N61+Q61 -> 30.92 | S61: минвата | T61: 70 | U61: м3 | V61: 1.82 | W61: 8
A62: Артёмовский | B62: Шкотовский | C62: Шкотовский МР | D62: Т/сеть от кот депо | F62: ТК 20 до ТК 21 | G62: кварт. сети | H62: подземн | I62: 159х4,5 | J62: 50 | K62: 17.1 | L62: =ROUND(J62*K62/1000,2) -> 0.86 | M62: 55 | N62: =ROUND(L62*M62,2) -> 47.3 | O62: 8 | P62: 0.89282 | Q62: =ROUND(O62*P62,2) -> 7.14 | R62: =N62+Q62 -> 54.44 | S62: минвата | T62: 70 | U62: м3 | V62: 2.38 | W62: 8
A63: Артёмовский | B63: Шкотовский | C63: Шкотовский МР | D63: Т/сеть от кот депо | F63: ТК21 до ТК 22 | G63: кварт. сети ГВС | H63: подземн | I63: 108х4 | J63: 52 | K63: 10.3 | L63: =ROUND(J63*K63/1000,2) -> 0.54 | M63: 55 | N63: =ROUND(L63*M63,2) -> 29.7 | O63: 4 | P63: 0.28991 | Q63: =ROUND(O63*P63,2) -> 1.16 | R63: =N63+Q63 -> 30.86 | S63: минвата | T63: 70 | U63: м3 | V63: 1.82 | W63: 8
A64: Артёмовский | B64: Шкотовский | C64: Шкотовский МР | D64: Т/сеть от кот депо | F64: ТК21 до ТК 22 | G64: кварт. сети | H64: подземн | I64: 159х4,5 | J64: 52 | K64: 17.1 | L64: =ROUND(J64*K64/1000,2) -> 0.89 | M64: 55 | N64: =ROUND(L64*M64,2) -> 48.95 | O64: 4 | P64: 0.89282 | Q64: =ROUND(O64*P64,2) -> 3.57 | R64: =N64+Q64 -> 52.52 | S64: минвата | T64: 70 | U64: м3 | V64: 2.38 | W64: 8
A65: Артёмовский | B65: Шкотовский | C65: Шкотовский МР | D65: Т/сеть от кот депо | F65: ТК 15 до ТК 17 | G65: кварт. сети | H65: подземн | I65: 133х4 | J65: 266 | K65: 12.7 | L65: =ROUND(J65*K65/1000,2) -> 3.38 | M65: 55 | N65: =ROUND(L65*M65,2) -> 185.9 | O65: 8 | P65: 0.54516 | Q65: =ROUND(O65*P65,2) -> 4.36 | R65: =N65+Q65 -> 190.26 | S65: минвата | T65: 70 | U65: м3 | V65: 10.78 | W65: 9
A66: Артёмовский | B66: Шкотовский | C66: Шкотовский МР | D66: Т/сеть от кот депо | F66: ТК 15 до ТК 17 | G66: кварт. сети ГВС | H66: подземн | I66: 108х4 | J66: 133 | K66: 10.3 | L66: =ROUND(J66*K66/1000,2) -> 1.37 | M66: 55 | N66: =ROUND(L66*M66,2) -> 75.35 | O66: 4 | P66: 0.28991 | Q66: =ROUND(O66*P66,2) -> 1.16 | R66: =N66+Q66 -> 76.51 | S66: минвата | T66: 70 | U66: м3 | V66: 4.62 | W66: 9
A67: Артёмовский | B67: Шкотовский | C67: Шкотовский МР | D67: Т/сеть от кот депо | F67: ТК 15 до ТК 17 | G67: кварт. сети ГВС | H67: подземн | I67: 76х3,5 | J67: 133 | K67: 6.26 | L67: =ROUND(J67*K67/1000,2) -> 0.83 | M67: 55 | N67: =ROUND(L67*M67,2) -> 45.65 | O67: 4 | P67: 0.12359 | Q67: =ROUND(O67*P67,2) -> 0.49 | R67: =N67+Q67 -> 46.14 | S67: минвата | T67: 70 | U67: м3 | V67: 3.78 | W67: 9
A68: Артёмовский | B68: Надеждинский | C68: Надеждинский МР | D68: Котельная №26 | F68: ТК1 до ввод в здание ДК | G68: кварт. сети | H68: подземн | I68: 57х3 | J68: 30 | K68: 4 | L68: =ROUND(J68*K68/1000,2) -> 0.12 | M68: 55 | N68: =ROUND(L68*M68,2) -> 6.6 | O68: 2 | P68: 0.07277 | Q68: =ROUND(O68*P68,2) -> 0.15 | R68: =N68+Q68 -> 6.75 | S68: ПСБ-С ст | T68: 55 | U68: м | V68: 30 | W68: 8 | Z68: =J68-V68 -> 0
A69: Артёмовский | B69: Надеждинский | C69: Надеждинский МР | D69: Котельная №21 | F69: дом №15, ул. Гастело | G69: кварт. сети | H69: транзит | I69: 89х3,5 | J69: 50 | K69: 7.38 | L69: =ROUND(J69*K69/1000,2) -> 0.37 | M69: 55 | N69: =ROUND(L69*M69,2) -> 20.35 | O69: 4 | P69: 0.18711 | Q69: =ROUND(O69*P69,2) -> 0.75 | R69: =N69+Q69 -> 21.1 | S69: ПСБ-С ст | T69: 55 | U69: м | V69: 50 | W69: 8 | Z69: =J69-V69 -> 0
A70: Артёмовский | B70: Надеждинский | C70: Надеждинский МР | D70: Котельная №10 | F70: ТК13-ввод в дом Лесная 2 | G70: кварт. сети | H70: подземн | I70: 57х3 | J70: 28 | K70: 4 | L70: =ROUND(J70*K70/1000,2) -> 0.11 | M70: 55 | N70: =ROUND(L70*M70,2) -> 6.05 | O70: 8 | P70: 0.07277 | Q70: =ROUND(O70*P70,2) -> 0.58 | R70: =N70+Q70 -> 6.63 | S70: ПСБ-С ст | T70: 55 | U70: м | V70: 28 | W70: 8 | Z70: =J70-V70 -> 0
A71: Артёмовский | B71: Надеждинский | C71: Надеждинский МР | D71: Котельная №12 | F71: УТ9-ввод в дом ул.Центральня 12 | G71: кварт. сети | H71: подземн | I71: 57х3 | J71: 76 | K71: 4 | L71: =ROUND(J71*K71/1000,2) -> 0.3 | M71: 55 | N71: =ROUND(L71*M71,2) -> 16.5 | O71: 12 | P71: 0.07277 | Q71: =ROUND(O71*P71,2) -> 0.87 | R71: =N71+Q71 -> 17.37 | S71: ПСБ-С ст | T71: 55 | U71: м | V71: 76 | W71: 8 | Z71: =J71-V71 -> 0
A72: Артёмовский | B72: Надеждинский | C72: Надеждинский МР | D72: Котельная №13 | F72: от ввод в дом ул. Зеленая7 до ввод в дом Зеленя 5 | G72: кварт. сети | H72: транзит | I72: 108х4 | J72: 80 | K72: 10.3 | L72: =ROUND(J72*K72/1000,2) -> 0.82 | M72: 55 | N72: =ROUND(L72*M72,2) -> 45.1 | O72: 2 | P72: 0.28991 | Q72: =ROUND(O72*P72,2) -> 0.58 | R72: =N72+Q72 -> 45.68 | S72: ПСБ-С ст | T72: 55 | U72: м | V72: 80 | W72: 8 | Z72: =J72-V72 -> 0
A73: Артёмовский | B73: Надеждинский | C73: Надеждинский МР | D73: Котельная №13 | F73: от ввод в дом ул. Зеленая7 до ввод в дом Зеленя 6 | G73: кварт. сети | H73: транзит | I73: 57х3 | J73: 120 | K73: 4 | L73: =ROUND(J73*K73/1000,2) -> 0.48 | M73: 55 | N73: =ROUND(L73*M73,2) -> 26.4 | O73: 8 | P73: 0.07277 | Q73: =ROUND(O73*P73,2) -> 0.58 | R73: =N73+Q73 -> 26.98 | S73: ПСБ-С ст | T73: 55 | U73: м | V73: 120 | W73: 8 | Z73: =J73-V73 -> 0
A74: Артёмовский | B74: Надеждинский | C74: Надеждинский МР | D74: Котельная №24 | F74: ввод в дом ул.Первомайская 25,27,29,31,31А,37,41 | G74: кварт. сети | H74: подземн | I74: 40х3 | J74: 140 | K74: 2.74 | L74: =ROUND(J74*K74/1000,2) -> 0.38 | M74: 55 | N74: =ROUND(L74*M74,2) -> 20.9 | O74: 35 | P74: 0.04158 | Q74: =ROUND(O74*P74,2) -> 1.46 | R74: =N74+Q74 -> 22.36 | S74: ПСБ-С ст | T74: 55 | U74: м | V74: 140 | W74: 9 | Z74: =J74-V74 -> 0
A75: Артёмовский | B75: Надеждинский | C75: Надеждинский МР | D75: Котельная №24 | F75: ввод в дом ул.Интернациональная 22,24, | G75: кварт. сети | H75: подземн | I75: 57х3 | J75: 40 | K75: 4 | L75: =ROUND(J75*K75/1000,2) -> 0.16 | M75: 55 | N75: =ROUND(L75*M75,2) -> 8.8 | O75: 16 | P75: 0.07277 | Q75: =ROUND(O75*P75,2) -> 1.16 | R75: =N75+Q75 -> 9.96 | S75: ПСБ-С ст | T75: 55 | U75: м | V75: 40 | W75: 9 | Z75: =J75-V75 -> 0
A76: Артёмовский | B76: Надеждинский | C76: Надеждинский МР | D76: Котельная №25 | F76: УТ8 до ТК6 | G76: кварт. сети | H76: подземн | I76: 57х3 | J76: 90 | K76: 4 | L76: =ROUND(J76*K76/1000,2) -> 0.36 | M76: 55 | N76: =ROUND(L76*M76,2) -> 19.8 | O76: 6 | P76: 0.07277 | Q76: =ROUND(O76*P76,2) -> 0.44 | R76: =N76+Q76 -> 20.24 | S76: ПСБ-С ст | T76: 55 | U76: м | V76: 90 | W76: 9 | Z76: =J76-V76 -> 0
A77: Горноключевской | B77: Горноключевской | C77: Кировский МР | D77: Котельная №1 п.Горные Ключи | F77: ТК№35-ТК№36 КСШ | G77: кварт. сети | H77: подземн | I77: 108х4 | J77: 50 | K77: 10.3 | L77: =ROUND(J77*K77/1000,2) -> 0.52 | M77: 55 | N77: =ROUND(L77*M77,2) -> 28.6 | O77: 8 | P77: 0.28991 | Q77: =ROUND(O77*P77,2) -> 2.32 | R77: =N77+Q77 -> 30.92 | S77: ПСБ-С ст | T77: 55 | U77: м | V77: =J77 -> 50 | W77: 9 | Z77: =J77-V77 -> 0
A78: Горноключевской | B78: Горноключевской | C78: Кировский МР | D78: Котельная №1 п.Горные Ключи | F78: ТК№41 к д/с №3 | G78: кварт. сети | H78: подземн | I78: 89х3,5 | J78: 160 | K78: 7.38 | L78: =ROUND(J78*K78/1000,2) -> 1.18 | M78: 55 | N78: =ROUND(L78*M78,2) -> 64.9 | O78: 8 | P78: 0.18711 | Q78: =ROUND(O78*P78,2) -> 1.5 | R78: =N78+Q78 -> 66.4 | S78: ПСБ-С ст | T78: 50 | U78: м | V78: =J78 -> 160 | W78: 8 | Z78: =J78-V78 -> 0
A79: Горноключевской | B79: Горноключевской | C79: Кировский МР | D79: Котельная №1 п.Горные Ключи | F79: от котельной к сан.Изумрудный | G79: кварт. сети | H79: подземн | I79: 219х6 | J79: 100 | K79: 31.5 | L79: =ROUND(J79*K79/1000,2) -> 3.15 | M79: 55 | N79: =ROUND(L79*M79,2) -> 173.25 | O79: 8 | P79: 2.787 | Q79: =ROUND(O79*P79,2) -> 22.3 | R79: =N79+Q79 -> 195.55 | S79: ПСБ-С ст | T79: 65 | U79: м | V79: =J79 -> 100 | W79: 8 | Z79: =J79-V79 -> 0
A80: Горноключевской | B80: Горноключевской | C80: Кировский МР | D80: Котельная №1 п.Горные Ключи | F80: ТК№122-ТК№123 | G80: магистр. | H80: подземн | I80: 219х6 | J80: 460 | K80: 31.5 | L80: =ROUND(J80*K80/1000,2) -> 14.49 | M80: 55 | N80: =ROUND(L80*M80,2) -> 796.95 | O80: 8 | P80: 2.787 | Q80: =ROUND(O80*P80,2) -> 22.3 | R80: =N80+Q80 -> 819.25 | S80: ПСБ-С ст | T80: 65 | U80: м | V80: 460 | W80: 8 | Z80: =J80-V80 -> 0
A81: Горноключевской | B81: Горноключевской | C81: Кировский МР | D81: Котельная №5 п.Кировский | F81: к ж.д. ул.Набережная,75 | G81: кварт. сети ГВС | H81: подземн | I81: 57х3 | J81: 30 | K81: 4 | L81: =ROUND(J81*K81/1000,2) -> 0.12 | M81: 55 | N81: =ROUND(L81*M81,2) -> 6.6 | O81: 4 | P81: 0.07277 | Q81: =ROUND(O81*P81,2) -> 0.29 | R81: =N81+Q81 -> 6.89 | S81: ПСБ-С ст | T81: 45 | U81: м | V81: =J81 -> 30 | W81: 8 | Z81: =J81-V81 -> 0
A82: Горноключевской | B82: Горноключевской | C82: Кировский МР | D82: Котельная №5 п.Кировский | F82: от ул.Советская к ул.Партизанская,96 | G82: кварт. сети ГВС | H82: подземн | I82: 108х4 | J82: 80 | K82: 10.3 | L82: =ROUND(J82*K82/1000,2) -> 0.82 | M82: 55 | N82: =ROUND(L82*M82,2) -> 45.1 | O82: 8 | P82: 0.28991 | Q82: =ROUND(O82*P82,2) -> 2.32 | R82: =N82+Q82 -> 47.42 | S82: ПСБ-С ст | T82: 55 | U82: м | V82: =J82 -> 80 | W82: 8 | Z82: =J82-V82 -> 0
A83: Горноключевской | B83: Горноключевской | C83: Кировский МР | D83: Котельная №5 п.Кировский | F83: от ул.Советская к ул.Партизанская,96 | G83: кварт. сети ГВС | H83: подземн | I83: 89х3,5 | J83: 80 | K83: 7.38 | L83: =ROUND(J83*K83/1000,2) -> 0.59 | M83: 55 | N83: =ROUND(L83*M83,2) -> 32.45 | O83: 8 | P83: 0.18711 | Q83: =ROUND(O83*P83,2) -> 1.5 | R83: =N83+Q83 -> 33.95 | S83: ПСБ-С ст | T83: 50 | U83: м | V83: =J83 -> 80 | W83: 8 | Z83: =J83-V83 -> 0
A84: Горноключевской | B84: Горноключевской | C84: Кировский МР | D84: Котельная №5 п.Кировский | F84: от котельной к ул.Набережная,77 | G84: кварт. сети ГВС | H84: подземн | I84: 89х3,5 | J84: 60 | K84: 7.38 | L84: =ROUND(J84*K84/1000,2) -> 0.44 | M84: 55 | N84: =ROUND(L84*M84,2) -> 24.2 | O84: 0 | P84: 0.18711 | Q84: =ROUND(O84*P84,2) -> 0 | R84: =N84+Q84 -> 24.2 | S84: ПСБ-С ст | T84: 50 | U84: м | V84: =J84 -> 60 | W84: 8 | Z84: =J84-V84 -> 0
A85: Горноключевской | B85: Горноключевской | C85: Кировский МР | D85: Котельная №5 п.Кировский | F85: от котельной к ул.Набережная,77 | G85: кварт. сети ГВС | H85: подземн | I85: 76х3,5 | J85: 60 | K85: 6.26 | L85: =ROUND(J85*K85/1000,2) -> 0.38 | M85: 55 | N85: =ROUND(L85*M85,2) -> 20.9 | O85: 6 | P85: 0.12359 | Q85: =ROUND(O85*P85,2) -> 0.74 | R85: =N85+Q85 -> 21.64 | S85: ПСБ-С ст | T85: 45 | U85: м | V85: =J85 -> 60 | W85: 8 | Z85: =J85-V85 -> 0
A86: Горноключевской | B86: Горноключевской | C86: Кировский МР | D86: Котельная №5 п.Кировский | F86: от котельной к ТК№32 | G86: кварт. сети отопл | H86: подземн | I86: 159х4,5 | J86: 80 | K86: 17.1 | L86: =ROUND(J86*K86/1000,2) -> 1.37 | M86: 55 | N86: =ROUND(L86*M86,2) -> 75.35 | O86: 4 | P86: 0.89282 | Q86: =ROUND(O86*P86,2) -> 3.57 | R86: =N86+Q86 -> 78.92 | S86: ПСБ-С ст | T86: 60 | U86: м | V86: =J86 -> 80 | W86: 9 | Z86: =J86-V86 -> 0
A87: Горноключевской | B87: Горноключевской | C87: Кировский МР | D87: Котельная №5 п.Кировский | F87: от котельной к ТК№23 | G87: кварт. сети отопл | H87: подземн | I87: 159х4,5 | J87: 84 | K87: 17.1 | L87: =ROUND(J87*K87/1000,2) -> 1.44 | M87: 55 | N87: =ROUND(L87*M87,2) -> 79.2 | O87: 4 | P87: 0.89282 | Q87: =ROUND(O87*P87,2) -> 3.57 | R87: =N87+Q87 -> 82.77 | S87: ПСБ-С ст | T87: 60 | U87: м | V87: =J87 -> 84 | W87: 9 | Z87: =J87-V87 -> 0
A88: Горноключевской | B88: Горноключевской | C88: Кировский МР | D88: Котельная №9 п.Кировский | F88: по подвалу ж.д.ул.Юбилейная,9 | G88: кварт. сети отопл | H88: транзит | I88: 108х4 | J88: 100 | K88: 10.3 | L88: =ROUND(J88*K88/1000,2) -> 1.03 | M88: 55 | N88: =ROUND(L88*M88,2) -> 56.65 | O88: 0 | P88: 0.28991 | Q88: =ROUND(O88*P88,2) -> 0 | R88: =N88+Q88 -> 56.65 | S88: ПСБ-С ст | T88: 55 | U88: м | V88: =J88 -> 100 | W88: 9 | Z88: =J88-V88 -> 0
A89: Горноключевской | B89: Дальнереченский | C89: Дальнереченский ГО | D89: Котельная №14 ул.Промышленная, 10 | F89: Участок т/с ТК4 - ул.Промышленная 8а | G89: кварт. сети отопл | H89: подземн | I89: 108х4 | J89: 8 | K89: 10.3 | L89: =ROUND(J89*K89/1000,2) -> 0.08 | M89: 55 | N89: =ROUND(L89*M89,2) -> 4.4 | O89: 0 | P89: 0.28991 | Q89: =ROUND(O89*P89,2) -> 0 | R89: =N89+Q89 -> 4.4 | S89: ПСБ-С ст | T89: 55мм | U89: м | V89: 8 | W89: 8 | Z89: =J89-V89 -> 0
A90: Горноключевской | B90: Дальнереченский | C90: Дальнереченский ГО | D90: Котельная №18 ул.Энгельса, 23 | F90: Участок т/с ТК1- Р1а | G90: кварт. сети отопл | H90: подземн | I90: 273х7 | J90: 68 | K90: 45.9 | L90: =ROUND(J90*K90/1000,2) -> 3.12 | M90: 55 | N90: =ROUND(L90*M90,2) -> 171.6 | O90: 0 | P90: 4.149 | Q90: =ROUND(O90*P90,2) -> 0 | R90: =N90+Q90 -> 171.6 | S90: ПСБ-С ст | T90: 65мм | U90: м | V90: 68 | W90: 8 | Z90: =J90-V90 -> 0
A91: Горноключевской | B91: Дальнереченский | C91: Дальнереченский ГО | D91: Котельная №27 ул.45 лет Октября,1 | F91: Участок ТК49 - ж/д ул. Полевая 1а | G91: кварт. сети отопл | H91: подземн | I91: 108х4 | J91: 36 | K91: 10.3 | L91: =ROUND(J91*K91/1000,2) -> 0.37 | M91: 55 | N91: =ROUND(L91*M91,2) -> 20.35 | O91: 2 | P91: 0.28991 | Q91: =ROUND(O91*P91,2) -> 0.58 | R91: =N91+Q91 -> 20.93 | S91: ПСБ-С ст | T91: 55мм | U91: м | V91: 36 | W91: 8 | Z91: =J91-V91 -> 0
A92: Горноключевской | B92: Дальнереченский | C92: Дальнереченский ГО | D92: Котельная №27 ул.45 лет Октября,1 | F92: Участок ТК49 - ж/д ул. Полевая 1а | G92: кварт. сети ГВС | H92: подземн | I92: 57х3 | J92: 28 | K92: 4 | L92: =ROUND(J92*K92/1000,2) -> 0.11 | M92: 55 | N92: =ROUND(L92*M92,2) -> 6.05 | O92: 2 | P92: 0.07277 | Q92: =ROUND(O92*P92,2) -> 0.15 | R92: =N92+Q92 -> 6.2 | S92: ПСБ-С ст | T92: 45мм | U92: м | V92: 28 | W92: 8 | Z92: =J92-V92 -> 0
A93: Горноключевской | B93: Дальнереченский | C93: Дальнереченский ГО | D93: Котельная №27 ул.45 лет Октября,1 | F93: Участок ТК54 - ж/д ул.Кошевого 2а | G93: кварт. сети ГВС | H93: подземн | I93: 108х4 | J93: 22 | K93: 10.3 | L93: =ROUND(J93*K93/1000,2) -> 0.23 | M93: 55 | N93: =ROUND(L93*M93,2) -> 12.65 | O93: 0 | P93: 0.28991 | Q93: =ROUND(O93*P93,2) -> 0 | R93: =N93+Q93 -> 12.65 | S93: ПСБ-С ст | T93: 55мм | U93: м | V93: 22 | W93: 8 | Z93: =J93-V93 -> 0
A94: Горноключевской | B94: Дальнереченский | C94: Дальнереченский ГО | D94: Котельная №27 ул.45 лет Октября,1 | F94: Участок ТК54 - ж/д ул.Кошевого 2а | G94: кварт. сети ГВС | H94: подземн | I94: 159х4,5 | J94: 11 | K94: 17.1 | L94: =ROUND(J94*K94/1000,2) -> 0.19 | M94: 55 | N94: =ROUND(L94*M94,2) -> 10.45 | O94: 0 | P94: 0.89282 | Q94: =ROUND(O94*P94,2) -> 0 | R94: =N94+Q94 -> 10.45 | S94: ПСБ-С ст | T94: 60мм | U94: м | V94: 11 | W94: 8 | Z94: =J94-V94 -> 0
A95: Горноключевской | B95: Дальнереченский | C95: Дальнереченский ГО | D95: Котельная №27 ул.45 лет Октября,1 | F95: Участок ТК54 - ж/д ул.Кошевого 2а | G95: кварт. сети отопл | H95: подземн | I95: 159х4,5 | J95: 22 | K95: 17.1 | L95: =ROUND(J95*K95/1000,2) -> 0.38 | M95: 55 | N95: =ROUND(L95*M95,2) -> 20.9 | O95: 0 | P95: 0.89282 | Q95: =ROUND(O95*P95,2) -> 0 | R95: =N95+Q95 -> 20.9 | S95: ПСБ-С ст | T95: 60мм | U95: м | V95: 22 | W95: 8 | Z95: =J95-V95 -> 0
A96: Горноключевской | B96: Дальнереченский | C96: Дальнереченский ГО | D96: Котельная №27 ул.45 лет Октября,1 | F96: Участок ТК23 - ТК22 ул. Пушкина | G96: кварт. сети отопл | H96: подземн | I96: 219х6 | J96: 112 | K96: 31.5 | L96: =ROUND(J96*K96/1000,2) -> 3.53 | M96: 55 | N96: =ROUND(L96*M96,2) -> 194.15 | O96: 0 | P96: 2.787 | Q96: =ROUND(O96*P96,2) -> 0 | R96: =N96+Q96 -> 194.15 | S96: ПСБ-С ст | T96: 65мм | U96: м | V96: 112 | W96: 9 | Z96: =J96-V96 -> 0
A97: Горноключевской | B97: Дальнереченский | C97: Дальнереченский ГО | D97: Котельная №27 ул.45 лет Октября,1 | F97: Участок ТК45 - ТК46 ул. 45 лет Октября | G97: кварт. сети отопл | H97: подземн | I97: 159х4,5 | J97: 80 | K97: 17.1 | L97: =ROUND(J97*K97/1000,2) -> 1.37 | M97: 55 | N97: =ROUND(L97*M97,2) -> 75.35 | O97: 4 | P97: 0.89282 | Q97: =ROUND(O97*P97,2) -> 3.57 | R97: =N97+Q97 -> 78.92 | S97: минвата | T97: 70 | U97: м3 | V97: 3.85 | W97: 9
A98: Горноключевской | B98: Дальнереченский | C98: Дальнереченский ГО | D98: Котельная №27 ул.45 лет Октября,1 | F98: Участок ТК45 - ТК46 ул. 45 лет Октября | G98: кварт. сети отопл | H98: подземн | I98: 108х4 | K98: 10.3 | L98: =ROUND(J98*K98/1000,2) -> 0 | M98: 55 | N98: =ROUND(L98*M98,2) -> 0 | O98: 6 | P98: 0.28991 | Q98: =ROUND(O98*P98,2) -> 1.74 | R98: =N98+Q98 -> 1.74 | S98: ПСБ-С ст | T98: 55мм | U98: м | V98: 80 | W98: 9
A99: Горноключевской | B99: Дальнереченский | C99: Дальнереченский ГО | D99: Котельная №27 ул.45 лет Октября,1 | F99: Участок ТК23 - УП5 ул. Пушкина | G99: кварт. сети отопл | H99: подземн | I99: 159х4,5 | J99: 118 | K99: 17.1 | L99: =ROUND(J99*K99/1000,2) -> 2.02 | M99: 55 | N99: =ROUND(L99*M99,2) -> 111.1 | O99: 0 | P99: 0.89282 | Q99: =ROUND(O99*P99,2) -> 0 | R99: =N99+Q99 -> 111.1 | S99: ПСБ-С ст | T99: 60мм | U99: м | V99: 118 | W99: 9 | Z99: =J99-V99 -> 0
A100: Горноключевской | B100: Дальнереченский | C100: Дальнереченский ГО | D100: Котельная №31 ул.Уссурийская,84 | F100: Участок УП3 - Уссурийская, 78 | G100: кварт. сети отопл | H100: подземн | I100: 40х3 | J100: 40 | K100: 2.74 | L100: =ROUND(J100*K100/1000,2) -> 0.11 | M100: 55 | N100: =ROUND(L100*M100,2) -> 6.05 | O100: 0 | P100: 0.04158 | Q100: =ROUND(O100*P100,2) -> 0 | R100: =N100+Q100 -> 6.05 | S100: ПСБ-С ст | T100: 35мм | U100: м | V100: 40 | W100: 8 | Z100: =J100-V100 -> 0
A101: Горноключевской | B101: Дальнереченский | C101: Дальнереченский ГО | D101: Котельная №32 ул.Лазо,43 (с Лазо) | F101: Участок УП 4-ТК1 | G101: кварт. сети отопл | H101: подземн | I101: 133х4 | J101: 12 | K101: 12.7 | L101: =ROUND(J101*K101/1000,2) -> 0.15 | M101: 55 | N101: =ROUND(L101*M101,2) -> 8.25 | O101: 0 | P101: 0.54516 | Q101: =ROUND(O101*P101,2) -> 0 | R101: =N101+Q101 -> 8.25 | S101: ПСБ-С ст | T101: 55мм | U101: м | V101: 12 | W101: 8 | Z101: =J101-V101 -> 0
A102: Горноключевской | B102: Дальнереченский | C102: Дальнереченский ГО | D102: Котельная №41 п. Кольцевое | F102: Участок тс ТК4-ж/д №206 ( ул. Звездная, 3) | G102: кварт. сети отопл | H102: подземн | I102: 108х4 | J102: 10 | K102: 10.3 | L102: =ROUND(J102*K102/1000,2) -> 0.1 | M102: 55 | N102: =ROUND(L102*M102,2) -> 5.5 | O102: 0 | P102: 0.28991 | Q102: =ROUND(O102*P102,2) -> 0 | R102: =N102+Q102 -> 5.5 | S102: ПСБ-С ст | T102: 55мм | U102: м | V102: 10 | W102: 8 | Z102: =J102-V102 -> 0
...

Sheet МО
B1: Заявка на трубную продукцию и материалы для производства работ по
B2: ремонту тепловых сетей по результатам гидравлических испытаний,
B3: не учтённых в ремонтной программе 2015 года.
A5: № пп | B5: Муниципальное образование | C5: Количество трубы, м | D5: Итого трубы, т | E5: Итого трубы, тыс руб | F5: отводы, шт | G5: итого отводы, тыс. руб | H5: всего трубной продукции, тыс. руб
B6: ='т. сети с изопроф'!C233 -> Анучинский МР | C6: ='т. сети с изопроф'!J233 -> 1050 | D6: ='т. сети с изопроф'!L233 -> 12.03 | E6: ='т. сети с изопроф'!N233 -> 661.65 | F6: ='т. сети с изопроф'!O233 -> 28 | G6: ='т. сети с изопроф'!Q233 -> 9.58 | H6: ='т. сети с изопроф'!R233 -> 671.23
B7: ='т. сети с изопроф'!C234 -> Артемовский ГО | C7: ='т. сети с изопроф'!J234 -> 186 | D7: ='т. сети с изопроф'!L234 -> 1.92 | E7: ='т. сети с изопроф'!N234 -> 105.6 | F7: ='т. сети с изопроф'!O234 -> 12 | G7: ='т. сети с изопроф'!Q234 -> 3.48 | H7: ='т. сети с изопроф'!R234 -> 109.08
B8: ='т. сети с изопроф'!C235 -> Дальнегорский ГО | C8: ='т. сети с изопроф'!J235 -> 427 | D8: ='т. сети с изопроф'!L235 -> 9.49 | E8: ='т. сети с изопроф'!N235 -> 521.95 | F8: ='т. сети с изопроф'!O235 -> 2 | G8: ='т. сети с изопроф'!Q235 -> 5.57 | H8: ='т. сети с изопроф'!R235 -> 527.52
B9: ='т. сети с изопроф'!C236 -> Дальнереченский ГО | C9: ='т. сети с изопроф'!J236 -> 578 | D9: ='т. сети с изопроф'!L236 -> 12.02 | E9: ='т. сети с изопроф'!N236 -> 661.1 | F9: ='т. сети с изопроф'!O236 -> 14 | G9: ='т. сети с изопроф'!Q236 -> 6.04 | H9: ='т. сети с изопроф'!R236 -> 667.14
A10: 5 | B10: Дальнереченский МР | C10: 0 | D10: 0 | E10: 0 | F10: ='т. сети с изопроф'!O237 -> 0
B11: ='т. сети с изопроф'!C238 -> Кавалеровский МР | C11: ='т. сети с изопроф'!J238 -> 289 | D11: ='т. сети с изопроф'!L238 -> 6.55 | E11: ='т. сети с изопроф'!N238 -> 360.25 | F11: ='т. сети с изопроф'!O238 -> 6 | G11: ='т. сети с изопроф'!Q238 -> 16.75 | H11: ='т. сети с изопроф'!R238 -> 377
B12: ='т. сети с изопроф'!C239 -> Кировский МР | C12: ='т. сети с изопроф'!J239 -> 1344 | D12: ='т. сети с изопроф'!L239 -> 25.53 | E12: ='т. сети с изопроф'!N239 -> 1404.15 | F12: ='т. сети с изопроф'!O239 -> 66 | G12: ='т. сети с изопроф'!Q239 -> 60.41 | H12: ='т. сети с изопроф'!R239 -> 1464.56
B13: ='т. сети с изопроф'!C240 -> Красноармейский МР | C13: ='т. сети с изопроф'!J240 -> 2355 | D13: ='т. сети с изопроф'!L240 -> 25.18 | E13: ='т. сети с изопроф'!N240 -> 1384.9 | F13: ='т. сети с изопроф'!O240 -> 0 | G13: ='т. сети с изопроф'!Q240 -> 0 | H13: ='т. сети с изопроф'!R240 -> 1384.9
B14: ='т. сети с изопроф'!C241 -> Лазовский МР | C14: ='т. сети с изопроф'!J241 -> 98 | D14: ='т. сети с изопроф'!L241 -> 0.38 | E14: ='т. сети с изопроф'!N241 -> 20.9 | F14: ='т. сети с изопроф'!O241 -> 32 | G14: ='т. сети с изопроф'!Q241 -> 2.02 | H14: ='т. сети с изопроф'!R241 -> 22.92
B15: ='т. сети с изопроф'!C242 -> Лесозаводский ГО и МР | C15: ='т. сети с изопроф'!J242 -> 2476 | D15: ='т. сети с изопроф'!L242 -> 45.23 | E15: ='т. сети с изопроф'!N242 -> 2487.65 | F15: ='т. сети с изопроф'!O242 -> 124 | G15: ='т. сети с изопроф'!Q242 -> 146.58 | H15: ='т. сети с изопроф'!R242 -> 2634.23
A16: 11 | B16: Михайловский МР | C16: 0 | D16: 0 | E16: 0 | F16: ='т. сети с изопроф'!O243 -> 0 | G16: ='т. сети с изопроф'!Q243 -> 0 | H16: ='т. сети с изопроф'!R243 -> 0
B17: ='т. сети с изопроф'!C244 -> Надеждинский МР | C17: ='т. сети с изопроф'!J244 -> 654 | D17: ='т. сети с изопроф'!L244 -> 3.1 | E17: ='т. сети с изопроф'!N244 -> 170.5 | F17: ='т. сети с изопроф'!O244 -> 93 | G17: ='т. сети с изопроф'!Q244 -> 6.57 | H17: ='т. сети с изопроф'!R244 -> 177.07
B18: ='т. сети с изопроф'!C245 -> Находкинский ГО | C18: ='т. сети с изопроф'!J245 -> 7197 | D18: ='т. сети с изопроф'!L245 -> 217.46 | E18: ='т. сети с изопроф'!N245 -> 11960.3 | F18: ='т. сети с изопроф'!O245 -> 248 | G18: ='т. сети с изопроф'!Q245 -> 461.87 | H18: ='т. сети с изопроф'!R245 -> 12422.17
B19: ='т. сети с изопроф'!C246 -> Октябрьский МР | C19: ='т. сети с изопроф'!J246 -> 470 | D19: ='т. сети с изопроф'!L246 -> 2.73 | E19: ='т. сети с изопроф'!N246 -> 150.15 | F19: ='т. сети с изопроф'!O246 -> 20 | G19: ='т. сети с изопроф'!Q246 -> 2.6 | H19: ='т. сети с изопроф'!R246 -> 152.75
B20: ='т. сети с изопроф'!C247 -> Ольгинский МР | C20: ='т. сети с изопроф'!J247 -> 410 | D20: ='т. сети с изопроф'!L247 -> 2.56 | E20: ='т. сети с изопроф'!N247 -> 140.8 | F20: ='т. сети с изопроф'!O247 -> 34 | G20: ='т. сети с изопроф'!Q247 -> 4.95 | H20: ='т. сети с изопроф'!R247 -> 145.75
B21: ='т. сети с изопроф'!C248 -> Партизанский ГО | C21: ='т. сети с изопроф'!J248 -> 651 | D21: ='т. сети с изопроф'!L248 -> 4.47 | E21: ='т. сети с изопроф'!N248 -> 245.85 | F21: ='т. сети с изопроф'!O248 -> 16 | G21: ='т. сети с изопроф'!Q248 -> 2.89 | H21: ='т. сети с изопроф'!R248 -> 248.74
A22: 17 | B22: Партизанский МР | C22: 0 | D22: 0 | E22: 0 | F22: ='т. сети с изопроф'!O249 -> 0
A23: 18 | B23: ='т. сети с изопроф'!C250 -> Пограничный МР | C23: ='т. сети с изопроф'!J250 -> 0 | D23: ='т. сети с изопроф'!L250 -> 0 | E23: ='т. сети с изопроф'!N250 -> 0 | F23: ='т. сети с изопроф'!O250 -> 0
B24: ='т. сети с изопроф'!C251 -> Пожарский МР | C24: ='т. сети с изопроф'!J251 -> 260 | D24: ='т. сети с изопроф'!L251 -> 6.68 | E24: ='т. сети с изопроф'!N251 -> 367.4 | F24: ='т. сети с изопроф'!O251 -> 10 | G24: ='т. сети с изопроф'!Q251 -> 11.89 | H24: ='т. сети с изопроф'!R251 -> 379.29
A25: 20 | B25: Спасский ГО | C25: 0 | D25: 0 | E25: 0 | F25: ='т. сети с изопроф'!O252 -> 0
B26: ='т. сети с изопроф'!C253 -> Спасский МР | C26: ='т. сети с изопроф'!J253 -> 750 | D26: ='т. сети с изопроф'!L253 -> 6.34 | E26: ='т. сети с изопроф'!N253 -> 348.7 | F26: ='т. сети с изопроф'!O253 -> 24 | G26: ='т. сети с изопроф'!Q253 -> 5.66 | H26: ='т. сети с изопроф'!R253 -> 354.36
B27: ='т. сети с изопроф'!C254 -> Фокино ГО ЗАТО | C27: ='т. сети с изопроф'!J254 -> 1352 | D27: ='т. сети с изопроф'!L254 -> 30.7 | E27: ='т. сети с изопроф'!N254 -> 1688.5 | F27: ='т. сети с изопроф'!O254 -> 76 | G27: ='т. сети с изопроф'!Q254 -> 136.95 | H27: ='т. сети с изопроф'!R254 -> 1825.45
B28: ='т. сети с изопроф'!C255 -> Ханкайский МР | C28: ='т. сети с изопроф'!J255 -> 430 | D28: ='т. сети с изопроф'!L255 -> 2.01 | E28: ='т. сети с изопроф'!N255 -> 110.55 | F28: ='т. сети с изопроф'!O255 -> 12 | G28: ='т. сети с изопроф'!Q255 -> 1.07 | H28: ='т. сети с изопроф'!R255 -> 111.62
B29: ='т. сети с изопроф'!C256 -> Хасанский МР | C29: ='т. сети с изопроф'!J256 -> 1330 | D29: ='т. сети с изопроф'!L256 -> 26.25 | E29: ='т. сети с изопроф'!N256 -> 1443.75 | F29: ='т. сети с изопроф'!O256 -> 120 | G29: ='т. сети с изопроф'!Q256 -> 155.69 | H29: ='т. сети с изопроф'!R256 -> 1599.44
A30: 25 | B30: Хорольский МР | C30: 0 | D30: 0 | E30: 0 | F30: ='т. сети с изопроф'!O257 -> 0 | G30: 0 | H30: 0
B31: ='т. сети с изопроф'!C258 -> Черниговский МР | C31: ='т. сети с изопроф'!J258 -> 110 | D31: ='т. сети с изопроф'!L258 -> 0.44 | E31: ='т. сети с изопроф'!N258 -> 24.2 | F31: ='т. сети с изопроф'!O258 -> 4 | G31: ='т. сети с изопроф'!Q258 -> 0.29 | H31: ='т. сети с изопроф'!R258 -> 24.49
B32: ='т. сети с изопроф'!C259 -> Чугуевский МР | C32: ='т. сети с изопроф'!J259 -> 442 | D32: ='т. сети с изопроф'!L259 -> 1.67 | E32: ='т. сети с изопроф'!N259 -> 91.85 | F32: ='т. сети с изопроф'!O259 -> 8 | G32: ='т. сети с изопроф'!Q259 -> 0.58 | H32: ='т. сети с изопроф'!R259 -> 92.43
B33: ='т. сети с изопроф'!C260 -> Шкотовский МР | C33: ='т. сети с изопроф'!J260 -> 2760 | D33: ='т. сети с изопроф'!L260 -> 37.21 | E33: ='т. сети с изопроф'!N260 -> 2046.55 | F33: ='т. сети с изопроф'!O260 -> 106 | G33: ='т. сети с изопроф'!Q260 -> 63.77 | H33: ='т. сети с изопроф'!R260 -> 2110.32
B34: ='т. сети с изопроф'!C261 -> Яковлевский МР | C34: ='т. сети с изопроф'!J261 -> 331 | D34: ='т. сети с изопроф'!L261 -> 2.18 | E34: ='т. сети с изопроф'!N261 -> 119.9 | F34: ='т. сети с изопроф'!O261 -> 48 | G34: ='т. сети с изопроф'!Q261 -> 6.74 | H34: ='т. сети с изопроф'!R261 -> 126.64
B35: Всего | C35: ='т. сети с изопроф'!J262 -> 25950 | D35: ='т. сети с изопроф'!L262 -> 482.13 | E35: ='т. сети с изопроф'!N262 -> 26517.15 | F35: ='т. сети с изопроф'!O262 -> 1103 | G35: ='т. сети с изопроф'!Q262 -> 1111.95 | H35: ='т. сети с изопроф'!R262 -> 27629.1

Sheet Филиалы
A1: Заявка на трубную продукцию и материалы для производства работ по
A2: ремонту тепловых сетей по результатам гидравлических испытаний,
A3: не учтённых в ремонтной программе 2015 года.
A5: № пп | B5: Муниципальное образование | C5: Количество трубы, м | D5: итого, т | E5: итого, тыс руб | F5: отводы, шт | G5: итого отводы, тыс. руб | H5: всего трубной продукции, тыс. руб
A6: 1 | B6: ='т. сети с изопроф'!F267 -> Арсеньевский | C6: ='т. сети с изопроф'!J267 -> 1823 | D6: ='т. сети с изопроф'!L267 -> 15.88 | E6: ='т. сети с изопроф'!N267 -> 873.4 | F6: ='т. сети с изопроф'!O267 -> 84 | G6: ='т. сети с изопроф'!Q267 -> 16.9 | H6: ='т. сети с изопроф'!R267 -> 890.3
A7: 2 | B7: ='т. сети с изопроф'!F268 -> Артёмовский | C7: ='т. сети с изопроф'!J268 -> 4930 | D7: ='т. сети с изопроф'!L268 -> 68.48 | E7: ='т. сети с изопроф'!N268 -> 3766.4 | F7: ='т. сети с изопроф'!O268 -> 331 | G7: ='т. сети с изопроф'!Q268 -> 229.51 | H7: ='т. сети с изопроф'!R268 -> 3995.91
A8: 3 | B8: ='т. сети с изопроф'!F269 -> Горноключевской | C8: ='т. сети с изопроф'!J269 -> 4277 | D8: ='т. сети с изопроф'!L269 -> 62.73 | E8: ='т. сети с изопроф'!N269 -> 3450.15 | F8: ='т. сети с изопроф'!O269 -> 80 | G8: ='т. сети с изопроф'!Q269 -> 66.45 | H8: ='т. сети с изопроф'!R269 -> 3516.6
A9: 4 | B9: ='т. сети с изопроф'!F270 -> Дальнегорский | C9: ='т. сети с изопроф'!J270 -> 1126 | D9: ='т. сети с изопроф'!L270 -> 18.6 | E9: ='т. сети с изопроф'!N270 -> 1023 | F9: ='т. сети с изопроф'!O270 -> 42 | G9: ='т. сети с изопроф'!Q270 -> 27.27 | H9: ='т. сети с изопроф'!R270 -> 1050.27
A10: 5 | B10: ='т. сети с изопроф'!F271 -> Лесозаводский | C10: ='т. сети с изопроф'!J271 -> 2736 | D10: ='т. сети с изопроф'!L271 -> 51.91 | E10: ='т. сети с изопроф'!N271 -> 2855.05 | F10: ='т. сети с изопроф'!O271 -> 134 | G10: ='т. сети с изопроф'!Q271 -> 158.47 | H10: ='т. сети с изопроф'!R271 -> 3013.52
A11: 6 | B11: ='т. сети с изопроф'!F272 -> Михайловский | C11: ='т. сети с изопроф'!J272 -> 900 | D11: ='т. сети с изопроф'!L272 -> 4.74 | E11: ='т. сети с изопроф'!N272 -> 260.7 | F11: ='т. сети с изопроф'!O272 -> 32 | G11: ='т. сети с изопроф'!Q272 -> 3.67 | H11: ='т. сети с изопроф'!R272 -> 264.37
A12: 7 | B12: ='т. сети с изопроф'!F273 -> Находкинский | C12: ='т. сети с изопроф'!J273 -> 7197 | D12: ='т. сети с изопроф'!L273 -> 217.46 | E12: ='т. сети с изопроф'!N273 -> 11960.3 | F12: ='т. сети с изопроф'!O273 -> 248 | G12: ='т. сети с изопроф'!Q273 -> 461.87 | H12: ='т. сети с изопроф'!R273 -> 12422.17
A13: 8 | B13: ='т. сети с изопроф'!F274 -> Партизанский | C13: ='т. сети с изопроф'!J274 -> 2101 | D13: ='т. сети с изопроф'!L274 -> 35.55 | E13: ='т. сети с изопроф'!N274 -> 1955.25 | F13: ='т. сети с изопроф'!O274 -> 124 | G13: ='т. сети с изопроф'!Q274 -> 141.86 | H13: ='т. сети с изопроф'!R274 -> 2097.11
A14: 9 | B14: ='т. сети с изопроф'!F275 -> Спасский | C14: ='т. сети с изопроф'!J275 -> 860 | D14: ='т. сети с изопроф'!L275 -> 6.78 | E14: ='т. сети с изопроф'!N275 -> 372.9 | F14: ='т. сети с изопроф'!O275 -> 28 | G14: ='т. сети с изопроф'!Q275 -> 5.95 | H14: ='т. сети с изопроф'!R275 -> 378.85
B15: Всего | C15: ='т. сети с изопроф'!J276 -> 25950 | D15: ='т. сети с изопроф'!L276 -> 482.13 | E15: ='т. сети с изопроф'!N276 -> 26517.15 | F15: =SUM(F6:F14) -> 1103 | G15: =SUM(G6:G14) -> 1111.95 | H15: =SUM(H6:H14) -> 27629.1

Sheet Сортамент
A1: Заявка на трубную продукцию и материалы для производства работ по
A2: ремонту тепловых сетей по результатам гидравлических испытаний,
A3: не учтённых в ремонтной программе 2015 года.
A5: № пп | B5: Данные по трубной продукции
B6: Наружный диаметр трубы, мм | C6: Количество трубы, м | D6: Итого, т | E6: Итого, тыс. руб | F6: отводы, шт | G6: итого отводы, тыс. руб | H6: всего трубной продукции, тыс. руб
A7: 1 | B7: ='т. сети с изопроф'!I279 -> 40х3 | C7: ='т. сети с изопроф'!J279 -> 429 | D7: ='т. сети с изопроф'!L279 -> 1.17 | E7: ='т. сети с изопроф'!N279 -> 64.35 | F7: ='т. сети с изопроф'!O279 -> 43 | G7: ='т. сети с изопроф'!Q279 -> 1.79 | H7: ='т. сети с изопроф'!R279 -> 66.14
A8: 2 | B8: ='т. сети с изопроф'!I280 -> 48х3 | C8: ='т. сети с изопроф'!J280 -> 280 | D8: ='т. сети с изопроф'!L280 -> 0.94 | E8: ='т. сети с изопроф'!N280 -> 51.7 | F8: ='т. сети с изопроф'!O280 -> 40 | G8: ='т. сети с изопроф'!Q280 -> 2.18 | H8: ='т. сети с изопроф'!R280 -> 53.88
A9: 3 | B9: ='т. сети с изопроф'!I281 -> 57х3 | C9: ='т. сети с изопроф'!J281 -> 3458 | D9: ='т. сети с изопроф'!L281 -> 13.83 | E9: ='т. сети с изопроф'!N281 -> 760.65 | F9: ='т. сети с изопроф'!O281 -> 178 | G9: ='т. сети с изопроф'!Q281 -> 12.97 | H9: ='т. сети с изопроф'!R281 -> 773.62
A10: 4 | B10: ='т. сети с изопроф'!I282 -> 76х3,5 | C10: ='т. сети с изопроф'!J282 -> 2091 | D10: ='т. сети с изопроф'!L282 -> 13.11 | E10: ='т. сети с изопроф'!N282 -> 721.05 | F10: ='т. сети с изопроф'!O282 -> 98 | G10: ='т. сети с изопроф'!Q282 -> 12.09 | H10: ='т. сети с изопроф'!R282 -> 733.14
A11: 5 | B11: ='т. сети с изопроф'!I283 -> 89х3,5 | C11: ='т. сети с изопроф'!J283 -> 1877 | D11: ='т. сети с изопроф'!L283 -> 13.85 | E11: ='т. сети с изопроф'!N283 -> 761.75 | F11: ='т. сети с изопроф'!O283 -> 104 | G11: ='т. сети с изопроф'!Q283 -> 19.46 | H11: ='т. сети с изопроф'!R283 -> 781.21
A12: 6 | B12: ='т. сети с изопроф'!I284 -> 108х4 | C12: ='т. сети с изопроф'!J284 -> 5536 | D12: ='т. сети с изопроф'!L284 -> 57.04 | E12: ='т. сети с изопроф'!N284 -> 3137.2 | F12: ='т. сети с изопроф'!O284 -> 231 | G12: ='т. сети с изопроф'!Q284 -> 66.99 | H12: ='т. сети с изопроф'!R284 -> 3204.19
A13: 7 | B13: ='т. сети с изопроф'!I285 -> 133х4 | C13: ='т. сети с изопроф'!J285 -> 836 | D13: ='т. сети с изопроф'!L285 -> 10.62 | E13: ='т. сети с изопроф'!N285 -> 584.1 | F13: ='т. сети с изопроф'!O285 -> 36 | G13: ='т. сети с изопроф'!Q285 -> 19.62 | H13: ='т. сети с изопроф'!R285 -> 603.72
A14: 8 | B14: ='т. сети с изопроф'!I286 -> 159х4,5 | C14: ='т. сети с изопроф'!J286 -> 4454 | D14: ='т. сети с изопроф'!L286 -> 76.19 | E14: ='т. сети с изопроф'!N286 -> 4190.45 | F14: ='т. сети с изопроф'!O286 -> 159 | G14: ='т. сети с изопроф'!Q286 -> 141.97 | H14: ='т. сети с изопроф'!R286 -> 4332.42
A15: 9 | B15: ='т. сети с изопроф'!I287 -> 219х6 | C15: ='т. сети с изопроф'!J287 -> 3776 | D15: ='т. сети с изопроф'!L287 -> 118.96 | E15: ='т. сети с изопроф'!N287 -> 6542.8 | F15: ='т. сети с изопроф'!O287 -> 132 | G15: ='т. сети с изопроф'!Q287 -> 367.89 | H15: ='т. сети с изопроф'!R287 -> 6910.69
A16: 10 | B16: ='т. сети с изопроф'!I288 -> 273х7 | C16: ='т. сети с изопроф'!J288 -> 1469 | D16: ='т. сети с изопроф'!L288 -> 67.42 | E16: ='т. сети с изопроф'!N288 -> 3708.1 | F16: ='т. сети с изопроф'!O288 -> 42 | G16: ='т. сети с изопроф'!Q288 -> 174.27 | H16: ='т. сети с изопроф'!R288 -> 3882.37
A17: 11 | B17: ='т. сети с изопроф'!I289 -> 325х8 | C17: ='т. сети с изопроф'!J289 -> 1744 | D17: ='т. сети с изопроф'!L289 -> 109 | E17: ='т. сети с изопроф'!N289 -> 5995 | F17: ='т. сети с изопроф'!O289 -> 40 | G17: ='т. сети с изопроф'!Q289 -> 292.72 | H17: ='т. сети с изопроф'!R289 -> 6287.72
B18: ='т. сети с изопроф'!I290 -> 0 | C18: ='т. сети с изопроф'!J290 -> 25950 | D18: ='т. сети с изопроф'!L290 -> 482.13 | E18: ='т. сети с изопроф'!N290 -> 26517.15 | F18: ='т. сети с изопроф'!O290 -> 1103 | G18: =SUM(G7:G17) -> 1111.95 | H18: =SUM(H7:H17) -> 27629.1

Sheet Свод по МО котл. и ТС
A1: ПОТРЕБНОСТЬ В ТРУБНОЙ ПРОДУКЦИИ ПО РЕЗУЛЬТАТАМ ГИДРАВЛИЧЕСКИХ ИСПЫТАНИЙ
A2: Муниципальное образование | B2: Тепловые сети | H2: Котловая труба | K2: Всего
B3: Количество трубы, м | C3: Итого трубы, т | D3: Итого трубы, тыс руб | E3: отводы, шт | F3: итого отводы, тыс. руб | G3: всего трубной продукции, тыс. руб | H3: к-во, м | I3: к-во, т | J3: стоимость тыс руб | K3: Трубы, п.м | L3: Трубы, тонн | M3: Трубы, тыс. руб.
A4: Артемовский ГО | B4: 186 | C4: 1.92 | D4: 105.6 | E4: 12 | F4: 3.48 | G4: 109.08 | K4: =B4+H4 -> 186 | L4: =C4+I4 -> 1.92 | M4: =G4+J4 -> 109.08
A5: Арсеньевский ГО
A6: Дальнегорский ГО | B6: 427 | C6: 9.49 | D6: 521.95 | E6: 2 | F6: 5.57 | G6: 527.52 | K6: =B6+H6 -> 427 | L6: =C6+I6 -> 9.49 | M6: =G6+J6 -> 527.52
A7: Дальнереченский ГО | B7: 578 | C7: 12.02 | D7: 661.1 | E7: 14 | F7: 6.04 | G7: 667.14 | H7: 643 | I7: 3.63 | J7: 268.995 | K7: =B7+H7 -> 1221 | L7: =C7+I7 -> 15.65 | M7: =G7+J7 -> 936.135
A8: Лесозаводский ГО и МР | B8: 2476 | C8: 45.23 | D8: 2487.65 | E8: 124 | F8: 146.58 | G8: 2634.23 | H8: 30 | I8: 0.14 | J8: 10.09 | K8: =B8+H8 -> 2506 | L8: =C8+I8 -> 45.37 | M8: =G8+J8 -> 2644.32
A9: Находкинский ГО | B9: 7197 | C9: 217.46 | D9: 11960.3 | E9: 248 | F9: 461.87 | G9: 12422.17 | H9: 762.62 | I9: 5.35 | J9: 385.853 | K9: =B9+H9 -> 7959.62 | L9: =C9+I9 -> 222.81 | M9: =G9+J9 -> 12808.023
A10: Партизанский ГО | B10: 651 | C10: 4.47 | D10: 245.85 | E10: 16 | F10: 2.89 | G10: 248.74 | H10: 241 | I10: 0.62 | J10: 46.237 | K10: =B10+H10 -> 892 | L10: =C10+I10 -> 5.09 | M10: =G10+J10 -> 294.977
A11: Спасский ГО | B11: 0 | C11: 0 | D11: 0 | E11: 0 | H11: 1070 | I11: 4.11 | J11: 304.872 | K11: =B11+H11 -> 1070 | L11: =C11+I11 -> 4.11 | M11: =G11+J11 -> 304.872
A12: Фокино ГО ЗАТО | B12: 1352 | C12: 30.7 | D12: 1688.5 | E12: 76 | F12: 136.95 | G12: 1825.45 | K12: =B12+H12 -> 1352 | L12: =C12+I12 -> 30.7 | M12: =G12+J12 -> 1825.45
A13: Анучинский МР | B13: 1050 | C13: 12.03 | D13: 661.65 | E13: 28 | F13: 9.58 | G13: 671.23 | K13: =B13+H13 -> 1050 | L13: =C13+I13 -> 12.03 | M13: =G13+J13 -> 671.23
A14: Дальнереченский МР | B14: 0 | C14: 0 | D14: 0 | E14: 0 | H14: 1260 | I14: 3.04 | J14: 228.941 | K14: =B14+H14 -> 1260 | L14: =C14+I14 -> 3.04 | M14: =G14+J14 -> 228.941
A15: Кавалеровский МР | B15: 289 | C15: 6.55 | D15: 360.25 | E15: 6 | F15: 16.75 | G15: 377 | H15: 1761 | I15: 5.87 | J15: 244.086 | K15: =B15+H15 -> 2050 | L15: =C15+I15 -> 12.42 | M15: =G15+J15 -> 621.086
A16: Кировский МР | B16: 1344 | C16: 25.53 | D16: 1404.15 | E16: 66 | F16: 60.41 | G16: 1464.56 | H16: 752 | I16: 3.66 | J16: 266.215 | K16: =B16+H16 -> 2096 | L16: =C16+I16 -> 29.19 | M16: =G16+J16 -> 1730.775
A17: Красноармейский МР | B17: 2355 | C17: 25.18 | D17: 1384.9 | E17: 0 | F17: 0 | G17: 1384.9 | K17: =B17+H17 -> 2355 | L17: =C17+I17 -> 25.18 | M17: =G17+J17 -> 1384.9
A18: Лазовский МР | B18: 98 | C18: 0.38 | D18: 20.9 | E18: 32 | F18: 2.02 | G18: 22.92 | H18: 30 | I18: 0.14 | J18: 10.09 | K18: =B18+H18 -> 128 | L18: =C18+I18 -> 0.52 | M18: =G18+J18 -> 33.01
A19: Михайловский МР | B19: 0 | C19: 0 | D19: 0 | E19: 0 | F19: 0 | G19: 0 | K19: =B19+H19 -> 0 | L19: =C19+I19 -> 0 | M19: =G19+J19 -> 0
A20: Надеждинский МР | B20: 654 | C20: 3.1 | D20: 170.5 | E20: 93 | F20: 6.57 | G20: 177.07 | K20: =B20+H20 -> 654 | L20: =C20+I20 -> 3.1 | M20: =G20+J20 -> 177.07
A21: Октябрьский МР | B21: 470 | C21: 2.73 | D21: 150.15 | E21: 20 | F21: 2.6 | G21: 152.75 | K21: =B21+H21 -> 470 | L21: =C21+I21 -> 2.73 | M21: =G21+J21 -> 152.75
A22: Ольгинский МР | B22: 410 | C22: 2.56 | D22: 140.8 | E22: 34 | F22: 4.95 | G22: 145.75 | K22: =B22+H22 -> 410 | L22: =C22+I22 -> 2.56 | M22: =G22+J22 -> 145.75
A23: Партизанский МР | B23: 0 | C23: 0 | D23: 0 | E23: 0 | H23: 406 | I23: 1.08 | J23: 82.038 | K23: =B23+H23 -> 406 | L23: =C23+I23 -> 1.08 | M23: =G23+J23 -> 82.038
A24: Пограничный МР | B24: 0 | C24: 0 | D24: 0 | E24: 0 | K24: =B24+H24 -> 0 | L24: =C24+I24 -> 0 | M24: =G24+J24 -> 0
K25: =B25+H25 -> 0 | L25: =C25+I25 -> 0 | M25: =G25+J25 -> 0
A26: Черниговский МР | B26: 110 | C26: 0.44 | D26: 24.2 | E26: 4 | F26: 0.29 | G26: 24.49 | K26: =B26+H26 -> 110 | L26: =C26+I26 -> 0.44 | M26: =G26+J26 -> 24.49
A27: Чугуевский МР | B27: 442 | C27: 1.67 | D27: 91.85 | E27: 8 | F27: 0.58 | G27: 92.43 | H27: 0 | I27: 0 | J27: 0 | K27: =B27+H27 -> 442 | L27: =C27+I27 -> 1.67 | M27: =G27+J27 -> 92.43
A28: Шкотовский МР | B28: 2760 | C28: 37.21 | D28: 2046.55 | E28: 106 | F28: 63.77 | G28: 2110.32 | H28: 141 | I28: 0.64 | J28: 47.932 | K28: =B28+H28 -> 2901 | L28: =C28+I28 -> 37.85 | M28: =G28+J28 -> 2158.252
A29: Хорольский МР | B29: 0 | C29: 0 | D29: 0 | E29: 0 | F29: 0 | G29: 0 | K29: =B29+H29 -> 0 | L29: =C29+I29 -> 0 | M29: =G29+J29 -> 0
A30: Хасанский МР | B30: 1330 | C30: 26.25 | D30: 1443.75 | E30: 120 | F30: 155.69 | G30: 1599.44 | K30: =B30+H30 -> 1330 | L30: =C30+I30 -> 26.25 | M30: =G30+J30 -> 1599.44
A31: Пожарский МР | B31: 260 | C31: 6.68 | D31: 367.4 | E31: 10 | F31: 11.89 | G31: 379.29 | H31: 2036 | I31: 8.35 | J31: 641.948 | K31: =B31+H31 -> 2296 | L31: =C31+I31 -> 15.03 | M31: =G31+J31 -> 1021.238
A32: Ханкайский МР | B32: 430 | C32: 2.01 | D32: 110.55 | E32: 12 | F32: 1.07 | G32: 111.62 | K32: =B32+H32 -> 430 | L32: =C32+I32 -> 2.01 | M32: =G32+J32 -> 111.62
A33: Спасский МР | B33: 750 | C33: 6.34 | D33: 348.7 | E33: 24 | F33: 5.66 | G33: 354.36 | H33: 1780 | I33: 5.53 | J33: 420.147 | K33: =B33+H33 -> 2530 | L33: =C33+I33 -> 11.87 | M33: =G33+J33 -> 774.507
A34: Яковлевский МР | B34: 331 | C34: 2.18 | D34: 119.9 | E34: 48 | F34: 6.74 | G34: 126.64 | H34: 6623.41 | I34: 31.02 | J34: 2296.2 | K34: =B34+H34 -> 6954.41 | L34: =C34+I34 -> 33.2 | M34: =G34+J34 -> 2422.84
A36: Всего | B36: =SUM(B4:B35) -> 25950 | C36: =SUM(C4:C35) -> 482.13 | D36: =SUM(D4:D35) -> 26517.15 | E36: =SUM(E4:E35) -> 1103 | F36: =SUM(F4:F35) -> 1111.95 | G36: =SUM(G4:G35) -> 27629.1 | H36: =SUM(H4:H35) -> 17536.03 | I36: =SUM(I4:I35) -> 73.18 | ... M36: =SUM(M4:M35) -> 32882.744
