Workbook

Sheet т. сети с изопроф
A1: Заявка на трубную продукцию и материалы для производства работ по | S1: Приложение 1
A2: ремонту тепловых сетей по результатам гидравлических испытаний, | S2: к распоряжению №212-р
A3: не учтённых в ремонтной программе 2015 года. | S3: от "15" 06.2015 г.
A5: Филиал | B5: Тепловой район | C5: МО | D5: Наименование ИТЭ | E5: Вид собственности (аренда/хозвед) | F5: Наименование участка | G5: Тепловые сети (магистральные, квартальные: системы отопления или ГВС) | H5: Тип прокладки (надземный, подземный) | I5: Данные по трубной продукции ГОСТ 10704-76 | S5: Данные по изоляционным материалвам | W5: Плани-руемый месяц (числом) произ-водства работ по изоляции
I6: труба | O6: отводы | R6: всего, тыс. руб.
I7: Диаметр трубы, мм | J7: Количество трубы, м | K7: Вес трубы, кг/1 мп | L7: Всего трубы, т | M7: Цена 1 т трубы, тыс. руб | N7: Итого труба, тыс. руб | O7: Кол-во отводов шт | P7: Цена 1 шт отвода, тыс. руб | Q7: Итого отводы, тыс. руб. | S7: Тип изоляции (ПСБ-С (стандарт)/ ПСБ-С (нестандарт)/ минвата) | T7: Толщина изо-ляции δ, мм | U7: Ед. изм | V7: Кол-во
A8: 1 | B8: 2 | D8: 3 | F8: 4 | G8: 5 | H8: 6 | I8: 7 | J8: 8 | O8: 9 | S8: 10 | T8: 11 | U8: 12 | V8: 13 | W8: 14
A9: Арсеньевский | B9: Чугуевский | C9: Чугуевский МР | D9: Котельная №1 | F9: ТК29 –ул.50лет Октября, 220 | G9: кварт. сети | H9: подземн | I9: 40х3 | J9: 40 | K9: 2.74 | L9: =ROUND(J9*K9/1000,2) -> 0.11 | M9: 55 | N9: =ROUND(L9*M9,2) -> 6.05 | O9: 0 | P9: 0.04158 | Q9: =ROUND(O9*P9,2) -> 0 | R9: =N9+Q9 -> 6.05 | S9: минвата | T9: 70 | U9: м3 | V9: 0.98 | W9: 8
A10: Арсеньевский | B10: Чугуевский | C10: Чугуевский МР | D10: Котельная №1 | F10: ТК42-ТК43, ул.50лет Октября | G10: кварт. сети | H10: подземн | I10: 40х3 | J10: 50 | K10: 2.74 | L10: =ROUND(J10*K10/1000,2) -> 0.14 | M10: 55 | N10: =ROUND(L10*M10,2) -> 7.7 | O10: 0 | P10: 0.04158 | Q10: =ROUND(O10*P10,2) -> 0 | R10: =N10+Q10 -> 7.7 | S10: минвата | T10: 70 | U10: м3 | V10: 1.26 | W10: 8
A11: Арсеньевский | B11: Чугуевский | C11: Чугуевский МР | D11: Котельная №1 | F11: ТК19-ул.Лазо,5 | G11: кварт. сети | H11: подземн | I11: 57х3 | J11: 32 | K11: 4 | L11: =ROUND(J11*K11/1000,2) -> 0.13 | M11: 55 | N11: =ROUND(L11*M11,2) -> 7.15 | O11: 0 | P11: 0.07277 | Q11: =ROUND(O11*P11,2) -> 0 | R11: =N11+Q11 -> 7.15 | S11: ПСБ-С не ст Ф237х127 | T11: 55 | U11: м | V11: 16 | W11: 8 | Z11: =J11-V11 -> 16
A12: Арсеньевский | B12: Чугуевский | C12: Чугуевский МР | D12: Котельная №2 | F12: ТК20-ул.Магистральная, 16 | G12: кварт. сети | H12: подземн | I12: 57х3 | J12: 200 | K12: 4 | L12: =ROUND(J12*K12/1000,2) -> 0.8 | M12: 55 | N12: =ROUND(L12*M12,2) -> 44 | O12: 0 | P12: 0.07277 | Q12: =ROUND(O12*P12,2) -> 0 | R12: =N12+Q12 -> 44 | S12: минвата | T12: 70 | U12: м3 | V12: 6.16 | W12: 8
A13: Арсеньевский | B13: Чугуевский | C13: Чугуевский МР | D13: Котельная №2 | F13: ТК22-ул.Строительная, 10 | G13: кварт. сети | H13: подземн | I13: 76х3,5 | J13: 30 | K13: 6.26 | L13: =ROUND(J13*K13/1000,2) -> 0.19 | M13: 55 | N13: =ROUND(L13*M13,2) -> 10.45 | O13: 0 | P13: 0.12359 | Q13: =ROUND(O13*P13,2) -> 0 | R13: =N13+Q13 -> 10.45 | S13: минвата | T13: 70 | U13: м3 | V13: 1.12 | W13: 8
A14: Арсеньевский | B14: Чугуевский | C14: Чугуевский МР | D14: Котельная №3 | F14: ТК16-ул.Чкалова, 17 | G14: кварт. сети | H14: подземн | I14: 40х3 | J14: 50 | K14: 2.74 | L14: =ROUND(J14*K14/1000,2) -> 0.14 | M14: 55 | N14: =ROUND(L14*M14,2) -> 7.7 | O14: 0 | P14: 0.04158 | Q14: =ROUND(O14*P14,2) -> 0 | R14: =N14+Q14 -> 7.7 | S14: минвата | T14: 70 | U14: м3 | V14: 1.26 | W14: 8
A15: Арсеньевский | B15: Чугуевский | C15: Чугуевский МР | D15: Котельная №7 | F15: ТК7-ул.Строительная, 2 | G15: кварт. сети | H15: подземн | I15: 57х3 | J15: 40 | K15: 4 | L15: =ROUND(J15*K15/1000,2) -> 0.16 | M15: 55 | N15: =ROUND(L15*M15,2) -> 8.8 | O15: 8 | P15: 0.07277 | Q15: =ROUND(O15*P15,2) -> 0.58 | R15: =N15+Q15 -> 9.38 | S15: минвата | T15: 70 | U15: м3 | V15: 1.26 | W15: 8
A16: Арсеньевский | B16: Яковлевский | C16: Яковлевский МР | D16: Котельная №1 | F16: Красноармейская 7 | G16: магистр. | H16: подземн | I16: 76х3,5 | J16: 39 | K16: 6.26 | L16: =ROUND(J16*K16/1000,2) -> 0.24 | M16: 55 | N16: =ROUND(L16*M16,2) -> 13.2 | O16: 8 | P16: 0.12359 | Q16: =ROUND(O16*P16,2) -> 0.99 | R16: =N16+Q16 -> 14.19 | S16: минвата | T16: 70 | U16: м3 | V16: 3.5 | W16: 9
A17: Арсеньевский | B17: Яковлевский | C17: Яковлевский МР | D17: Котельная №1 | F17: Первомайская 5 | G17: кварт. сети | H17: подземн | I17: 40х3 | J17: 20 | K17: 2.74 | L17: =ROUND(J17*K17/1000,2) -> 0.05 | M17: 55 | N17: =ROUND(L17*M17,2) -> 2.75 | O17: 8 | P17: 0.04158 | Q17: =ROUND(O17*P17,2) -> 0.33 | R17: =N17+Q17 -> 3.08 | S17: минвата | T17: 70 | U17: м3 | V17: 1.82 | W17: 8
A18: Арсеньевский | B18: Яковлевский | C18: Яковлевский МР | D18: Котельная №2 | F18: Советская-МПКХ | G18: магистр. | H18: подземн | I18: 57х3 | J18: 72 | K18: 4 | L18: =ROUND(J18*K18/1000,2) -> 0.29 | M18: 55 | N18: =ROUND(L18*M18,2) -> 15.95 | O18: 8 | P18: 0.07277 | Q18: =ROUND(O18*P18,2) -> 0.58 | R18: =N18+Q18 -> 16.53 | S18: минвата | T18: 70 | U18: м3 | V18: 6.16 | W18: 9
A19: Арсеньевский | B19: Яковлевский | C19: Яковлевский МР | D19: Котельная №4 | F19: Центральная 18 | G19: магистр. | H19: подземн | I19: 108х4 | J19: 100 | K19: 10.3 | L19: =ROUND(J19*K19/1000,2) -> 1.03 | M19: 55 | N19: =ROUND(L19*M19,2) -> 56.65 | O19: 10 | P19: 0.28991 | Q19: =ROUND(O19*P19,2) -> 2.9 | R19: =N19+Q19 -> 59.55 | S19: минвата | T19: 70 | U19: м3 | V19: 8.4 | W19: 10
A20: Арсеньевский | B20: Яковлевский | C20: Яковлевский МР | D20: Котельная №5 | F20: Почтовая,школа,СДК | G20: магистр. | H20: подземн | I20: 89х3,5 | J20: 50 | K20: 7.38 | L20: =ROUND(J20*K20/1000,2) -> 0.37 | M20: 55 | N20: =ROUND(L20*M20,2) -> 20.35 | O20: 8 | P20: 0.18711 | Q20: =ROUND(O20*P20,2) -> 1.5 | R20: =N20+Q20 -> 21.85 | S20: минвата | T20: 70 | U20: м3 | V20: 4.2 | W20: 11
A21: Арсеньевский | B21: Яковлевский | C21: Яковлевский МР | D21: Котельная №8 | F21: школа-жил.дом | G21: магистр. | H21: подземн | I21: 57х3 | J21: 50 | K21: 4 | L21: =ROUND(J21*K21/1000,2) -> 0.2 | M21: 55 | N21: =ROUND(L21*M21,2) -> 11 | O21: 6 | P21: 0.07277 | Q21: =ROUND(O21*P21,2) -> 0.44 | R21: =N21+Q21 -> 11.44 | S21: минвата | T21: 70 | U21: м3 | V21: 4.2 | W21: 12
A22: Арсеньевский | B22: Анучинский | C22: Анучинский МР | D22: Котельная №1 | F22: тк13-тк14 по ул. 100 лет Анучино | G22: кварт. сети | H22: подземн | I22: 108х4 | J22: 39 | K22: 10.3 | L22: =ROUND(J22*K22/1000,2) -> 0.4 | M22: 55 | N22: =ROUND(L22*M22,2) -> 22 | O22: 2 | P22: 0.28991 | Q22: =ROUND(O22*P22,2) -> 0.58 | R22: =N22+Q22 -> 22.58 | S22: ПСБ-С ст | T22: 50 | U22: м | V22: 39.2 | W22: 8 | Z22: =J22-V22 -> -0.2
A23: Арсеньевский | B23: Анучинский | C23: Анучинский МР | D23: Котельная №1 | F23: тк14-тк15 по ул. 100 лет Анучино | G23: кварт. сети | H23: подземн | I23: 108х4 | J23: 93 | K23: 10.3 | L23: =ROUND(J23*K23/1000,2) -> 0.96 | M23: 55 | N23: =ROUND(L23*M23,2) -> 52.8 | O23: 2 | P23: 0.28991 | Q23: =ROUND(O23*P23,2) -> 0.58 | R23: =N23+Q23 -> 53.38 | S23: ПСБ-С ст | T23: 50 | U23: м | V23: 92.8 | W23: 8 | Z23: =J23-V23 -> 0.2
A24: Арсеньевский | B24: Анучинский | C24: Анучинский МР | D24: Котельная №1 | F24: тк15-жд №4а по ул. 100 лет Анучино | G24: кварт. сети | H24: подземн | I24: 76х3,5 | J24: 158 | K24: 6.26 | L24: =ROUND(J24*K24/1000,2) -> 0.99 | M24: 55 | N24: =ROUND(L24*M24,2) -> 54.45 | O24: 2 | P24: 0.12359 | Q24: =ROUND(O24*P24,2) -> 0.25 | R24: =N24+Q24 -> 54.7 | S24: ПСБ-С ст | T24: 50 | U24: м | V24: 158 | W24: 8 | Z24: =J24-V24 -> 0
A25: Арсеньевский | B25: Анучинский | C25: Анучинский МР | D25: Котельная №1 | F25: тк15-жд №4а по ул. 100 лет Анучино | G25: кварт. сети | H25: подземн | I25: 76х3,5 | J25: 10 | K25: 6.26 | L25: =ROUND(J25*K25/1000,2) -> 0.06 | M25: 55 | N25: =ROUND(L25*M25,2) -> 3.3 | O25: 6 | P25: 0.12359 | Q25: =ROUND(O25*P25,2) -> 0.74 | R25: =N25+Q25 -> 4.04 | S25: ПСБ-С ст | T25: 50 | U25: м | V25: 10 | W25: 8 | Z25: =J25-V25 -> 0
A26: Арсеньевский | B26: Анучинский | C26: Анучинский МР | D26: Котельная №1 | F26: тк4-тк11 к администр. зданию | G26: кварт. сети | H26: подземн | I26: 159х4,5 | J26: 260 | K26: 17.1 | L26: =ROUND(J26*K26/1000,2) -> 4.45 | M26: 55 | N26: =ROUND(L26*M26,2) -> 244.75 | O26: 4 | P26: 0.89282 | Q26: =ROUND(O26*P26,2) -> 3.57 | R26: =N26+Q26 -> 248.32 | S26: ПСБ-С ст | T26: 50 | U26: м | V26: 260 | W26: 8 | Z26: =J26-V26 -> 0
A27: Арсеньевский | B27: Анучинский | C27: Анучинский МР | D27: Котельная №1 | F27: тк13-тк20 по ул. Банивура | G27: кварт. сети | H27: подземн | I27: 133х4 | J27: 360 | K27: 12.7 | L27: =ROUND(J27*K27/1000,2) -> 4.57 | M27: 55 | N27: =ROUND(L27*M27,2) -> 251.35 | O27: 6 | P27: 0.54516 | Q27: =ROUND(O27*P27,2) -> 3.27 | R27: =N27+Q27 -> 254.62 | S27: ПСБ-С ст | T27: 50 | U27: м | V27: 360 | W27: 8 | Z27: =J27-V27 -> 0
A28: Арсеньевский | B28: Анучинский | C28: Анучинский МР | D28: Котельная №4 | F28: тк8-тк9 по ул. Центральной | G28: кварт. сети | H28: подземн | I28: 89х3,5 | J28: 40 | K28: 7.38 | L28: =ROUND(J28*K28/1000,2) -> 0.3 | M28: 55 | N28: =ROUND(L28*M28,2) -> 16.5 | O28: 2 | P28: 0.18711 | Q28: =ROUND(O28*P28,2) -> 0.37 | R28: =N28+Q28 -> 16.87 | S28: ПСБ-С ст | T28: 50 | U28: м | V28: 40 | W28: 9 | Z28: =J28-V28 -> 0
A29: Арсеньевский | B29: Анучинский | C29: Анучинский МР | D29: Котельная №5 | F29: гараж-магазин | G29: кварт. сети | H29: подземн | I29: 48х3 | J29: 90 | K29: 3.33 | L29: =ROUND(J29*K29/1000,2) -> 0.3 | M29: 55 | N29: =ROUND(L29*M29,2) -> 16.5 | O29: 4 | P29: 0.05429 | Q29: =ROUND(O29*P29,2) -> 0.22 | R29: =N29+Q29 -> 16.72 | S29: ПСБ-С ст | T29: 50 | U29: м | V29: 90 | W29: 9 | Z29: =J29-V29 -> 0
A30: Артёмовский | B30: Артемовский | C30: Артемовский ГО | D30: Котельная Амурская | F30: тк5-тк13, ул.Донбасская | G30: кварт. сети | H30: подземн | I30: 108х4 | J30: 126 | K30: 10.3 | L30: =ROUND(J30*K30/1000,2) -> 1.3 | M30: 55 | N30: =ROUND(L30*M30,2) -> 71.5 | O30: 6 | P30: 0.28991 | Q30: =ROUND(O30*P30,2) -> 1.74 | R30: =N30+Q30 -> 73.24 | S30: ПСБ-С ст | T30: 55 | U30: м | V30: 126 | W30: 8 | Z30: =J30-V30 -> 0
A31: Артёмовский | B31: Артемовский | C31: Артемовский ГО | D31: Котельная №4 | F31: тк5-жд №66, ул. Ангарская | G31: кварт. сети | H31: подземн | I31: 108х4 | J31: 60 | K31: 10.3 | L31: =ROUND(J31*K31/1000,2) -> 0.62 | M31: 55 | N31: =ROUND(L31*M31,2) -> 34.1 | O31: 6 | P31: 0.28991 | Q31: =ROUND(O31*P31,2) -> 1.74 | R31: =N31+Q31 -> 35.84 | S31: ПСБ-С ст | T31: 55 | U31: м | V31: 60 | W31: 8 | X31: 186 | Z31: =J31-V31 -> 0
A32: Артёмовский | B32: Хасанский | C32: Хасанский МР | D32: Славянка- Востоктепло | F32: ТК31,ул.Молодёжная3 | G32: магистр. | H32: подземн | I32: 273х7 | J32: 130 | K32: 45.9 | L32: =ROUND(J32*K32/1000,2) -> 5.97 | M32: 55 | N32: =ROUND(L32*M32,2) -> 328.35 | O32: 12 | P32: 4.149 | Q32: =ROUND(O32*P32,2) -> 49.79 | R32: =N32+Q32 -> 378.14 | S32: ПСБ-С ст | T32: 65 | U32: м | V32: 130 | W32: 8 | X32: В целом по поселению 70-80% сетей имеют высокий коррозионный износ (цифры озвучиваются регулярно на всех штабах и совещаниях при вице-губернаторе). Максимально исключили те участки где имеется возможность провести аварийный ремонт в отопительный период, всё что выдержит хотя бы один сезон . | Z32: =J32-V32 -> 0
A33: Артёмовский | B33: Хасанский | C33: Хасанский МР | D33: Славянка- Востоктепло | F33: ул.Блюхера №16 | G33: магистр. | H33: подземн | I33: 219х6 | J33: 120 | K33: 31.5 | L33: =ROUND(J33*K33/1000,2) -> 3.78 | M33: 55 | N33: =ROUND(L33*M33,2) -> 207.9 | O33: 12 | P33: 2.787 | Q33: =ROUND(O33*P33,2) -> 33.44 | R33: =N33+Q33 -> 241.34 | S33: ПСБ-С ст | T33: 65 | U33: м | V33: 120 | W33: 8 | Z33: =J33-V33 -> 0
A34: Артёмовский | B34: Хасанский | C34: Хасанский МР | D34: Славянка- Востоктепло | F34: ТК22а-ТК22б | G34: магистр. | H34: подземн | I34: 159х4,5 | J34: 80 | K34: 17.1 | L34: =ROUND(J34*K34/1000,2) -> 1.37 | M34: 55 | N34: =ROUND(L34*M34,2) -> 75.35 | O34: 8 | P34: 0.89282 | Q34: =ROUND(O34*P34,2) -> 7.14 | R34: =N34+Q34 -> 82.49 | S34: ПСБ-С ст | T34: 60 | U34: м | V34: 80 | W34: 8 | Z34: =J34-V34 -> 0
A35: Артёмовский | B35: Хасанский | C35: Хасанский МР | D35: Славянка- Востоктепло | F35: ул.Молодёжная №2 | G35: магистр. | H35: транзит | I35: 159х4,5 | J35: 60 | K35: 17.1 | L35: =ROUND(J35*K35/1000,2) -> 1.03 | M35: 55 | N35: =ROUND(L35*M35,2) -> 56.65 | O35: 16 | P35: 0.89282 | Q35: =ROUND(O35*P35,2) -> 14.29 | R35: =N35+Q35 -> 70.94 | S35: ПСБ-С ст | T35: 60 | U35: м | V35: 60 | W35: 8 | Z35: =J35-V35 -> 0
A36: Артёмовский | B36: Хасанский | C36: Хасанский МР | D36: Славянка- Востоктепло | F36: ул.50Лет Октября №14-№16 | G36: магистр. | H36: подземн | I36: 133х4 | J36: 180 | K36: 12.7 | L36: =ROUND(J36*K36/1000,2) -> 2.29 | M36: 55 | N36: =ROUND(L36*M36,2) -> 125.95 | O36: 16 | P36: 0.54516 | Q36: =ROUND(O36*P36,2) -> 8.72 | R36: =N36+Q36 -> 134.67 | S36: ПСБ-С ст | T36: 55 | U36: м | V36: 180 | W36: 8 | Z36: =J36-V36 -> 0
A37: Артёмовский | B37: Хасанский | C37: Хасанский МР | D37: Славянка- Востоктепло | F37: у.л. Хасана №23-№25 | G37: магистр. | H37: подземн | I37: 108х4 | J37: 40 | K37: 10.3 | L37: =ROUND(J37*K37/1000,2) -> 0.41 | M37: 55 | N37: =ROUND(L37*M37,2) -> 22.55 | O37: 6 | P37: 0.28991 | Q37: =ROUND(O37*P37,2) -> 1.74 | R37: =N37+Q37 -> 24.29 | S37: ПСБ-С ст | T37: 55 | U37: м | V37: 40 | W37: 8 | Z37: =J37-V37 -> 0
A38: Артёмовский | B38: Хасанский | C38: Хасанский МР | D38: Зарубино Котельная №2 | F38: ТК9-ТК10,ул.Нагорная | G38: магистр. | H38: подземн | I38: 159х4,5 | J38: 20 | K38: 17.1 | L38: =ROUND(J38*K38/1000,2) -> 0.34 | M38: 55 | N38: =ROUND(L38*M38,2) -> 18.7 | O38: 6 | P38: 0.89282 | Q38: =ROUND(O38*P38,2) -> 5.36 | R38: =N38+Q38 -> 24.06 | S38: ПСБ-С ст | T38: 60 | U38: м | V38: 20 | W38: 8 | Z38: =J38-V38 -> 0
A39: Артёмовский | B39: Хасанский | C39: Хасанский МР | D39: Зарубино Котельная №2 | F39: ул.Нагорная №3 | G39: магистр. | H39: подземн | I39: 108х4 | J39: 30 | K39: 10.3 | L39: =ROUND(J39*K39/1000,2) -> 0.31 | M39: 55 | N39: =ROUND(L39*M39,2) -> 17.05 | O39: 4 | P39: 0.28991 | Q39: =ROUND(O39*P39,2) -> 1.16 | R39: =N39+Q39 -> 18.21 | S39: ПСБ-С ст | T39: 55 | U39: м | V39: 30 | W39: 8 | Z39: =J39-V39 -> 0
A40: Артёмовский | B40: Хасанский | C40: Хасанский МР | D40: Посьет Котельная №2 | F40: ул.Тупик-Портовый | G40: кварт. сети | H40: подземн | I40: 89х3,5 | J40: 30 | K40: 7.38 | L40: =ROUND(J40*K40/1000,2) -> 0.22 | M40: 55 | N40: =ROUND(L40*M40,2) -> 12.1 | O40: 8 | P40: 0.18711 | Q40: =ROUND(O40*P40,2) -> 1.5 | R40: =N40+Q40 -> 13.6 | S40: ПСБ-С ст | T40: 50 | U40: м | V40: 30 | W40: 7 | Z40: =J40-V40 -> 0
A41: Артёмовский | B41: Хасанский | C41: Хасанский МР | D41: Краскино Ц.Котельная | F41: от Котельной | G41: магистр. | H41: подземн | I41: 159х4,5 | J41: 20 | K41: 17.1 | L41: =ROUND(J41*K41/1000,2) -> 0.34 | M41: 55 | N41: =ROUND(L41*M41,2) -> 18.7 | O41: 2 | P41: 0.89282 | Q41: =ROUND(O41*P41,2) -> 1.79 | R41: =N41+Q41 -> 20.49 | S41: ПСБ-С ст | T41: 60 | U41: м | V41: 20 | W41: 8 | X41: Хозяйство принято от военных. Состояние сетей неудовлетворительное. Максимально исключили всё, где можно провести аварийный ремонт и участки которые пройдут сезон. | Z41: =J41-V41 -> 0
...

Sheet МО
B1: Заявка на трубную продукцию и материалы для производства работ по
B2: ремонту тепловых сетей по результатам гидравлических испытаний,
B3: не учтённых в ремонтной программе 2015 года.
A5: № пп | B5: Муниципальное образование | C5: Количество трубы, м | D5: Итого трубы, т | E5: Итого трубы, тыс руб | F5: отводы, шт | G5: итого отводы, тыс. руб | H5: всего трубной продукции, тыс. руб
B6: ='т. сети с изопроф'!C233 -> Анучинский МР | C6: ='т. сети с изопроф'!J233 -> 1050 | D6: ='т. сети с изопроф'!L233 -> 12.03 | E6: ='т. сети с изопроф'!N233 -> 661.65 | F6: ='т. сети с изопроф'!O233 -> 28 | G6: ='т. сети с изопроф'!Q233 -> 9.58 | H6: ='т. сети с изопроф'!R233 -> 671.23
B7: ='т. сети с изопроф'!C234 -> Артемовский ГО | C7: ='т. сети с изопроф'!J234 -> 186 | D7: ='т. сети с изопроф'!L234 -> 1.92 | E7: ='т. сети с изопроф'!N234 -> 105.6 | F7: ='т. сети с изопроф'!O234 -> 12 | G7: ='т. сети с изопроф'!Q234 -> 3.48 | H7: ='т. сети с изопроф'!R234 -> 109.08
B8: ='т. сети с изопроф'!C235 -> Дальнегорский ГО | C8: ='т. сети с изопроф'!J235 -> 427 | D8: ='т. сети с изопроф'!L235 -> 9.49 | E8: ='т. сети с изопроф'!N235 -> 521.95 | F8: ='т. сети с изопроф'!O235 -> 2 | G8: ='т. сети с изопроф'!Q235 -> 5.57 | H8: ='т. сети с изопроф'!R235 -> 527.52
B9: ='т. сети с изопроф'!C236 -> Дальнереченский ГО | C9: ='т. сети с изопроф'!J236 -> 578 | D9: ='т. сети с изопроф'!L236 -> 12.02 | E9: ='т. сети с изопроф'!N236 -> 661.1 | F9: ='т. сети с изопроф'!O236 -> 14 | G9: ='т. сети с изопроф'!Q236 -> 6.04 | H9: ='т. сети с изопроф'!R236 -> 667.14
A10: 5 | B10: Дальнереченский МР | C10: 0 | D10: 0 | E10: 0 | F10: ='т. сети с изопроф'!O237 -> 0
B11: ='т. сети с изопроф'!C238 -> Кавалеровский МР | C11: ='т. сети с изопроф'!J238 -> 289 | D11: ='т. сети с изопроф'!L238 -> 6.55 | E11: ='т. сети с изопроф'!N238 -> 360.25 | F11: ='т. сети с изопроф'!O238 -> 6 | G11: ='т. сети с изопроф'!Q238 -> 16.75 | H11: ='т. сети с изопроф'!R238 -> 377
B12: ='т. сети с изопроф'!C239 -> Кировский МР | C12: ='т. сети с изопроф'!J239 -> 1344 | D12: ='т. сети с изопроф'!L239 -> 25.53 | E12: ='т. сети с изопроф'!N239 -> 1404.15 | F12: ='т. сети с изопроф'!O239 -> 66 | G12: ='т. сети с изопроф'!Q239 -> 60.41 | H12: ='т. сети с изопроф'!R239 -> 1464.56
B13: ='т. сети с изопроф'!C240 -> Красноармейский МР | C13: ='т. сети с изопроф'!J240 -> 2355 | D13: ='т. сети с изопроф'!L240 -> 25.18 | E13: ='т. сети с изопроф'!N240 -> 1384.9 | F13: ='т. сети с изопроф'!O240 -> 0 | G13: ='т. сети с изопроф'!Q240 -> 0 | H13: ='т. сети с изопроф'!R240 -> 1384.9
B14: ='т. сети с изопроф'!C241 -> Лазовский МР | C14: ='т. сети с изопроф'!J241 -> 98 | D14: ='т. сети с изопроф'!L241 -> 0.38 | E14: ='т. сети с изопроф'!N241 -> 20.9 | F14: ='т. сети с изопроф'!O241 -> 32 | G14: ='т. сети с изопроф'!Q241 -> 2.02 | H14: ='т. сети с изопроф'!R241 -> 22.92
B15: ='т. сети с изопроф'!C242 -> Лесозаводский ГО и МР | C15: ='т. сети с изопроф'!J242 -> 2476 | D15: ='т. сети с изопроф'!L242 -> 45.23 | E15: ='т. сети с изопроф'!N242 -> 2487.65 | F15: ='т. сети с изопроф'!O242 -> 124 | G15: ='т. сети с изопроф'!Q242 -> 146.58 | H15: ='т. сети с изопроф'!R242 -> 2634.23
A16: 11 | B16: Михайловский МР | C16: 0 | D16: 0 | E16: 0 | F16: ='т. сети с изопроф'!O243 -> 0 | G16: ='т. сети с изопроф'!Q243 -> 0 | H16: ='т. сети с изопроф'!R243 -> 0
B17: ='т. сети с изопроф'!C244 -> Надеждинский МР | C17: ='т. сети с изопроф'!J244 -> 654 | D17: ='т. сети с изопроф'!L244 -> 3.1 | E17: ='т. сети с изопроф'!N244 -> 170.5 | F17: ='т. сети с изопроф'!O244 -> 93 | G17: ='т. сети с изопроф'!Q244 -> 6.57 | H17: ='т. сети с изопроф'!R244 -> 177.07
B18: ='т. сети с изопроф'!C245 -> Находкинский ГО | C18: ='т. сети с изопроф'!J245 -> 7197 | D18: ='т. сети с изопроф'!L245 -> 217.46 | E18: ='т. сети с изопроф'!N245 -> 11960.3 | F18: ='т. сети с изопроф'!O245 -> 248 | G18: ='т. сети с изопроф'!Q245 -> 461.87 | H18: ='т. сети с изопроф'!R245 -> 12422.17
B19: ='т. сети с изопроф'!C246 -> Октябрьский МР | C19: ='т. сети с изопроф'!J246 -> 470 | D19: ='т. сети с изопроф'!L246 -> 2.73 | E19: ='т. сети с изопроф'!N246 -> 150.15 | F19: ='т. сети с изопроф'!O246 -> 20 | G19: ='т. сети с изопроф'!Q246 -> 2.6 | H19: ='т. сети с изопроф'!R246 -> 152.75
B20: ='т. сети с изопроф'!C247 -> Ольгинский МР | C20: ='т. сети с изопроф'!J247 -> 410 | D20: ='т. сети с изопроф'!L247 -> 2.56 | E20: ='т. сети с изопроф'!N247 -> 140.8 | F20: ='т. сети с изопроф'!O247 -> 34 | G20: ='т. сети с изопроф'!Q247 -> 4.95 | H20: ='т. сети с изопроф'!R247 -> 145.75
B21: ='т. сети с изопроф'!C248 -> Партизанский ГО | C21: ='т. сети с изопроф'!J248 -> 651 | D21: ='т. сети с изопроф'!L248 -> 4.47 | E21: ='т. сети с изопроф'!N248 -> 245.85 | F21: ='т. сети с изопроф'!O248 -> 16 | G21: ='т. сети с изопроф'!Q248 -> 2.89 | H21: ='т. сети с изопроф'!R248 -> 248.74
A22: 17 | B22: Партизанский МР | C22: 0 | D22: 0 | E22: 0 | F22: ='т. сети с изопроф'!O249 -> 0
A23: 18 | B23: ='т. сети с изопроф'!C250 -> Пограничный МР | C23: ='т. сети с изопроф'!J250 -> 0 | D23: ='т. сети с изопроф'!L250 -> 0 | E23: ='т. сети с изопроф'!N250 -> 0 | F23: ='т. сети с изопроф'!O250 -> 0
B24: ='т. сети с изопроф'!C251 -> Пожарский МР | C24: ='т. сети с изопроф'!J251 -> 260 | D24: ='т. сети с изопроф'!L251 -> 6.68 | E24: ='т. сети с изопроф'!N251 -> 367.4 | F24: ='т. сети с изопроф'!O251 -> 10 | G24: ='т. сети с изопроф'!Q251 -> 11.89 | H24: ='т. сети с изопроф'!R251 -> 379.29
A25: 20 | B25: Спасский ГО | C25: 0 | D25: 0 | E25: 0 | F25: ='т. сети с изопроф'!O252 -> 0
B26: ='т. сети с изопроф'!C253 -> Спасский МР | C26: ='т. сети с изопроф'!J253 -> 750 | D26: ='т. сети с изопроф'!L253 -> 6.34 | E26: ='т. сети с изопроф'!N253 -> 348.7 | F26: ='т. сети с изопроф'!O253 -> 24 | G26: ='т. сети с изопроф'!Q253 -> 5.66 | H26: ='т. сети с изопроф'!R253 -> 354.36
B27: ='т. сети с изопроф'!C254 -> Фокино ГО ЗАТО | C27: ='т. сети с изопроф'!J254 -> 1352 | D27: ='т. сети с изопроф'!L254 -> 30.7 | E27: ='т. сети с изопроф'!N254 -> 1688.5 | F27: ='т. сети с изопроф'!O254 -> 76 | G27: ='т. сети с изопроф'!Q254 -> 136.95 | H27: ='т. сети с изопроф'!R254 -> 1825.45
B28: ='т. сети с изопроф'!C255 -> Ханкайский МР | C28: ='т. сети с изопроф'!J255 -> 430 | D28: ='т. сети с изопроф'!L255 -> 2.01 | E28: ='т. сети с изопроф'!N255 -> 110.55 | F28: ='т. сети с изопроф'!O255 -> 12 | G28: ='т. сети с изопроф'!Q255 -> 1.07 | H28: ='т. сети с изопроф'!R255 -> 111.62
B29: ='т. сети с изопроф'!C256 -> Хасанский МР | C29: ='т. сети с изопроф'!J256 -> 1330 | D29: ='т. сети с изопроф'!L256 -> 26.25 | E29: ='т. сети с изопроф'!N256 -> 1443.75 | F29: ='т. сети с изопроф'!O256 -> 120 | G29: ='т. сети с изопроф'!Q256 -> 155.69 | H29: ='т. сети с изопроф'!R256 -> 1599.44
A30: 25 | B30: Хорольский МР | C30: 0 | D30: 0 | E30: 0 | F30: ='т. сети с изопроф'!O257 -> 0 | G30: 0 | H30: 0
B31: ='т. сети с изопроф'!C258 -> Черниговский МР | C31: ='т. сети с изопроф'!J258 -> 110 | D31: ='т. сети с изопроф'!L258 -> 0.44 | E31: ='т. сети с изопроф'!N258 -> 24.2 | F31: ='т. сети с изопроф'!O258 -> 4 | G31: ='т. сети с изопроф'!Q258 -> 0.29 | H31: ='т. сети с изопроф'!R258 -> 24.49
B32: ='т. сети с изопроф'!C259 -> Чугуевский МР | C32: ='т. сети с изопроф'!J259 -> 442 | D32: ='т. сети с изопроф'!L259 -> 1.67 | E32: ='т. сети с изопроф'!N259 -> 91.85 | F32: ='т. сети с изопроф'!O259 -> 8 | G32: ='т. сети с изопроф'!Q259 -> 0.58 | H32: ='т. сети с изопроф'!R259 -> 92.43
B33: ='т. сети с изопроф'!C260 -> Шкотовский МР | C33: ='т. сети с изопроф'!J260 -> 2760 | D33: ='т. сети с изопроф'!L260 -> 37.21 | E33: ='т. сети с изопроф'!N260 -> 2046.55 | F33: ='т. сети с изопроф'!O260 -> 106 | G33: ='т. сети с изопроф'!Q260 -> 63.77 | H33: ='т. сети с изопроф'!R260 -> 2110.32
B34: ='т. сети с изопроф'!C261 -> Яковлевский МР | C34: ='т. сети с изопроф'!J261 -> 331 | D34: ='т. сети с изопроф'!L261 -> 2.18 | E34: ='т. сети с изопроф'!N261 -> 119.9 | F34: ='т. сети с изопроф'!O261 -> 48 | G34: ='т. сети с изопроф'!Q261 -> 6.74 | H34: ='т. сети с изопроф'!R261 -> 126.64
B35: Всего | C35: ='т. сети с изопроф'!J262 -> 25950 | D35: ='т. сети с изопроф'!L262 -> 482.13 | E35: ='т. сети с изопроф'!N262 -> 26517.15 | F35: ='т. сети с изопроф'!O262 -> 1103 | G35: ='т. сети с изопроф'!Q262 -> 1111.95 | H35: ='т. сети с изопроф'!R262 -> 27629.1

Sheet Филиалы
A1: Заявка на трубную продукцию и материалы для производства работ по
A2: ремонту тепловых сетей по результатам гидравлических испытаний,
A3: не учтённых в ремонтной программе 2015 года.
A5: № пп | B5: Муниципальное образование | C5: Количество трубы, м | D5: итого, т | E5: итого, тыс руб | F5: отводы, шт | G5: итого отводы, тыс. руб | H5: всего трубной продукции, тыс. руб
A6: 1 | B6: ='т. сети с изопроф'!F267 -> Арсеньевский | C6: ='т. сети с изопроф'!J267 -> 1823 | D6: ='т. сети с изопроф'!L267 -> 15.88 | E6: ='т. сети с изопроф'!N267 -> 873.4 | F6: ='т. сети с изопроф'!O267 -> 84 | G6: ='т. сети с изопроф'!Q267 -> 16.9 | H6: ='т. сети с изопроф'!R267 -> 890.3
A7: 2 | B7: ='т. сети с изопроф'!F268 -> Артёмовский | C7: ='т. сети с изопроф'!J268 -> 4930 | D7: ='т. сети с изопроф'!L268 -> 68.48 | E7: ='т. сети с изопроф'!N268 -> 3766.4 | F7: ='т. сети с изопроф'!O268 -> 331 | G7: ='т. сети с изопроф'!Q268 -> 229.51 | H7: ='т. сети с изопроф'!R268 -> 3995.91
A8: 3 | B8: ='т. сети с изопроф'!F269 -> Горноключевской | C8: ='т. сети с изопроф'!J269 -> 4277 | D8: ='т. сети с изопроф'!L269 -> 62.73 | E8: ='т. сети с изопроф'!N269 -> 3450.15 | F8: ='т. сети с изопроф'!O269 -> 80 | G8: ='т. сети с изопроф'!Q269 -> 66.45 | H8: ='т. сети с изопроф'!R269 -> 3516.6
A9: 4 | B9: ='т. сети с изопроф'!F270 -> Дальнегорский | C9: ='т. сети с изопроф'!J270 -> 1126 | D9: ='т. сети с изопроф'!L270 -> 18.6 | E9: ='т. сети с изопроф'!N270 -> 1023 | F9: ='т. сети с изопроф'!O270 -> 42 | G9: ='т. сети с изопроф'!Q270 -> 27.27 | H9: ='т. сети с изопроф'!R270 -> 1050.27
A10: 5 | B10: ='т. сети с изопроф'!F271 -> Лесозаводский | C10: ='т. сети с изопроф'!J271 -> 2736 | D10: ='т. сети с изопроф'!L271 -> 51.91 | E10: ='т. сети с изопроф'!N271 -> 2855.05 | F10: ='т. сети с изопроф'!O271 -> 134 | G10: ='т. сети с изопроф'!Q271 -> 158.47 | H10: ='т. сети с изопроф'!R271 -> 3013.52
A11: 6 | B11: ='т. сети с изопроф'!F272 -> Михайловский | C11: ='т. сети с изопроф'!J272 -> 900 | D11: ='т. сети с изопроф'!L272 -> 4.74 | E11: ='т. сети с изопроф'!N272 -> 260.7 | F11: ='т. сети с изопроф'!O272 -> 32 | G11: ='т. сети с изопроф'!Q272 -> 3.67 | H11: ='т. сети с изопроф'!R272 -> 264.37
A12: 7 | B12: ='т. сети с изопроф'!F273 -> Находкинский | C12: ='т. сети с изопроф'!J273 -> 7197 | D12: ='т. сети с изопроф'!L273 -> 217.46 | E12: ='т. сети с изопроф'!N273 -> 11960.3 | F12: ='т. сети с изопроф'!O273 -> 248 | G12: ='т. сети с изопроф'!Q273 -> 461.87 | H12: ='т. сети с изопроф'!R273 -> 12422.17
A13: 8 | B13: ='т. сети с изопроф'!F274 -> Партизанский | C13: ='т. сети с изопроф'!J274 -> 2101 | D13: ='т. сети с изопроф'!L274 -> 35.55 | E13: ='т. сети с изопроф'!N274 -> 1955.25 | F13: ='т. сети с изопроф'!O274 -> 124 | G13: ='т. сети с изопроф'!Q274 -> 141.86 | H13: ='т. сети с изопроф'!R274 -> 2097.11
A14: 9 | B14: ='т. сети с изопроф'!F275 -> Спасский | C14: ='т. сети с изопроф'!J275 -> 860 | D14: ='т. сети с изопроф'!L275 -> 6.78 | E14: ='т. сети с изопроф'!N275 -> 372.9 | F14: ='т. сети с изопроф'!O275 -> 28 | G14: ='т. сети с изопроф'!Q275 -> 5.95 | H14: ='т. сети с изопроф'!R275 -> 378.85
B15: Всего | C15: ='т. сети с изопроф'!J276 -> 25950 | D15: ='т. сети с изопроф'!L276 -> 482.13 | E15: ='т. сети с изопроф'!N276 -> 26517.15 | F15: =SUM(F6:F14) -> 1103 | G15: =SUM(G6:G14) -> 1111.95 | H15: =SUM(H6:H14) -> 27629.1

Sheet Сортамент
A1: Заявка на трубную продукцию и материалы для производства работ по
A2: ремонту тепловых сетей по результатам гидравлических испытаний,
A3: не учтённых в ремонтной программе 2015 года.
A5: № пп | B5: Данные по трубной продукции
B6: Наружный диаметр трубы, мм | C6: Количество трубы, м | D6: Итого, т | E6: Итого, тыс. руб | F6: отводы, шт | G6: итого отводы, тыс. руб | H6: всего трубной продукции, тыс. руб
A7: 1 | B7: ='т. сети с изопроф'!I279 -> 40х3 | C7: ='т. сети с изопроф'!J279 -> 429 | D7: ='т. сети с изопроф'!L279 -> 1.17 | E7: ='т. сети с изопроф'!N279 -> 64.35 | F7: ='т. сети с изопроф'!O279 -> 43 | G7: ='т. сети с изопроф'!Q279 -> 1.79 | H7: ='т. сети с изопроф'!R279 -> 66.14
A8: 2 | B8: ='т. сети с изопроф'!I280 -> 48х3 | C8: ='т. сети с изопроф'!J280 -> 280 | D8: ='т. сети с изопроф'!L280 -> 0.94 | E8: ='т. сети с изопроф'!N280 -> 51.7 | F8: ='т. сети с изопроф'!O280 -> 40 | G8: ='т. сети с изопроф'!Q280 -> 2.18 | H8: ='т. сети с изопроф'!R280 -> 53.88
A9: 3 | B9: ='т. сети с изопроф'!I281 -> 57х3 | C9: ='т. сети с изопроф'!J281 -> 3458 | D9: ='т. сети с изопроф'!L281 -> 13.83 | E9: ='т. сети с изопроф'!N281 -> 760.65 | F9: ='т. сети с изопроф'!O281 -> 178 | G9: ='т. сети с изопроф'!Q281 -> 12.97 | H9: ='т. сети с изопроф'!R281 -> 773.62
A10: 4 | B10: ='т. сети с изопроф'!I282 -> 76х3,5 | C10: ='т. сети с изопроф'!J282 -> 2091 | D10: ='т. сети с изопроф'!L282 -> 13.11 | E10: ='т. сети с изопроф'!N282 -> 721.05 | F10: ='т. сети с изопроф'!O282 -> 98 | G10: ='т. сети с изопроф'!Q282 -> 12.09 | H10: ='т. сети с изопроф'!R282 -> 733.14
A11: 5 | B11: ='т. сети с изопроф'!I283 -> 89х3,5 | C11: ='т. сети с изопроф'!J283 -> 1877 | D11: ='т. сети с изопроф'!L283 -> 13.85 | E11: ='т. сети с изопроф'!N283 -> 761.75 | F11: ='т. сети с изопроф'!O283 -> 104 | G11: ='т. сети с изопроф'!Q283 -> 19.46 | H11: ='т. сети с изопроф'!R283 -> 781.21
A12: 6 | B12: ='т. сети с изопроф'!I284 -> 108х4 | C12: ='т. сети с изопроф'!J284 -> 5536 | D12: ='т. сети с изопроф'!L284 -> 57.04 | E12: ='т. сети с изопроф'!N284 -> 3137.2 | F12: ='т. сети с изопроф'!O284 -> 231 | G12: ='т. сети с изопроф'!Q284 -> 66.99 | H12: ='т. сети с изопроф'!R284 -> 3204.19
A13: 7 | B13: ='т. сети с изопроф'!I285 -> 133х4 | C13: ='т. сети с изопроф'!J285 -> 836 | D13: ='т. сети с изопроф'!L285 -> 10.62 | E13: ='т. сети с изопроф'!N285 -> 584.1 | F13: ='т. сети с изопроф'!O285 -> 36 | G13: ='т. сети с изопроф'!Q285 -> 19.62 | H13: ='т. сети с изопроф'!R285 -> 603.72
A14: 8 | B14: ='т. сети с изопроф'!I286 -> 159х4,5 | C14: ='т. сети с изопроф'!J286 -> 4454 | D14: ='т. сети с изопроф'!L286 -> 76.19 | E14: ='т. сети с изопроф'!N286 -> 4190.45 | F14: ='т. сети с изопроф'!O286 -> 159 | G14: ='т. сети с изопроф'!Q286 -> 141.97 | H14: ='т. сети с изопроф'!R286 -> 4332.42
A15: 9 | B15: ='т. сети с изопроф'!I287 -> 219х6 | C15: ='т. сети с изопроф'!J287 -> 3776 | D15: ='т. сети с изопроф'!L287 -> 118.96 | E15: ='т. сети с изопроф'!N287 -> 6542.8 | F15: ='т. сети с изопроф'!O287 -> 132 | G15: ='т. сети с изопроф'!Q287 -> 367.89 | H15: ='т. сети с изопроф'!R287 -> 6910.69
A16: 10 | B16: ='т. сети с изопроф'!I288 -> 273х7 | C16: ='т. сети с изопроф'!J288 -> 1469 | D16: ='т. сети с изопроф'!L288 -> 67.42 | E16: ='т. сети с изопроф'!N288 -> 3708.1 | F16: ='т. сети с изопроф'!O288 -> 42 | G16: ='т. сети с изопроф'!Q288 -> 174.27 | H16: ='т. сети с изопроф'!R288 -> 3882.37
A17: 11 | B17: ='т. сети с изопроф'!I289 -> 325х8 | C17: ='т. сети с изопроф'!J289 -> 1744 | D17: ='т. сети с изопроф'!L289 -> 109 | E17: ='т. сети с изопроф'!N289 -> 5995 | F17: ='т. сети с изопроф'!O289 -> 40 | G17: ='т. сети с изопроф'!Q289 -> 292.72 | H17: ='т. сети с изопроф'!R289 -> 6287.72
B18: ='т. сети с изопроф'!I290 -> 0 | C18: ='т. сети с изопроф'!J290 -> 25950 | D18: ='т. сети с изопроф'!L290 -> 482.13 | E18: ='т. сети с изопроф'!N290 -> 26517.15 | F18: ='т. сети с изопроф'!O290 -> 1103 | G18: =SUM(G7:G17) -> 1111.95 | H18: =SUM(H7:H17) -> 27629.1

Sheet Свод по МО котл. и ТС
A1: ПОТРЕБНОСТЬ В ТРУБНОЙ ПРОДУКЦИИ ПО РЕЗУЛЬТАТАМ ГИДРАВЛИЧЕСКИХ ИСПЫТАНИЙ
A2: Муниципальное образование | B2: Тепловые сети | H2: Котловая труба | K2: Всего
B3: Количество трубы, м | C3: Итого трубы, т | D3: Итого трубы, тыс руб | E3: отводы, шт | F3: итого отводы, тыс. руб | G3: всего трубной продукции, тыс. руб | H3: к-во, м | I3: к-во, т | J3: стоимость тыс руб | K3: Трубы, п.м | L3: Трубы, тонн | M3: Трубы, тыс. руб.
A4: Артемовский ГО | B4: 186 | C4: 1.92 | D4: 105.6 | E4: 12 | F4: 3.48 | G4: 109.08 | K4: =B4+H4 -> 186 | L4: =C4+I4 -> 1.92 | M4: =G4+J4 -> 109.08
A5: Арсеньевский ГО
A6: Дальнегорский ГО | B6: 427 | C6: 9.49 | D6: 521.95 | E6: 2 | F6: 5.57 | G6: 527.52 | K6: =B6+H6 -> 427 | L6: =C6+I6 -> 9.49 | M6: =G6+J6 -> 527.52
A7: Дальнереченский ГО | B7: 578 | C7: 12.02 | D7: 661.1 | E7: 14 | F7: 6.04 | G7: 667.14 | H7: 643 | I7: 3.63 | J7: 268.995 | K7: =B7+H7 -> 1221 | L7: =C7+I7 -> 15.65 | M7: =G7+J7 -> 936.135
A8: Лесозаводский ГО и МР | B8: 2476 | C8: 45.23 | D8: 2487.65 | E8: 124 | F8: 146.58 | G8: 2634.23 | H8: 30 | I8: 0.14 | J8: 10.09 | K8: =B8+H8 -> 2506 | L8: =C8+I8 -> 45.37 | M8: =G8+J8 -> 2644.32
A9: Находкинский ГО | B9: 7197 | C9: 217.46 | D9: 11960.3 | E9: 248 | F9: 461.87 | G9: 12422.17 | H9: 762.62 | I9: 5.35 | J9: 385.853 | K9: =B9+H9 -> 7959.62 | L9: =C9+I9 -> 222.81 | M9: =G9+J9 -> 12808.023
A10: Партизанский ГО | B10: 651 | C10: 4.47 | D10: 245.85 | E10: 16 | F10: 2.89 | G10: 248.74 | H10: 241 | I10: 0.62 | J10: 46.237 | K10: =B10+H10 -> 892 | L10: =C10+I10 -> 5.09 | M10: =G10+J10 -> 294.977
A11: Спасский ГО | B11: 0 | C11: 0 | D11: 0 | E11: 0 | H11: 1070 | I11: 4.11 | J11: 304.872 | K11: =B11+H11 -> 1070 | L11: =C11+I11 -> 4.11 | M11: =G11+J11 -> 304.872
A12: Фокино ГО ЗАТО | B12: 1352 | C12: 30.7 | D12: 1688.5 | E12: 76 | F12: 136.95 | G12: 1825.45 | K12: =B12+H12 -> 1352 | L12: =C12+I12 -> 30.7 | M12: =G12+J12 -> 1825.45
A13: Анучинский МР | B13: 1050 | C13: 12.03 | D13: 661.65 | E13: 28 | F13: 9.58 | G13: 671.23 | K13: =B13+H13 -> 1050 | L13: =C13+I13 -> 12.03 | M13: =G13+J13 -> 671.23
A14: Дальнереченский МР | B14: 0 | C14: 0 | D14: 0 | E14: 0 | H14: 1260 | I14: 3.04 | J14: 228.941 | K14: =B14+H14 -> 1260 | L14: =C14+I14 -> 3.04 | M14: =G14+J14 -> 228.941
A15: Кавалеровский МР | B15: 289 | C15: 6.55 | D15: 360.25 | E15: 6 | F15: 16.75 | G15: 377 | H15: 1761 | I15: 5.87 | J15: 244.086 | K15: =B15+H15 -> 2050 | L15: =C15+I15 -> 12.42 | M15: =G15+J15 -> 621.086
A16: Кировский МР | B16: 1344 | C16: 25.53 | D16: 1404.15 | E16: 66 | F16: 60.41 | G16: 1464.56 | H16: 752 | I16: 3.66 | J16: 266.215 | K16: =B16+H16 -> 2096 | L16: =C16+I16 -> 29.19 | M16: =G16+J16 -> 1730.775
A17: Красноармейский МР | B17: 2355 | C17: 25.18 | D17: 1384.9 | E17: 0 | F17: 0 | G17: 1384.9 | K17: =B17+H17 -> 2355 | L17: =C17+I17 -> 25.18 | M17: =G17+J17 -> 1384.9
A18: Лазовский МР | B18: 98 | C18: 0.38 | D18: 20.9 | E18: 32 | F18: 2.02 | G18: 22.92 | H18: 30 | I18: 0.14 | J18: 10.09 | K18: =B18+H18 -> 128 | L18: =C18+I18 -> 0.52 | M18: =G18+J18 -> 33.01
A19: Михайловский МР | B19: 0 | C19: 0 | D19: 0 | E19: 0 | F19: 0 | G19: 0 | K19: =B19+H19 -> 0 | L19: =C19+I19 -> 0 | M19: =G19+J19 -> 0
A20: Надеждинский МР | B20: 654 | C20: 3.1 | D20: 170.5 | E20: 93 | F20: 6.57 | G20: 177.07 | K20: =B20+H20 -> 654 | L20: =C20+I20 -> 3.1 | M20: =G20+J20 -> 177.07
A21: Октябрьский МР | B21: 470 | C21: 2.73 | D21: 150.15 | E21: 20 | F21: 2.6 | G21: 152.75 | K21: =B21+H21 -> 470 | L21: =C21+I21 -> 2.73 | M21: =G21+J21 -> 152.75
A22: Ольгинский МР | B22: 410 | C22: 2.56 | D22: 140.8 | E22: 34 | F22: 4.95 | G22: 145.75 | K22: =B22+H22 -> 410 | L22: =C22+I22 -> 2.56 | M22: =G22+J22 -> 145.75
A23: Партизанский МР | B23: 0 | C23: 0 | D23: 0 | E23: 0 | H23: 406 | I23: 1.08 | J23: 82.038 | K23: =B23+H23 -> 406 | L23: =C23+I23 -> 1.08 | M23: =G23+J23 -> 82.038
A24: Пограничный МР | B24: 0 | C24: 0 | D24: 0 | E24: 0 | K24: =B24+H24 -> 0 | L24: =C24+I24 -> 0 | M24: =G24+J24 -> 0
K25: =B25+H25 -> 0 | L25: =C25+I25 -> 0 | M25: =G25+J25 -> 0
A26: Черниговский МР | B26: 110 | C26: 0.44 | D26: 24.2 | E26: 4 | F26: 0.29 | G26: 24.49 | K26: =B26+H26 -> 110 | L26: =C26+I26 -> 0.44 | M26: =G26+J26 -> 24.49
A27: Чугуевский МР | B27: 442 | C27: 1.67 | D27: 91.85 | E27: 8 | F27: 0.58 | G27: 92.43 | H27: 0 | I27: 0 | J27: 0 | K27: =B27+H27 -> 442 | L27: =C27+I27 -> 1.67 | M27: =G27+J27 -> 92.43
A28: Шкотовский МР | B28: 2760 | C28: 37.21 | D28: 2046.55 | E28: 106 | F28: 63.77 | G28: 2110.32 | H28: 141 | I28: 0.64 | J28: 47.932 | K28: =B28+H28 -> 2901 | L28: =C28+I28 -> 37.85 | M28: =G28+J28 -> 2158.252
A29: Хорольский МР | B29: 0 | C29: 0 | D29: 0 | E29: 0 | F29: 0 | G29: 0 | K29: =B29+H29 -> 0 | L29: =C29+I29 -> 0 | M29: =G29+J29 -> 0
A30: Хасанский МР | B30: 1330 | C30: 26.25 | D30: 1443.75 | E30: 120 | F30: 155.69 | G30: 1599.44 | K30: =B30+H30 -> 1330 | L30: =C30+I30 -> 26.25 | M30: =G30+J30 -> 1599.44
A31: Пожарский МР | B31: 260 | C31: 6.68 | D31: 367.4 | E31: 10 | F31: 11.89 | G31: 379.29 | H31: 2036 | I31: 8.35 | J31: 641.948 | K31: =B31+H31 -> 2296 | L31: =C31+I31 -> 15.03 | M31: =G31+J31 -> 1021.238
A32: Ханкайский МР | B32: 430 | C32: 2.01 | D32: 110.55 | E32: 12 | F32: 1.07 | G32: 111.62 | K32: =B32+H32 -> 430 | L32: =C32+I32 -> 2.01 | M32: =G32+J32 -> 111.62
A33: Спасский МР | B33: 750 | C33: 6.34 | D33: 348.7 | E33: 24 | F33: 5.66 | G33: 354.36 | H33: 1780 | I33: 5.53 | J33: 420.147 | K33: =B33+H33 -> 2530 | L33: =C33+I33 -> 11.87 | M33: =G33+J33 -> 774.507
A34: Яковлевский МР | B34: 331 | C34: 2.18 | D34: 119.9 | E34: 48 | F34: 6.74 | G34: 126.64 | H34: 6623.41 | I34: 31.02 | J34: 2296.2 | K34: =B34+H34 -> 6954.41 | L34: =C34+I34 -> 33.2 | M34: =G34+J34 -> 2422.84
A36: Всего | B36: =SUM(B4:B35) -> 25950 | C36: =SUM(C4:C35) -> 482.13 | D36: =SUM(D4:D35) -> 26517.15 | E36: =SUM(E4:E35) -> 1103 | F36: =SUM(F4:F35) -> 1111.95 | G36: =SUM(G4:G35) -> 27629.1 | H36: =SUM(H4:H35) -> 17536.03 | I36: =SUM(I4:I35) -> 73.18 | ... M36: =SUM(M4:M35) -> 32882.744
