Workbook
Name А1: 'динамика для поездки'!#REF!
Name А1: #REF!

Sheet динамика для поездки
A7: Информация о динамике дебиторской задолженности и уровень сборов за 1 полугодие 2015 года по МО (млн.руб.)
A10: Муниципальное образование | B10: Категория потребителей | C10: Задолженность на 01.01.15г. | D10: Задолженность на 01.07.15г. | E10: динамика дз | F10: Всего в судебном и исполнительном производстве на 01.07.2015 | G10: Уровень сборов за 6 месяцев 2015 года | I10: Всего в судебнои и иполнительном производстве | J10: Поступление денежных средств за день (03.13.12г.) | K10: Поступление денежных средств за день (04.13.12г.) | L10: Поступление денежных средств за день (05.13.12г.) | M10: Поступление денежных средств за день (06.13.12г.) | N10: Поступление денежных средств за день (07.13.12г.) | O10: Поступление денежных средств за день (13.12.12г.) | P10: Поступление денежных средств за день (13.12.12г.) | Q10: Поступление денежных средств за день (13.12.12г.) | R10: Поступление денежных средств за день (13.13.12г.) | S10: Поступление денежных средств за день (14.13.12г.) | T10: Поступление денежных средств за день (17.13.12г.) | U10: Поступление денежных средств за день (21.13.12г.) | V10: Поступление денежных средств за день (21.13.12г.) | W10: Поступление денежных средств за день (21.13.12г.) | X10: Поступление денежных средств за день (21.13.12г.) | Y10: Поступление денежных средств за день (25.13.12г.) | Z10: Поступление денежных средств за день (25.13.12г.) | AA10: Поступление денежных средств за день (30.13.12г.) | AB10: Поступление денежных средств за день (30.13.12г.) | AC10: Поступление денежных средств за день (30.13.12г.)
D11: Дебет
A13: г. Артем | B13: итого | C13: 42.216697 | D13: 36.823348 | E13: =D13-C13 -> -5.3933484 | F13: =('[1]2015'!$O$161)/1000000 -> 18.752746 | G13: ='[2]по районам'!$R$52 -> 1.0400791 | I13: 0 | J13: 0 | K13: 0 | L13: 0 | M13: 0 | N13: 0 | O13: 0 | P13: 0 | Q13: 0 | R13: 166462.75 | S13: 15161.48 | T13: 1956625 | U13: 0 | V13: 0 | W13: 0 | X13: 0 | Y13: 0 | Z13: 0 | AA13: 144056 | AB13: 2171.01 | AC13: 0
B14: в т.ч. население | C14: 37.629352 | D14: 35.707926 | E14: =D14-C14 -> -1.9214255 | F14: =('[1]2015'!$O$150)/1000000 -> 18.738703 | G14: ='[2]по районам'!$R$44 -> 1.0220925
A15: г. Арсеньев | B15: итого | C15: 40.549538 | D15: 34.749497 | E15: =D15-C15 -> -5.8000413 | F15: =('[1]2015'!$O$36)/1000000 -> 34.749497 | G15: 0 | I15: =G15 -> 0 | J15: 0 | K15: 0 | L15: 0 | M15: 11198.63 | N15: 0 | O15: 0 | P15: 173999.84 | Q15: 0 | R15: 1733.64 | S15: 0 | T15: 0 | U15: 0 | V15: 0 | W15: 0 | X15: 0 | Y15: 0 | Z15: 84776.91 | AA15: 0 | AB15: 138874.66 | AC15: 101181.17
B16: в т.ч. население | C16: 19.531882 | D16: 16.693637 | E16: =D16-C16 -> -2.8382456 | F16: =('[1]2015'!$O$25)/1000000 -> 16.693637 | G16: 0
A17: г. Дальнегорск | B17: итого | C17: 446.04322 | D17: =GETPIVOTDATA(" Дебет руб с НДС ",[3]раайоныы!$A$11,"new_filial","Дальнегорский","new_uchastok","Дальнегорский")/1000000 -> 407.3501 | E17: =D17-C17 -> -38.693123 | F17: =('[1]2015'!$O$361)/1000000 -> 264.93046 | G17: ='[2]по районам'!$R$124 -> 1.0639647 | I17: =G17 -> 1.0639647 | J17: 0 | K17: 105308.61 | L17: 0 | M17: 0 | N17: 0 | O17: 0 | P17: 0 | Q17: 0 | R17: 1223.44 | S17: 50991.16 | T17: 0 | U17: 50 | V17: 0 | W17: 70324 | X17: 14108.46 | Y17: 0.05 | Z17: 183658.74 | AA17: 208163.56 | AB17: 9223374.7 | AC17: 4770293.2
B18: в т.ч. население | C18: 423.7519 | D18: =GETPIVOTDATA(" Дебет руб с НДС ",[3]раайоныы!$A$11,"new_filial","Дальнегорский","new_uchastok","Дальнегорский","Категория потр#","а) Население")/1000000 -> 393.08964 | E18: =D18-C18 -> -30.662262 | F18: =('[1]2015'!$O$350)/1000000 -> 258.80297 | G18: ='[2]по районам'!$R$116 -> 1.0595351
A19: г. Дальнереченск | B19: итого | C19: 120.87328 | D19: 88.787598 | E19: =D19-C19 -> -32.085684 | F19: 70.218 | G19: ='[2]по районам'!$R$97 -> 1.1453914 | I19: =56317.61 -> 56317.61 | J19: 3939.47 | K19: 59930.26 | L19: 0 | M19: 0 | N19: 0 | O19: 0 | P19: 0 | Q19: 0 | R19: 0 | S19: 4116.67 | T19: 88358.47 | U19: 0 | V19: 0 | W19: 0 | X19: 0 | Y19: 481630.29 | Z19: 220109.88 | AA19: 0 | AB19: 0 | AC19: -319667.48
B20: в т.ч. население | C20: 97.534735 | D20: 69.200719 | E20: =D20-C20 -> -28.334016 | F20: =39.6+11.4 -> 51 | G20: ='[2]по районам'!$R$89 -> 1.1782773
A21: г. Лесозаводск | B21: итого | C21: 154.0378 | D21: 126.1331 | E21: =D21-C21 -> -27.904702 | F21: =('[1]2015'!$O$461)/1000000 -> 74.539957 | G21: ='[2]по районам'!$R$151 -> 1.078172 | I21: 0 | J21: 0 | K21: 0 | L21: 31556.6 | M21: 0 | N21: 2828.51 | O21: 0 | P21: 0 | Q21: 0 | R21: 0 | S21: 0 | T21: 0 | U21: 0 | V21: 0 | W21: 0 | X21: 0 | Y21: 288064.71 | Z21: 5096707.2 | AA21: 1075147.9 | AB21: 79801.08 | AC21: 0
B22: в т.ч. население | C22: 113.63885 | D22: 73.455193 | E22: =D22-C22 -> -40.183654 | F22: =('[1]2015'!$O$450)/1000000 -> 53.854357 | G22: ='[2]по районам'!$R$143 -> 1.1801599
A23: г. Находка | B23: итого | C23: 746.75305 | D23: 627.7135 | E23: =D23-C23 -> -119.03955 | F23: =('[1]2015'!$O$686)/1000000 -> 503.6569 | G23: ='[2]по районам'!$R$214 -> 1.0794832 | I23: 2314801.4 | J23: 1131133.6 | K23: 532584.06 | L23: 71666.88 | M23: 420435.44 | N23: 408477.33 | O23: 0 | P23: 13801.75 | Q23: 34357.77 | R23: 1026427.8 | S23: 118163.79 | T23: 0 | U23: 0 | V23: 36761.72 | W23: 1785357.2 | X23: 8256398.9 | Y23: 2990829.5 | Z23: 440201.04 | AA23: 0 | AB23: 0 | AC23: 0
B24: в т.ч. население | C24: 681.79179 | D24: 607.68555 | E24: =D24-C24 -> -74.106232 | F24: =('[1]2015'!$O$675)/1000000 -> 485.13972 | G24: ='[2]по районам'!$R$206 -> 1.0609408
A25: г. Партизанск | B25: итого | C25: 183.52626 | D25: =GETPIVOTDATA(" Дебет руб с НДС ",[3]раайоныы!$A$11,"new_filial","Партизанский","new_uchastok","Партизанский")/1000000 -> 153.76203 | E25: =D25-C25 -> -29.764225 | F25: =('[1]2015'!$O$736)/1000000 -> 134.56232 | G25: ='[2]по районам'!$R$223 -> 1.1398001 | I25: 0 | J25: 0 | K25: 0 | L25: 0 | M25: 0 | N25: 0 | O25: 375902.99 | P25: 73266.27 | Q25: 81703.76 | R25: 392536.42 | S25: 0 | T25: 0 | U25: 74041.23 | V25: 1143965 | W25: 85000 | X25: 0 | Y25: 0 | Z25: 568427.71 | AA25: 544515.44 | AB25: 442450.09 | AC25: 630286.81
B26: в т.ч. население | C26: 173.27925 | D26: =GETPIVOTDATA(" Дебет руб с НДС ",[3]раайоныы!$A$11,"new_filial","Партизанский","new_uchastok","Партизанский","Категория потр#","а) Население")/1000000 -> 150.09357 | E26: =D26-C26 -> -23.185682 | F26: =('[1]2015'!$O$725)/1000000 -> 131.75993 | G26: ='[2]по районам'!$R$215 -> 1.1422082
A27: г. Спасск-Дальний | B27: итого | C27: 331.30262 | D27: 269.77657 | E27: =D27-C27 -> -61.526048 | F27: =('[1]2015'!$O$836)/1000000 -> 150.94013 | G27: ='[2]по районам'!$R$250 -> 1.1014828 | I27: 0 | J27: 0 | K27: 116888.91 | L27: 0 | M27: 27367.11 | N27: 262382.21 | O27: 0 | P27: 0 | Q27: 29470.63 | R27: 862251.66 | S27: 0 | T27: 5787.85 | U27: 0 | V27: 0 | W27: 159827.7 | X27: 5271.3 | Y27: 6682.18 | Z27: 369932.03 | AA27: 11382.18 | AB27: 4635071.3 | AC27: 0.01
B28: в т.ч. население | C28: 244.70933 | D28: 179.10843 | E28: =D28-C28 -> -65.600897 | F28: =('[1]2015'!$O$825)/1000000 -> 100.30437 | G28: ='[2]по районам'!$R$242 -> 1.1485086
A29: г.Фокино | B29: итого | C29: 285.20062 | D29: =GETPIVOTDATA(" Дебет руб с НДС ",[3]раайоныы!$A$11,"new_filial","Партизанский","new_uchastok","Фокино")/1000000 -> 267.75695 | E29: =D29-C29 -> -17.443669 | F29: =('[1]2015'!$O$786)/1000000 -> 182.37365 | G29: ='[2]по районам'!$R$268 -> 1.0497515 | I29: 0 | J29: 59108.39 | K29: 47154.52 | L29: 0 | M29: 100000 | N29: 0 | O29: 0 | P29: 0 | Q29: 0 | R29: 0 | S29: 0 | T29: 0 | U29: 0 | V29: 0 | W29: 140752.18 | X29: 103073.53 | Y29: 0 | Z29: 0 | AA29: 286986.21 | AB29: 488304.39 | AC29: 1201808.2
B30: в т.ч. население | C30: 249.60248 | D30: =GETPIVOTDATA(" Дебет руб с НДС ",[3]раайоныы!$A$11,"new_filial","Партизанский","new_uchastok","Фокино","Категория потр#","а) Население")/1000000 -> 223.78078 | E30: =D30-C30 -> -25.821695 | F30: =('[1]2015'!$O$775)/1000000 -> 174.4487 | G30: ='[2]по районам'!$R$260 -> 1.0973063
A31: Анучинский район | B31: итого | C31: 10.632037 | D31: 11.478737 | E31: =D31-C31 -> 0.84669937 | F31: =('[1]2015'!$O$86)/1000000 -> 2.934439 | G31: ='[2]по районам'!$R$25 -> 0.98190729 | I31: 0 | J31: 0 | K31: 0 | L31: 0 | M31: 0 | N31: 0 | O31: 0 | P31: 360508.58 | Q31: 0 | R31: 0 | S31: 0 | T31: 2705688.6 | U31: 203073.19 | V31: 40553.3 | W31: 0 | X31: 0 | Y31: 0 | Z31: 0 | AA31: 0 | AB31: 0 | AC31: 62124.92
B32: в т.ч. население | C32: 5.654633 | D32: 7.3446093 | E32: =D32-C32 -> 1.6899764 | F32: =('[1]2015'!$O$75)/1000000 -> 2.533632 | G32: ='[2]по районам'!$R$17 -> 0.92342242
A33: Дальнереченский район (Тр-2) | B33: итого | C33: 11.164169 | D33: 14.452437 | E33: =D33-C33 -> 3.2882673 | F33: 13.465 | G33: ='[2]по районам'!$R$106 -> 0.73131389 | I33: =G33-D33 -> -13.721123 | J33: =0 -> 0 | K33: =0 -> 0 | L33: =0 -> 0 | M33: =0 -> 0 | N33: =0 -> 0 | O33: =0 -> 0 | P33: =44179.24 -> 44179.24 | Q33: =0 -> 0 | R33: =0 -> 0 | S33: =0 -> 0 | T33: 823739.47 | U33: 0 | V33: =44022.49 -> 44022.49 | W33: 0 | X33: =212355.43 -> 212355.43 | Y33: =447449.4 -> 447449.4 | AA33: 347902.97 | AB33: 1304101.9 | AC33: 1304101.9
B34: в т.ч. население | C34: 0.62456927 | D34: 0.26767939 | E34: =D34-C34 -> -0.35688988 | F34: 1.8 | G34: ='[2]по районам'!$R$98 -> 1.1752387
A35: Кавалеровский район | B35: итого | C35: 164.68521 | D35: 153.04999 | E35: =D35-C35 -> -11.635222 | F35: =('[1]2015'!$O$386)/1000000 -> 68.588937 | G35: ='[2]по районам'!$R$133 -> 1.0327543 | I35: 4657214 | J35: 0 | K35: 0 | L35: 93646 | M35: 70734.86 | N35: 0 | O35: 0 | P35: 57821.88 | Q35: 0 | R35: 0 | S35: 0 | T35: 0 | U35: 779.68 | V35: 9947.91 | W35: 1546935.6 | X35: 128.88 | Y35: 414628.09 | Z35: 1116935.5 | AA35: 1415041 | AB35: 953712.87 | AC35: 793013.35
B36: в т.ч. население | C36: 150.26616 | D36: 135.105 | E36: =D36-C36 -> -15.16116 | F36: =('[1]2015'!$O$375)/1000000 -> 66.445698 | G36: ='[2]по районам'!$R$125 -> 1.0730421
A37: Кировский район | B37: итого | C37: 62.453554 | D37: 77.934409 | E37: =D37-C37 -> 15.480854 | F37: =('[1]2015'!$O$286)/1000000 -> 56.824622 | G37: ='[2]по районам'!$R$88 -> 0.90029354 | I37: 14821790 | J37: 0 | K37: 0 | L37: 0 | M37: 0 | N37: 68916.74 | O37: 0 | P37: 86889.7 | Q37: 0 | R37: 0 | S37: 0 | T37: 0 | U37: 0 | V37: 0 | W37: 0 | X37: 0 | Y37: 0 | Z37: 0 | AA37: 0 | AB37: 0 | AC37: 863508.17
B38: в т.ч. население | C38: 22.515255 | D38: 27.838327 | E38: =D38-C38 -> 5.3230724 | F38: =('[1]2015'!$O$275)/1000000 -> 7.922221 | G38: ='[2]по районам'!$R$80 -> 0.94186934
A39: Красноармейский район (Тр-3) | B39: итого | C39: 14.170731 | D39: 9.1185514 | E39: =D39-C39 -> -5.0521797 | F39: 9.087 | G39: ='[2]по районам'!$R$115 -> 1.1147748 | I39: 573590.29 | J39: =34000 -> 34000 | L39: 80264.88 | P39: =0 -> 0 | Q39: 0 | R39: 0 | S39: 0 | T39: 0 | U39: 0 | V39: =37145.45 -> 37145.45 | W39: =200858.09 -> 200858.09 | X39: 0 | Y39: 0 | Z39: 118320.2 | AA39: 176526.11 | AB39: 1683756.3 | AC39: 1683756.3
B40: в т.ч. население | C40: 4.2729437 | D40: 1.7449278 | E40: =D40-C40 -> -2.528016 | F40: 3.1 | G40: ='[2]по районам'!$R$107 -> 1.2067551
A41: Лазовский район | B41: итого | C41: 50.509803 | D41: =GETPIVOTDATA(" Дебет руб с НДС ",[3]раайоныы!$A$11,"new_filial","Партизанский","new_uchastok","Лазовский")/1000000 -> 38.864138 | E41: =D41-C41 -> -11.645665 | F41: =('[1]2015'!$O$711)/1000000 -> 26.749493 | G41: ='[2]по районам'!$R$241 -> 1.0909585 | I41: 21783977 | J41: 10429245 | K41: 0 | L41: 46128.89 | M41: 0 | N41: 0 | O41: 27603.51 | P41: 0 | Q41: 0 | R41: 0 | S41: 197193 | T41: 0 | U41: 46411.48 | V41: 38113.47 | W41: 151179.48 | X41: 0 | Y41: 20712.05 | Z41: 116596.72 | AA41: 0 | AB41: 139318.5 | AC41: 156323.19
B42: в т.ч. население | C42: 38.800545 | D42: =GETPIVOTDATA(" Дебет руб с НДС ",[3]раайоныы!$A$11,"new_filial","Партизанский","new_uchastok","Лазовский","Категория потр#","а) Население")/1000000 -> 29.672324 | E42: =D42-C42 -> -9.1282203 | F42: =('[1]2015'!$O$700)/1000000 -> 23.130269 | G42: ='[2]по районам'!$R$233 -> 1.1000969
A43: Михайловский район | B43: итого | C43: 60.956834 | D43: 69.513527 | E43: =D43-C43 -> 8.5566928 | F43: =('[1]2015'!$O$536)/1000000 -> 33.770635 | G43: ='[2]по районам'!$R$169 -> 0.95770589 | I43: 0 | J43: 0 | K43: 0 | L43: 0 | M43: 260590 | N43: 133451 | O43: 0 | P43: 74529 | Q43: 118389 | R43: 218936 | S43: 147947 | T43: 91551 | U43: 52514 | V43: 93511 | W43: 518697 | X43: 557909 | Y43: 5716 | Z43: 1205796 | AA43: 1446726 | AB43: 1471974 | AC43: 1955437
B44: в т.ч. население | C44: 46.652932 | D44: 54.64374 | E44: =D44-C44 -> 7.990808 | F44: =('[1]2015'!$O$525)/1000000 -> 20.89397 | G44: ='[2]по районам'!$R$161 -> 0.95204074
A45: Надеждинский район | B45: итого | C45: 81.081244 | D45: 49.747247 | E45: =D45-C45 -> -31.333997 | F45: =('[1]2015'!$O$186)/1000000 -> 37.034667 | G45: ='[2]по районам'!$R$61 -> 1.1474465 | I45: 0 | J45: 0 | K45: 0 | L45: 0 | M45: 0 | N45: 0 | O45: 0 | P45: 38058.77 | Q45: 0 | R45: 144792.29 | S45: 211221.34 | T45: 23953.7 | U45: 55881.76 | V45: 871166.57 | W45: 227255.21 | X45: 414059.39 | Y45: 0 | Z45: 233724.61 | AA45: 348134.72 | AB45: 672956.22 | AC45: 204470.4
B46: в т.ч. население | C46: 74.171425 | D46: 48.552611 | E46: =D46-C46 -> -25.618814 | F46: =('[1]2015'!$O$175)/1000000 -> 36.8807 | G46: ='[2]по районам'!$R$53 -> 1.1599771
A47: Октябрьский район | B47: итого | C47: 47.162633 | D47: 34.211768 | E47: =D47-C47 -> -12.950865 | F47: =('[1]2015'!$O$561)/1000000 -> 22.647732 | G47: ='[2]по районам'!$R$178 -> 1.0852999 | I47: 0 | J47: 0 | K47: 0 | L47: 0 | M47: 0 | N47: 0 | O47: 0 | P47: 4880 | Q47: 1353395 | R47: 273687 | S47: 182837 | T47: 661921 | U47: 216425 | V47: 163832 | W47: 0 | X47: 133124 | Y47: 0 | Z47: 3446321 | AA47: 913471 | AB47: 147005 | AC47: 0
B48: в т.ч. население | C48: 38.348747 | D48: 31.125366 | E48: =D48-C48 -> -7.2233807 | F48: =('[1]2015'!$O$550)/1000000 -> 21.530635 | G48: ='[2]по районам'!$R$170 -> 1.0786667
A49: Ольгинский район | B49: итого | C49: 48.378291 | D49: 50.853043 | E49: =D49-C49 -> 2.4747511 | F49: =('[1]2015'!$O$411)/1000000 -> 37.650941 | G49: ='[2]по районам'!$R$142 -> 0.93811011 | I49: =G49 -> 0.93811011 | J49: 569046.09 | K49: 2263853.9 | L49: 0 | M49: 0 | N49: 0 | O49: 49825.36 | P49: 0 | Q49: 5779.7 | R49: 0 | S49: 0 | T49: 0 | U49: 0 | V49: 0 | W49: 0 | X49: 0 | Y49: 0 | Z49: 3305.6 | AA49: 0 | AB49: 0 | AC49: 827.6
B50: в т.ч. население | C50: 26.834147 | D50: 28.984567 | E50: =D50-C50 -> 2.1504203 | F50: =('[1]2015'!$O$400)/1000000 -> 19.123619 | G50: ='[2]по районам'!$R$134 -> 0.94150618
A51: Партизанский район | B51: итого | C51: 4.2756123 | D51: =GETPIVOTDATA(" Дебет руб с НДС ",[3]раайоныы!$A$11,"new_filial","Партизанский","new_uchastok","Вл.-Александровский")/1000000 -> 3.010266 | E51: =D51-C51 -> -1.2653462 | F51: =('[1]2015'!$O$761)/1000000 -> 2.11865 | G51: ='[2]по районам'!$R$232 -> 1.0907233 | I51: 0 | J51: 0 | K51: 0 | L51: 0 | M51: 0 | N51: 0 | O51: 68156.8 | P51: 0 | Q51: 0 | R51: 0 | S51: 0 | T51: 0 | U51: 0 | V51: 0 | W51: 0 | X51: 24195.66 | Y51: 100531.28 | Z51: 0 | AA51: 608920.81 | AB51: 0 | AC51: 0
B52: в т.ч. население | C52: 4.1702607 | D52: =GETPIVOTDATA(" Дебет руб с НДС ",[3]раайоныы!$A$11,"new_filial","Партизанский","new_uchastok","Вл.-Александровский","Категория потр#","а) Население")/1000000 -> 2.9779815 | E52: =D52-C52 -> -1.1922792 | F52: =('[1]2015'!$O$750)/1000000 -> 2.11865 | G52: ='[2]по районам'!$R$224 -> 1.1972343
A53: Пограничный район | B53: итого | C53: 28.122587 | D53: 24.443112 | E53: =D53-C53 -> -3.6794747 | F53: =('[1]2015'!$O$586)/1000000 -> 1.5363424 | G53: ='[2]по районам'!$R$187 -> 1.0135503 | I53: 0 | J53: 0 | K53: 0 | L53: 0 | M53: 279136 | N53: 32477 | O53: 0 | P53: 23514 | Q53: 0 | R53: 282203 | S53: 0 | T53: 0 | U53: 189418 | V53: 928181 | W53: 143644 | X53: 607697 | Y53: 382158 | Z53: 1027982 | AA53: 1013722 | AB53: 2768383 | AC53: 4344
B54: в т.ч. население | C54: 13.279414 | D54: 7.9565152 | E54: =D54-C54 -> -5.3228988 | F54: =('[1]2015'!$O$575)/1000000 -> 1.2827151 | G54: ='[2]по районам'!$R$179 -> 1.1372922
A55: Пожарский район | B55: итого | C55: 47.334199 | D55: 49.156651 | E55: =D55-C55 -> 1.8224514 | F55: =('[1]2015'!$O$486)/1000000 -> 29.948053 | G55: ='[2]по районам'!$R$160 -> 0.95114968 | I55: =G55 -> 0.95114968 | J55: 0 | K55: 0 | L55: 0 | M55: 351931.52 | N55: 3507.78 | O55: 75807.4 | P55: 27981.77 | Q55: 0 | R55: 99781.56 | S55: 0 | T55: 94274.09 | U55: 0 | V55: 177331.07 | W55: 0 | X55: 4147.18 | Y55: 0 | Z55: 118586.62 | AA55: 0 | AB55: 155670.13 | AC55: 88054.7
B56: в т.ч. население | C56: 21.275047 | D56: 22.367559 | E56: =D56-C56 -> 1.0925119 | F56: =('[1]2015'!$O$475)/1000000 -> 8.9363047 | G56: ='[2]по районам'!$R$152 -> 0.88672402
A57: Спасский район | B57: итого | C57: 48.871786 | D57: 55.17502 | E57: =D57-C57 -> 6.3032339 | F57: 25.587892 | G57: 0.90926047 | I57: 0 | J57: 0 | K57: 0 | L57: 0 | M57: 0 | N57: 36020.87 | O57: 0 | P57: 25300 | Q57: 192836.02 | R57: 2562620.7 | S57: 0 | T57: 53424.72 | U57: 0 | V57: 0 | W57: 0 | X57: 57762.89 | Y57: 0 | Z57: 95562.66 | AA57: 216416.84 | AB57: 9033031.9 | AC57: 31123.8
B58: в т.ч. население | C58: 40.617966 | D58: 30.507394 | E58: =D58-C58 -> -10.110573 | F58: 14.608453 | G58: 1.2169616
A59: Тернейский район | B59: итого | C59: 4.267197 | D59: 4.5602643 | E59: =D59-C59 -> 0.29306732 | F59: =('[1]2015'!$O$911)/1000000 -> 0.91671024 | G59: ='[2]по районам'!$R$277 -> 0.97971128 | I59: 0 | J59: 0 | K59: 0 | L59: 96.22 | M59: 1646.75 | N59: 2142.69 | O59: 39913.78 | P59: 866.71 | Q59: 3621.23 | R59: 0 | S59: 0 | T59: 0 | U59: 2969.27 | V59: 0 | W59: 0 | X59: 0 | Y59: 1644.33 | Z59: 0 | AA59: 385698.32 | AB59: -331.88 | AC59: 92687.02
B60: в т.ч. население | C60: 1.440143 | D60: 1.3089229 | E60: =D60-C60 -> -0.13122019 | F60: =('[1]2015'!$O$900)/1000000 -> 0.015642 | G60: ='[2]по районам'!$R$269 -> 1.0137373
A61: Ханкайский район | B61: итого | C61: 41.122552 | D61: 45.486052 | E61: =D61-C61 -> 4.3634995 | F61: =('[1]2015'!$O$636)/1000000 -> 19.36166 | G61: ='[2]по районам'!$R$196 -> 0.95536711 | I61: 0 | J61: 0 | K61: 0 | L61: 0 | M61: 351870 | N61: 0 | O61: 223803 | P61: 467646 | Q61: 2971 | R61: 109217 | S61: 0 | T61: 14180 | U61: 130067 | V61: 323739 | W61: 391987 | X61: 500751 | Y61: 48548 | Z61: 0 | AA61: 901902 | AB61: 0 | AC61: 1695072
B62: в т.ч. население | C62: 36.35448 | D62: 42.487182 | E62: =D62-C62 -> 6.1327013 | F62: =('[1]2015'!$O$625)/1000000 -> 19.315756 | G62: ='[2]по районам'!$R$188 -> 0.91621493
A63: Хорольский район | B63: итого | C63: 111.15135 | D63: 96.644573 | E63: =D63-C63 -> -14.506774 | F63: =('[1]2015'!$O$611)/1000000 -> 64.92274 | G63: ='[2]по районам'!$R$205 -> 1.067014 | I63: 0 | J63: 0 | K63: 474 | L63: 0 | M63: 1346 | N63: 1288374 | O63: 129168 | P63: 405439 | Q63: 876292 | R63: 1235860 | S63: 194823 | T63: 0 | U63: 249318 | V63: 118000 | W63: 1423 | X63: 116803 | Y63: 386485 | Z63: 260929 | AA63: 345686.15 | AB63: 0 | AC63: 2092735
B64: в т.ч. население | C64: 83.748293 | D64: 64.474301 | E64: =D64-C64 -> -19.273992 | F64: =('[1]2015'!$O$600)/1000000 -> 45.245494 | G64: ='[2]по районам'!$R$197 -> 1.1446143
A65: Хасанский район | B65: итого | C65: 140.69323 | D65: 116.71885 | E65: =D65-C65 -> -23.974379 | F65: =('[1]2015'!$O$211)/1000000 -> 65.829592 | G65: ='[2]по районам'!$R$70 -> 1.1086635 | I65: 1112195.6 | J65: 0 | K65: 330111.6 | L65: 0 | M65: 0 | N65: 1289198.5 | O65: 721488.24 | P65: 156856.43 | Q65: 301761.34 | R65: 219316.35 | S65: 29532.9 | T65: 22747.33 | U65: 0 | V65: 1211665.6 | W65: 2361134.1 | X65: 1372589.7 | Y65: 98930 | Z65: 445373.45 | AA65: 340153.55 | AB65: 583242.25 | AC65: 23.25
B66: в т.ч. население | C66: 124.7996 | D66: 97.517554 | E66: =D66-C66 -> -27.282046 | F66: =('[1]2015'!$O$200)/1000000 -> 59.04514 | G66: ='[2]по районам'!$R$62 -> 1.1605192
A67: Чугуевский район | B67: итого | C67: 18.701732 | D67: 17.132748 | E67: =D67-C67 -> -1.568984 | F67: =('[1]2015'!$O$111)/1000000 -> 2.8360903 | G67: ='[2]по районам'!$R$43 -> 1.0140846 | I67: 0 | J67: 0 | K67: 0 | L67: 0 | M67: 0 | N67: 0 | O67: 171243.96 | P67: 424185.8 | Q67: 1677709.7 | R67: 499555.27 | S67: 0 | T67: 0 | U67: 0 | V67: 0 | W67: 0 | X67: 0 | Y67: 0 | Z67: 363480.2 | AA67: 0 | AB67: 0 | AC67: 3467680
B68: в т.ч. население | C68: 14.05296 | D68: 16.699247 | E68: =D68-C68 -> 2.6462873 | F68: =('[1]2015'!$O$100)/1000000 -> 2.8360903 | G68: ='[2]по районам'!$R$35 -> 0.94543089
A69: Черниговский район | B69: итого | C69: 22.649909 | D69: 21.514538 | E69: =D69-C69 -> -1.1353709 | F69: 10.0809 | G69: 1.0141165 | I69: 57130.15 | J69: 0 | K69: 0 | L69: 0 | M69: 87183.58 | N69: 0 | O69: 0 | P69: 148619.31 | Q69: 0 | R69: 23873.41 | S69: 0 | T69: 120621.4 | U69: 313478.08 | V69: 187808.95 | W69: 0 | X69: 461961.66 | Y69: 0 | Z69: 307790.66 | AA69: 151717.04 | AB69: 242035.83 | AC69: 147900.26
B70: в т.ч. население | C70: 21.613591 | D70: 20.034654 | E70: =D70-C70 -> -1.578937 | F70: 9.752033 | G70: 1.0855468
A71: Шкотовский район | B71: итого | C71: 102.90566 | D71: 89.756778 | E71: =D71-C71 -> -13.148878 | F71: =('[1]2015'!$O$236)/1000000 -> 60.266072 | G71: ='[2]по районам'!$R$79 -> 1.1153331 | I71: 344858.6 | J71: 0 | K71: 0 | L71: 0 | M71: 0 | N71: 2456.09 | O71: 0 | P71: 0 | Q71: 0 | R71: 0 | S71: 0 | T71: 6488.53 | U71: 0 | V71: 0 | W71: 25453.15 | X71: 0 | Y71: 0 | Z71: 0 | AA71: 452375.12 | AB71: 1139651.3 | AC71: 0
B72: в т.ч. население | C72: 91.565052 | D72: 80.003529 | E72: =D72-C72 -> -11.561523 | F72: =('[1]2015'!$O$225)/1000000 -> 55.682308 | G72: ='[2]по районам'!$R$71 -> 1.1278523
B73: итого | C73: 15.016601 | D73: 22.224251 | E73: =D73-C73 -> 7.2076507 | F73: =('[1]2015'!$O$61)/1000000 -> 15.20014 | G73: ='[2]по районам'!$R$34 -> 0.81577268
A74: Яковлевский район | B74: в т.ч. население | C74: 8.6944677 | D74: 10.842206 | E74: =D74-C74 -> 2.1477388 | F74: =('[1]2015'!$O$50)/1000000 -> 3.844519 | G74: ='[2]по районам'!$R$26 -> 0.91352995 | I74: 2387544.1 | J74: 0 | K74: 0 | L74: 0 | M74: 0 | N74: 0 | O74: 13344.47 | P74: 0 | Q74: 13188.35 | R74: 115457.95 | S74: 40877.34 | T74: 12847.55 | U74: 0 | V74: 771258.94 | W74: 24434.21 | X74: 0 | Y74: 755276.24 | Z74: 445894.92 | AA74: 10576.84 | AB74: 18266.02 | AC74: 18313.38
A75: ИТОГО ПО КГУП "ПРИМТЕПЛОЭНЕРГО" | B75: итого | C75: =C13+C15+C17+C19+C21+C23+C25+C27+C29+C31+C33+C35+C37+C39+C41+C43+C45+C47+C49+C51+C53+C55+C57+C59+C61+C63+C65+C67+C69+C71+C73 -> 3486.81 | D75: =D13+D15+D17+D19+D21+D23+D25+D27+D29+D31+D33+D35+D37+D39+D41+D43+D45+D47+D49+D51+D53+D55+D57+D59+D61+D63+D65+D67+D69+D71+D73 -> 3067.8997 | E75: =E13+E15+E17+E19+E21+E23+E25+E27+E29+E31+E33+E35+E37+E39+E41+E43+E45+E47+E49+E51+E53+E55+E57+E59+E61+E63+E65+E67+E69+E71+E73 -> -418.91036 | F75: =F13+F15+F17+F19+F21+F23+F25+F27+F29+F31+F33+F35+F37+F39+F41+F43+F45+F47+F49+F51+F53+F55+F57+F59+F61+F63+F65+F67+F69+F71+F73 -> 2042.082 | G75: ='[2]по районам'!$R$286 -> 1.0628396 | H75: =H13+H15+H17+H19+H21+H23+H25+H27+H31+H33+H35+H37+H39+H41+H43+H45+H47+H49+H51+H53+H55+H57+H59+H61+H63+H65+H67+H69+H71+H74+H29 -> 0 | I75: =I13+I15+I17+I19+I21+I23+I25+I27+#REF!+I31+I33+I35+I37+I39+I41+I43+I45+I47+I49+I51+I53+I55+I57+I59+I61+I63+I65+I67+I69+I71+I74+I29 -> #REF! | J75: =SUM(J13:J74) -> 12226472 | K75: =SUM(K13:K74) -> 3456305.9 | L75: =SUM(L13:L74) -> 323359.47 | M75: =SUM(M13:M74) -> 1963439.9 | N75: =SUM(N13:N74) -> 3530232.7 | O75: =SUM(O13:O74) -> 1896257.5 | P75: =SUM(P13:P74) -> 2608344 | Q75: =SUM(Q13:Q74) -> 4691475.5 | ... AC75: =SUM(AC13:AC74) -> 21045398
B76: в т.ч. население | C76: =C14+C16+C18+C20+C22+C24+C26+C28+C30+C32+C34+C36+C38+C40+C42+C44+C46+C48+C50+C52+C54+C56+C58+C60+C62+C64+C66+C68+C70+C72+C74 -> 2911.2222 | D76: =D14+D16+D18+D20+D22+D24+D26+D28+D30+D32+D34+D36+D38+D40+D42+D44+D46+D48+D50+D52+D54+D56+D58+D60+D62+D64+D66+D68+D70+D72+D74 -> 2511.2717 | E76: =E14+E16+E18+E20+E22+E24+E26+E28+E30+E32+E34+E36+E38+E40+E42+E44+E46+E48+E50+E52+E54+E56+E58+E60+E62+E64+E66+E68+E70+E72+E74 -> -399.95054 | F76: =F14+F16+F18+F20+F22+F24+F26+F28+F30+F32+F34+F36+F38+F40+F42+F44+F46+F48+F50+F52+F54+F56+F58+F60+F62+F64+F66+F68+F70+F72+F74 -> 1716.7862 | G76: ='[2]по районам'!$R$278 -> 1.0855121
