Workbook
Name А1: 'динамика для поездки'!#REF!
Name А1: #REF!

Sheet динамика для поездки
A7: Информация о динамике дебиторской задолженности и уровень сборов за 1 полугодие 2015 года по МО (млн.руб.)
A10: Муниципальное образование | B10: Категория потребителей | C10: Задолженность на 01.01.15г. | D10: Задолженность на 01.07.15г. | E10: динамика дз | F10: Всего в судебном и исполнительном производстве на 01.07.2015 | G10: Уровень сборов за 6 месяцев 2015 года | I10: Всего в судебнои и иполнительном производстве | J10: Поступление денежных средств за день (03.13.12г.) | K10: Поступление денежных средств за день (04.13.12г.) | L10: Поступление денежных средств за день (05.13.12г.) | M10: Поступление денежных средств за день (06.13.12г.) | N10: Поступление денежных средств за день (07.13.12г.) | O10: Поступление денежных средств за день (13.12.12г.) | P10: Поступление денежных средств за день (13.12.12г.) | Q10: Поступление денежных средств за день (13.12.12г.) | R10: Поступление денежных средств за день (13.13.12г.) | S10: Поступление денежных средств за день (14.13.12г.) | T10: Поступление денежных средств за день (17.13.12г.) | U10: Поступление денежных средств за день (21.13.12г.) | V10: Поступление денежных средств за день (21.13.12г.) | W10: Поступление денежных средств за день (21.13.12г.) | X10: Поступление денежных средств за день (21.13.12г.) | Y10: Поступление денежных средств за день (25.13.12г.) | Z10: Поступление денежных средств за день (25.13.12г.) | AA10: Поступление денежных средств за день (30.13.12г.) | AB10: Поступление денежных средств за день (30.13.12г.) | AC10: Поступление денежных средств за день (30.13.12г.)
D11: Дебет
A13: г. Артем | B13: итого | C13: 42.216697 | D13: 36.823348 | E13: =D13-C13 -> -5.3933484 | F13: =('[1]2015'!$O$161)/1000000 -> 18.752746 | G13: ='[2]по районам'!$R$52 -> 1.0400791 | I13: 0 | J13: 0 | K13: 0 | L13: 0 | M13: 0 | N13: 0 | O13: 0 | P13: 0 | Q13: 0 | R13: 166462.75 | S13: 15161.48 | T13: 1956625 | U13: 0 | V13: 0 | W13: 0 | X13: 0 | Y13: 0 | Z13: 0 | AA13: 144056 | AB13: 2171.01 | AC13: 0
B14: в т.ч. население | C14: 37.629352 | D14: 35.707926 | E14: =D14-C14 -> -1.9214255 | F14: =('[1]2015'!$O$150)/1000000 -> 18.738703 | G14: ='[2]по районам'!$R$44 -> 1.0220925
A15: г. Арсеньев | B15: итого | C15: 40.549538 | D15: 34.749497 | E15: =D15-C15 -> -5.8000413 | F15: =('[1]2015'!$O$36)/1000000 -> 34.749497 | G15: 0 | I15: =G15 -> 0 | J15: 0 | K15: 0 | L15: 0 | M15: 11198.63 | N15: 0 | O15: 0 | P15: 173999.84 | Q15: 0 | R15: 1733.64 | S15: 0 | T15: 0 | U15: 0 | V15: 0 | W15: 0 | X15: 0 | Y15: 0 | Z15: 84776.91 | AA15: 0 | AB15: 138874.66 | AC15: 101181.17
B16: в т.ч. население | C16: 19.531882 | D16: 16.693637 | E16: =D16-C16 -> -2.8382456 | F16: =('[1]2015'!$O$25)/1000000 -> 16.693637 | G16: 0
A17: г. Дальнегорск | B17: итого | C17: 446.04322 | D17: =GETPIVOTDATA(" Дебет руб с НДС ",[3]раайоныы!$A$11,"new_filial","Дальнегорский","new_uchastok","Дальнегорский")/1000000 -> 407.3501 | E17: =D17-C17 -> -38.693123 | F17: =('[1]2015'!$O$361)/1000000 -> 264.93046 | G17: ='[2]по районам'!$R$124 -> 1.0639647 | I17: =G17 -> 1.0639647 | J17: 0 | K17: 105308.61 | L17: 0 | M17: 0 | N17: 0 | O17: 0 | P17: 0 | Q17: 0 | R17: 1223.44 | S17: 50991.16 | T17: 0 | U17: 50 | V17: 0 | W17: 70324 | X17: 14108.46 | Y17: 0.05 | Z17: 183658.74 | AA17: 208163.56 | AB17: 9223374.7 | AC17: 4770293.2
B18: в т.ч. население | C18: 423.7519 | D18: =GETPIVOTDATA(" Дебет руб с НДС ",[3]раайоныы!$A$11,"new_filial","Дальнегорский","new_uchastok","Дальнегорский","Категория потр#","а) Население")/1000000 -> 393.08964 | E18: =D18-C18 -> -30.662262 | F18: =('[1]2015'!$O$350)/1000000 -> 258.80297 | G18: ='[2]по районам'!$R$116 -> 1.0595351
A19: г. Дальнереченск | B19: итого | C19: 120.87328 | D19: 88.787598 | E19: =D19-C19 -> -32.085684 | F19: 70.218 | G19: ='[2]по районам'!$R$97 -> 1.1453914 | I19: =56317.61 -> 56317.61 | J19: 3939.47 | K19: 59930.26 | L19: 0 | M19: 0 | N19: 0 | O19: 0 | P19: 0 | Q19: 0 | R19: 0 | S19: 4116.67 | T19: 88358.47 | U19: 0 | V19: 0 | W19: 0 | X19: 0 | Y19: 481630.29 | Z19: 220109.88 | AA19: 0 | AB19: 0 | AC19: -319667.48
B20: в т.ч. население | C20: 97.534735 | D20: 69.200719 | E20: =D20-C20 -> -28.334016 | F20: =39.6+11.4 -> 51 | G20: ='[2]по районам'!$R$89 -> 1.1782773
A21: г. Лесозаводск | B21: итого | C21: 154.0378 | D21: 126.1331 | E21: =D21-C21 -> -27.904702 | F21: =('[1]2015'!$O$461)/1000000 -> 74.539957 | G21: ='[2]по районам'!$R$151 -> 1.078172 | I21: 0 | J21: 0 | K21: 0 | L21: 31556.6 | M21: 0 | N21: 2828.51 | O21: 0 | P21: 0 | Q21: 0 | R21: 0 | S21: 0 | T21: 0 | U21: 0 | V21: 0 | W21: 0 | X21: 0 | Y21: 288064.71 | Z21: 5096707.2 | AA21: 1075147.9 | AB21: 79801.08 | AC21: 0
B22: в т.ч. население | C22: 113.63885 | D22: 73.455193 | E22: =D22-C22 -> -40.183654 | F22: =('[1]2015'!$O$450)/1000000 -> 53.854357 | G22: ='[2]по районам'!$R$143 -> 1.1801599
A23: г. Находка | B23: итого | C23: 746.75305 | D23: 627.7135 | E23: =D23-C23 -> -119.03955 | F23: =('[1]2015'!$O$686)/1000000 -> 503.6569 | G23: ='[2]по районам'!$R$214 -> 1.0794832 | I23: 2314801.4 | J23: 1131133.6 | K23: 532584.06 | L23: 71666.88 | M23: 420435.44 | N23: 408477.33 | O23: 0 | P23: 13801.75 | Q23: 34357.77 | R23: 1026427.8 | S23: 118163.79 | T23: 0 | U23: 0 | V23: 36761.72 | W23: 1785357.2 | X23: 8256398.9 | Y23: 2990829.5 | Z23: 440201.04 | AA23: 0 | AB23: 0 | AC23: 0
B24: в т.ч. население | C24: 681.79179 | D24: 607.68555 | E24: =D24-C24 -> -74.106232 | F24: =('[1]2015'!$O$675)/1000000 -> 485.13972 | G24: ='[2]по районам'!$R$206 -> 1.0609408
A25: г. Партизанск | B25: итого | C25: 183.52626 | D25: =GETPIVOTDATA(" Дебет руб с НДС ",[3]раайоныы!$A$11,"new_filial","Партизанский","new_uchastok","Партизанский")/1000000 -> 153.76203 | E25: =D25-C25 -> -29.764225 | F25: =('[1]2015'!$O$736)/1000000 -> 134.56232 | G25: ='[2]по районам'!$R$223 -> 1.1398001 | I25: 0 | J25: 0 | K25: 0 | L25: 0 | M25: 0 | N25: 0 | O25: 375902.99 | P25: 73266.27 | Q25: 81703.76 | R25: 392536.42 | S25: 0 | T25: 0 | U25: 74041.23 | V25: 1143965 | W25: 85000 | X25: 0 | Y25: 0 | Z25: 568427.71 | AA25: 544515.44 | AB25: 442450.09 | AC25: 630286.81
B26: в т.ч. население | C26: 173.27925 | D26: =GETPIVOTDATA(" Дебет руб с НДС ",[3]раайоныы!$A$11,"new_filial","Партизанский","new_uchastok","Партизанский","Категория потр#","а) Население")/1000000 -> 150.09357 | E26: =D26-C26 -> -23.185682 | F26: =('[1]2015'!$O$725)/1000000 -> 131.75993 | G26: ='[2]по районам'!$R$215 -> 1.1422082
A27: г. Спасск-Дальний | B27: итого | C27: 331.30262 | D27: 269.77657 | E27: =D27-C27 -> -61.526048 | F27: =('[1]2015'!$O$836)/1000000 -> 150.94013 | G27: ='[2]по районам'!$R$250 -> 1.1014828 | I27: 0 | J27: 0 | K27: 116888.91 | L27: 0 | M27: 27367.11 | N27: 262382.21 | O27: 0 | P27: 0 | Q27: 29470.63 | R27: 862251.66 | S27: 0 | T27: 5787.85 | U27: 0 | V27: 0 | W27: 159827.7 | X27: 5271.3 | Y27: 6682.18 | Z27: 369932.03 | AA27: 11382.18 | AB27: 4635071.3 | AC27: 0.01
B28: в т.ч. население | C28: 244.70933 | D28: 179.10843 | E28: =D28-C28 -> -65.600897 | F28: =('[1]2015'!$O$825)/1000000 -> 100.30437 | G28: ='[2]по районам'!$R$242 -> 1.1485086
A29: г.Фокино | B29: итого | C29: 285.20062 | D29: =GETPIVOTDATA(" Дебет руб с НДС ",[3]раайоныы!$A$11,"new_filial","Партизанский","new_uchastok","Фокино")/1000000 -> 267.75695 | E29: =D29-C29 -> -17.443669 | F29: =('[1]2015'!$O$786)/1000000 -> 182.37365 | G29: ='[2]по районам'!$R$268 -> 1.0497515 | I29: 0 | J29: 59108.39 | K29: 47154.52 | L29: 0 | M29: 100000 | N29: 0 | O29: 0 | P29: 0 | Q29: 0 | R29: 0 | S29: 0 | T29: 0 | U29: 0 | V29: 0 | W29: 140752.18 | X29: 103073.53 | Y29: 0 | Z29: 0 | AA29: 286986.21 | AB29: 488304.39 | AC29: 1201808.2
B30: в т.ч. население | C30: 249.60248 | D30: =GETPIVOTDATA(" Дебет руб с НДС ",[3]раайоныы!$A$11,"new_filial","Партизанский","new_uchastok","Фокино","Категория потр#","а) Население")/1000000 -> 223.78078 | E30: =D30-C30 -> -25.821695 | F30: =('[1]2015'!$O$775)/1000000 -> 174.4487 | G30: ='[2]по районам'!$R$260 -> 1.0973063
A31: Анучинский район | B31: итого | C31: 10.632037 | D31: 11.478737 | E31: =D31-C31 -> 0.84669937 | F31: =('[1]2015'!$O$86)/1000000 -> 2.934439 | G31: ='[2]по районам'!$R$25 -> 0.98190729 | I31: 0 | J31: 0 | K31: 0 | L31: 0 | M31: 0 | N31: 0 | O31: 0 | P31: 360508.58 | Q31: 0 | R31: 0 | S31: 0 | T31: 2705688.6 | U31: 203073.19 | V31: 40553.3 | W31: 0 | X31: 0 | Y31: 0 | Z31: 0 | AA31: 0 | AB31: 0 | AC31: 62124.92
B32: в т.ч. население | C32: 5.654633 | D32: 7.3446093 | E32: =D32-C32 -> 1.6899764 | F32: =('[1]2015'!$O$75)/1000000 -> 2.533632 | G32: ='[2]по районам'!$R$17 -> 0.92342242
A33: Дальнереченский район (Тр-2) | B33: итого | C33: 11.164169 | D33: 14.452437 | E33: =D33-C33 -> 3.2882673 | F33: 13.465 | G33: ='[2]по районам'!$R$106 -> 0.73131389 | I33: =G33-D33 -> -13.721123 | J33: =0 -> 0 | K33: =0 -> 0 | L33: =0 -> 0 | M33: =0 -> 0 | N33: =0 -> 0 | O33: =0 -> 0 | P33: =44179.24 -> 44179.24 | Q33: =0 -> 0 | R33: =0 -> 0 | S33: =0 -> 0 | T33: 823739.47 | U33: 0 | V33: =44022.49 -> 44022.49 | W33: 0 | X33: =212355.43 -> 212355.43 | Y33: =447449.4 -> 447449.4 | AA33: 347902.97 | AB33: 1304101.9 | AC33: 1304101.9
B34: в т.ч. население | C34: 0.62456927 | D34: 0.26767939 | E34: =D34-C34 -> -0.35688988 | F34: 1.8 | G34: ='[2]по районам'!$R$98 -> 1.1752387
A35: Кавалеровский район | B35: итого | C35: 164.68521 | D35: 153.04999 | E35: =D35-C35 -> -11.635222 | F35: =('[1]2015'!$O$386)/1000000 -> 68.588937 | G35: ='[2]по районам'!$R$133 -> 1.0327543 | I35: 4657214 | J35: 0 | K35: 0 | L35: 93646 | M35: 70734.86 | N35: 0 | O35: 0 | P35: 57821.88 | Q35: 0 | R35: 0 | S35: 0 | T35: 0 | U35: 779.68 | V35: 9947.91 | W35: 1546935.6 | X35: 128.88 | Y35: 414628.09 | Z35: 1116935.5 | AA35: 1415041 | AB35: 953712.87 | AC35: 793013.35
B36: в т.ч. население | C36: 150.26616 | D36: 135.105 | E36: =D36-C36 -> -15.16116 | F36: =('[1]2015'!$O$375)/1000000 -> 66.445698 | G36: ='[2]по районам'!$R$125 -> 1.0730421
A37: Кировский район | B37: итого | C37: 62.453554 | D37: 77.934409 | E37: =D37-C37 -> 15.480854 | F37: =('[1]2015'!$O$286)/1000000 -> 56.824622 | G37: ='[2]по районам'!$R$88 -> 0.90029354 | I37: 14821790 | J37: 0 | K37: 0 | L37: 0 | M37: 0 | N37: 68916.74 | O37: 0 | P37: 86889.7 | Q37: 0 | R37: 0 | S37: 0 | T37: 0 | U37: 0 | V37: 0 | W37: 0 | X37: 0 | Y37: 0 | Z37: 0 | AA37: 0 | AB37: 0 | AC37: 863508.17
B38: в т.ч. население | C38: 22.515255 | D38: 27.838327 | E38: =D38-C38 -> 5.3230724 | F38: =('[1]2015'!$O$275)/1000000 -> 7.922221 | G38: ='[2]по районам'!$R$80 -> 0.94186934
A39: Красноармейский район (Тр-3) | B39: итого | C39: 14.170731 | D39: 9.1185514 | E39: =D39-C39 -> -5.0521797 | F39: 9.087 | G39: ='[2]по районам'!$R$115 -> 1.1147748 | I39: 573590.29 | J39: =34000 -> 34000 | L39: 80264.88 | P39: =0 -> 0 | Q39: 0 | R39: 0 | S39: 0 | T39: 0 | U39: 0 | V39: =37145.45 -> 37145.45 | W39: =200858.09 -> 200858.09 | X39: 0 | Y39: 0 | Z39: 118320.2 | AA39: 176526.11 | AB39: 1683756.3 | AC39: 1683756.3
B40: в т.ч. население | C40: 4.2729437 | D40: 1.7449278 | E40: =D40-C40 -> -2.528016 | F40: 3.1 | G40: ='[2]по районам'!$R$107 -> 1.2067551
A41: Лазовский район | B41: итого | C41: 50.509803 | D41: =GETPIVOTDATA(" Дебет руб с НДС ",[3]раайоныы!$A$11,"new_filial","Партизанский","new_uchastok","Лазовский")/1000000 -> 38.864138 | E41: =D41-C41 -> -11.645665 | F41: =('[1]2015'!$O$711)/1000000 -> 26.749493 | G41: ='[2]по районам'!$R$241 -> 1.0909585 | I41: 21783977 | J41: 10429245 | K41: 0 | L41: 46128.89 | M41: 0 | N41: 0 | O41: 27603.51 | P41: 0 | Q41: 0 | R41: 0 | S41: 197193 | T41: 0 | U41: 46411.48 | V41: 38113.47 | W41: 151179.48 | X41: 0 | Y41: 20712.05 | Z41: 116596.72 | AA41: 0 | AB41: 139318.5 | AC41: 156323.19
B42: в т.ч. население | C42: 38.800545 | D42: =GETPIVOTDATA(" Дебет руб с НДС ",[3]раайоныы!$A$11,"new_filial","Партизанский","new_uchastok","Лазовский","Категория потр#","а) Население")/1000000 -> 29.672324 | E42: =D42-C42 -> -9.1282203 | F42: =('[1]2015'!$O$700)/1000000 -> 23.130269 | G42: ='[2]по районам'!$R$233 -> 1.1000969
A43: Михайловский район | B43: итого | C43: 60.956834 | D43: 69.513527 | E43: =D43-C43 -> 8.5566928 | F43: =('[1]2015'!$O$536)/1000000 -> 33.770635 | G43: ='[2]по районам'!$R$169 -> 0.95770589 | I43: 0 | J43: 0 | K43: 0 | L43: 0 | M43: 260590 | N43: 133451 | O43: 0 | P43: 74529 | Q43: 118389 | R43: 218936 | S43: 147947 | T43: 91551 | U43: 52514 | V43: 93511 | W43: 518697 | X43: 557909 | Y43: 5716 | Z43: 1205796 | AA43: 1446726 | AB43: 1471974 | AC43: 1955437
B44: в т.ч. население | C44: 46.652932 | D44: 54.64374 | E44: =D44-C44 -> 7.990808 | F44: =('[1]2015'!$O$525)/1000000 -> 20.89397 | G44: ='[2]по районам'!$R$161 -> 0.95204074
A45: Надеждинский район | B45: итого | C45: 81.081244 | D45: 49.747247 | E45: =D45-C45 -> -31.333997 | F45: =('[1]2015'!$O$186)/1000000 -> 37.034667 | G45: ='[2]по районам'!$R$61 -> 1.1474465 | I45: 0 | J45: 0 | K45: 0 | L45: 0 | M45: 0 | N45: 0 | O45: 0 | P45: 38058.77 | Q45: 0 | R45: 144792.29 | S45: 211221.34 | T45: 23953.7 | U45: 55881.76 | V45: 871166.57 | W45: 227255.21 | X45: 414059.39 | Y45: 0 | Z45: 233724.61 | AA45: 348134.72 | AB45: 672956.22 | AC45: 204470.4
B46: в т.ч. население | C46: 74.171425 | D46: 48.552611 | E46: =D46-C46 -> -25.618814 | F46: =('[1]2015'!$O$175)/1000000 -> 36.8807 | G46: ='[2]по районам'!$R$53 -> 1.1599771
A47: Октябрьский район | B47: итого | C47: 47.162633 | D47: 34.211768 | E47: =D47-C47 -> -12.950865 | F47: =('[1]2015'!$O$561)/1000000 -> 22.647732 | G47: ='[2]по районам'!$R$178 -> 1.0852999 | I47: 0 | J47: 0 | K47: 0 | L47: 0 | M47: 0 | N47: 0 | O47: 0 | P47: 4880 | Q47: 1353395 | R47: 273687 | S47: 182837 | T47: 661921 | U47: 216425 | V47: 163832 | W47: 0 | X47: 133124 | Y47: 0 | Z47: 3446321 | AA47: 913471 | AB47: 147005 | AC47: 0
B48: в т.ч. население | C48: 38.348747 | D48: 31.125366 | E48: =D48-C48 -> -7.2233807 | F48: =('[1]2015'!$O$550)/1000000 -> 21.530635 | G48: ='[2]по районам'!$R$170 -> 1.0786667
A49: Ольгинский район | B49: итого | C49: 48.378291 | D49: 50.853043 | E49: =D49-C49 -> 2.4747511 | F49: =('[1]2015'!$O$411)/1000000 -> 37.650941 | G49: ='[2]по районам'!$R$142 -> 0.93811011 | I49: =G49 -> 0.93811011 | J49: 569046.09 | K49: 2263853.9 | L49: 0 | M49: 0 | N49: 0 | O49: 49825.36 | P49: 0 | Q49: 5779.7 | R49: 0 | S49: 0 | T49: 0 | U49: 0 | V49: 0 | W49: 0 | X49: 0 | Y49: 0 | Z49: 3305.6 | AA49: 0 | AB49: 0 | AC49: 827.6
...
